{"text_format":"1","workbook":"xlsx","n_sheets":90,"sheets":["A_LIRE","Page de garde","synthese","Handitorial","RASSCT","RASSCT (actions) (2)","RASSCT (actions) (3)","RASSCT (actions) (4)","RASSCT (actions) (5)","GPEEC","Sommaire","Fiche 1.1.0","IND 1.1.0","Fiche 1.1.1","IND 1.1.1","Fiche 1.1.2","IND 1.1.2","Fiche 1.1.3","IND 1.1.3","IND 1.1.4","Fiche 1.2.1","IND 1.2.1","Fiche 1.2.2","IND 1.2.2","Fiche 1.2.3","IND 1.2.3","IND 1.2.4","Fiche 1.3.1-1.3.2","IND 1.3.1","IND 1.3.2","Fiche 1.4.1-1.4.4","IND 1.4.1-1.4.4","Fiche 1.5.0","IND 1.5.0","Fiche 1.5.1","IND 1.5.1","Fiche 1.5.2","IND 1.5.2","Fiche 1.5.3","IND 1.5.3","Fiche 1.5.4-1.5.7","IND 1.5.4-1.5.5","IND 1.5.6","IND 1.5.7","Fiche 1.6.1-1.6.2","IND 1.6.1","IND 1.6.2","IND 1.7.1","Fiche 2.1.0","IND 2.1.0","IND 2.1.1","IND 2.1.2","IND 2.1.3","IND 2.1.4-2.1.6","IND 2.1.7","Fiche 2.2.1-2.2.7","IND 2.2.1-2.2.4","IND 2.2.5","IND 2.2.6","IND 2.2.7","IND 2.3.1","Fiche 3.1.1-3.4.3","IND 3.1.1-3.4.3","IND 3.4.4","IND 3.4.5","IND 4.1.1-4.1.2","IND 4.1.3","Fiche 4.1.4-4.1.6","IND 4.1.4-4.1.7","IND 4.2.1","IND 4.2.2","IND 4.2.3","IND 4.2.4","IND 4.2.5","IND 4.3.1","Fiche 5.1.1-5.1.4","IND 5.1.1","IND 5.1.2","IND 5.1.3","IND 5.1.4","IND 6.1.1-6.1.3","Fiche 6.1.4","IND 6.1.4","Fiche 7.1.1-7.1.4","IND 7.1.1-7.1.3","IND 7.1.4","egalitehf","IND 8.1.0","Messages_controles","_paramètre"],"not_rendered":{"charts":10,"images":4,"macros":1,"external_links":5,"defined_names":594,"comments":0,"pivot_tables":0},"unopened":[],"bounds":{"document_bytes":16777216,"sheet_cells":100000,"rows_first":2000,"rows_last":500,"rows_between":2000,"halvings":0,"cell_chars":16384,"cell_head_chars":4096},"cells_cut":0,"cells_raw":0,"read":"whole","date_system":"1900"}

{"sheet":"A_LIRE","index":0,"n_rows":44,"n_cols":18,"rows_kept":44,"cut":false,"hidden":false,"merged":[[1,9,5,17],[11,9,25,14],[33,2,35,3],[12,0,12,7],[13,0,13,7],[2,0,2,7],[3,0,3,7],[4,0,4,7],[5,0,5,7],[15,2,17,3],[23,0,23,7],[9,0,10,7]]}
[]
[null,null,null,null,null,null,null,null,null,"Editer une Synthèse chiffrée et graphique \ndu Bilan Social de votre collectivité"]
["RAPPORT PRESENTÉ AU COMITE TECHNIQUE PARITAIRE"]
["SUR L'ETAT  DE"]
["LA COLLECTIVITE, L'ETABLISSEMENT, LE SERVICE OU LE GROUPE DE SERVICES "]
["AU 31 DECEMBRE 2019"]
[]
[]
["Merci de bien vouloir remplir ce questionnaire Excel."]
["Attention : La structure du présent questionnaire ne doit en aucun cas être modifiée sous peine de compromettre le processus d'exportation."]
[]
[null,null,null,null,null,null,null,null,null,"Cette fiche synthétique reprend les principaux indicateurs sociaux issus du Bilan Social 2019. Les données utilisées sont extraites du Rapport sur l'État de la Collectivité 2019 transmis en 2020 par la collectivité. Ces données ont pour objectif de bénéficier d'une vue d'ensemble sur les effectifs de la collectivité. \nL'outil automatisé permettant la réalisation de cette synthèse a été développé par le Comité Technique des Chargés d'études des Observatoires Régionaux des Centres de Gestion."]
["Une fois ce questionnaire validé, veuillez exporter les données vers"]
["un fichier d'échange au format .txt en cliquant sur le bouton \"Exporter\" ci-dessous"]
[]
[]
[]
[]
[]
[]
["Le fichier fabriqué par la procédure d'exportation est nommé d'après le n° Siret de votre collectivité"]
["Il est situé dans le même répertoire que le présent questionnaire Excel"]
[]
["Merci d'envoyer ce fichier d'échange par mel à l'adresse ('cliquable') suivante : dgcl-bilans-sociaux-2019@dgcl.gouv.fr"]
[]
["Si l'exportation ne fonctionne pas, veuillez nous envoyer ce questionnaire par "]
["- fichier Excel par mel à l'adresse suivante : dgcl-bilans-sociaux-2019@dgcl.gouv.fr"]
["- sinon, voie postale à I'adresse indiquée dans l'instruction NOR RDFB1529174N"]
[null,null,null,null,null,null,null,null,null,null,null,null,null,null,null,null,null,"Version 16"]
[]
["Pour importer dans un questionnaire vierge les données d'un fichier texte d'échange cliquez sur le bouton ci-dessous :"]
[]
[]
[]
[]
[]
[]
[]
[]
[]
[]
[]
["modele_DGCL_2019.xlsm"]
["hrg_2019.xlsm","Oui"]

{"sheet":"Page de garde","index":1,"n_rows":69,"n_cols":27,"rows_kept":69,"cut":false,"hidden":false,"merged":[[42,21,42,24],[15,0,15,27],[17,0,17,27],[18,0,18,27],[22,0,22,25],[25,7,25,16],[28,7,28,27],[13,0,13,27],[2,0,2,27],[5,6,5,27],[7,19,7,25],[12,0,12,27],[9,19,9,27]]}
[]
["NOM DE LA COLLECTIVITE TERRITORIALE :"]
[]
[]
[]
["Nom du correspondant :"]
[]
["N° Département :",null,null,null,null,null,null,null,null,null,null,null,null,null,null,"Téléphone :"]
[]
["Code postal :",null,null,null,null,null,null,null,null,null,null,null,null,null,null,"Adresse mail : "]
[]
[]
["RAPPORT PRESENTE AU COMITE TECHNIQUE"]
["SUR L'ETAT  DE"]
["LA COLLECTIVITE, L'ETABLISSEMENT, LE SERVICE OU LE GROUPE DE SERVICES "]
["AU 31 DECEMBRE  2019"]
[]
["LISTE NORMALISEE DES INFORMATIONS PREVUES PAR L'ARRETE"]
["DU 12 AOÛT 2019"]
[]
[]
[]
["Informations complémentaires pour l'exploitation statistique du rapport"]
[]
[]
["N° SIRET de la collectivité :"]
[]
[]
["Type de collectivité :"]
[]
[]
[]
["Veuillez préciser (en cochant les cases concernées avec x) :"]
[]
["  . La collectivité…",null,null,null,null,null,null,null,null,null,null,null,null,null,null,null,null,null,null,null,null,null,null,null,"oui",null,"non"]
[]
["                *  Est-elle affiliée au Centre de gestion ?",null,null,null,null,null,null,null,null,null,null,null,null,null,null,null,null,null,null,null,null,null,null,null,"X"]
[]
["                *  Dispose-t-elle de son propre CT ? ",null,null,null,null,null,null,null,null,null,null,null,null,null,null,null,null,null,null,null,null,null,null,null,"X"]
[]
[]
[]
["  . Pour les OPHLM et les ODHLM, le nombre de logements gérés"]
[]
[]
[]
[]
["01 - Région (y compris collectivités territoriales uniques de Martinique, de Guyane et de Corse)"]
["02 - Département"]
["03 - Service départemental d'incendie et de secours"]
["04 - Centre de gestion de la fonction publique territoriale"]
["05 - Centre national de la fonction publique territoriale"]
["06 - Commune (y compris commune nouvelle)"]
["07 - Centre communal d'action sociale (CCAS)"]
["08 - Caisse des écoles (CDE)"]
["09 - Caisse de crédit municipal"]
["10 - Métropole (y compris métropole de Lyon)"]
["11 - Communauté urbaine"]
["12 - Communauté d'agglomération"]
["13 - Communauté de communes"]
["14 - Centre intercommunal d'action sociale (CIAS)"]
["15 - Syndicat de communes à vocation multiple"]
["16 - Syndicat de communes à vocation unique"]
["17 - Syndicat mixte"]
["18 - Pôle d'équilibre territorial et rural (PETR)"]
["19 - Office public de l'habitat (OPHLM - ODHLM)"]
["20 - Pôle métropolitain"]
["21 - Autre établissement public intercommunal"]
["22 - Autre"]

{"sheet":"synthese","index":2,"n_rows":174,"n_cols":208,"rows_kept":174,"cut":false,"hidden":true,"merged":[[168,34,168,35],[168,36,168,37],[168,41,168,42],[166,34,166,35],[166,36,166,37],[166,41,166,42],[166,45,166,46],[167,34,167,35],[167,36,167,37],[167,41,167,42],[167,45,167,46],[164,34,164,35],[164,36,164,37],[164,41,164,42],[164,45,164,46],[165,34,165,35],[165,36,165,37],[165,41,165,42],[165,45,165,46],[162,34,162,35],[162,36,162,37],[162,41,162,42],[162,45,162,46],[163,34,163,35],[163,36,163,37],[163,41,163,42],[163,45,163,46],[160,34,160,35],[160,36,160,37],[160,41,160,42],[160,45,160,46],[161,34,161,35],[161,36,161,37],[161,41,161,42],[161,45,161,46],[158,36,158,39],[158,40,158,42],[158,43,158,46],[159,36,159,37],[159,41,159,42],[159,45,159,46],[154,34,154,35],[154,36,154,37],[154,41,154,42],[154,45,154,46],[155,34,155,35],[155,36,155,37],[155,41,155,42],[152,34,152,35],[152,36,152,37],[152,41,152,42],[152,45,152,46],[153,12,153,15],[153,34,153,35],[153,36,153,37],[153,41,153,42],[153,45,153,46],[150,34,150,35],[150,36,150,37],[150,41,150,42],[150,45,150,46],[151,12,151,15],[151,34,151,35],[151,36,151,37],[151,41,151,42],[151,45,151,46],[148,34,148,35],[148,36,148,37],[148,41,148,42],[148,45,148,46],[149,12,149,16],[149,34,149,35],[149,36,149,37],[149,41,149,42],[149,45,149,46],[145,40,145,42],[145,43,145,46],[146,36,146,37],[146,41,146,42],[146,45,146,46],[147,34,147,35],[147,36,147,37],[147,41,147,42],[147,45,147,46],[143,32,144,32],[143,33,144,33],[144,12,145,12],[144,13,144,14],[144,15,144,16],[145,36,145,39],[142,12,142,16],[143,23,144,24],[143,25,144,25],[143,26,144,27],[143,28,144,29],[143,30,144,31],[139,33,140,33],[141,23,142,24],[141,25,142,25],[141,26,142,27],[141,28,142,29],[141,30,142,31],[141,32,142,32],[141,33,142,33],[137,28,138,29],[137,30,138,31],[137,32,138,32],[137,33,138,33],[139,23,140,24],[139,25,140,25],[139,26,140,27],[139,28,140,29],[139,30,140,31],[139,32,140,32],[132,12,133,12],[132,13,132,14],[132,15,132,16],[132,17,132,18],[137,25,138,25],[137,26,138,27],[122,27,122,29],[123,27,123,29],[124,27,124,29],[127,24,129,25],[127,26,129,26],[130,12,130,18],[114,24,124,24],[114,25,123,25],[114,27,114,29],[115,27,115,29],[116,27,116,29],[117,27,117,29],[118,27,118,29],[119,27,119,29],[120,27,120,29],[121,27,121,29],[108,70,108,71],[109,24,110,24],[109,25,109,31],[110,25,110,31],[110,62,110,63],[112,24,112,32],[92,24,103,24],[95,61,96,63],[99,68,100,69],[101,12,101,15],[101,68,101,69],[107,70,107,71],[85,36,88,36],[85,37,88,42],[86,25,91,25],[86,27,86,29],[87,27,87,29],[88,27,88,29],[89,27,89,29],[90,27,90,29],[91,27,91,29],[80,36,84,36],[80,37,84,42],[81,24,81,30],[83,24,91,24],[83,25,85,25],[83,26,84,26],[83,27,83,29],[84,27,84,29],[85,27,85,29],[73,24,73,25],[73,49,73,56],[74,24,74,25],[74,49,74,56],[75,24,75,25],[75,36,79,36],[75,37,79,42],[75,49,75,56],[76,24,76,25],[77,24,77,25],[78,24,78,25],[71,18,71,20],[71,24,71,25],[71,37,71,38],[71,41,71,42],[71,73,71,75],[72,18,72,20],[72,24,72,25],[69,24,69,25],[69,37,69,38],[69,41,69,42],[70,24,70,25],[70,37,70,38],[70,41,70,42],[60,1,60,2],[60,73,60,75],[61,9,61,10],[61,37,62,40],[61,41,62,41],[62,11,64,11],[64,39,65,45],[66,11,68,11],[66,12,66,14],[66,39,66,40],[66,41,66,43],[66,44,66,46],[67,12,67,14],[67,41,67,42],[68,37,68,38],[68,41,68,42],[56,0,56,10],[56,24,56,32],[52,24,53,33],[52,35,54,41],[52,43,54,47],[52,49,54,52],[52,60,53,60],[52,61,53,70],[56,35,56,47],[56,50,56,52],[49,81,49,82],[50,7,50,9],[50,17,56,22],[50,61,50,70],[51,7,51,9],[51,12,56,16],[51,49,51,52],[51,55,54,59],[52,7,52,9],[52,23,53,23],[49,7,49,9],[49,35,50,40],[49,42,50,47],[49,49,50,52],[49,75,49,76],[49,77,49,79],[53,7,53,9],[54,7,54,9],[54,24,54,32],[54,61,54,70],[55,24,55,32],[55,49,55,52],[55,55,56,57],[55,58,56,59],[48,58,48,59],[48,60,49,60],[48,61,49,70],[47,1,48,5],[47,7,48,10],[47,12,48,22],[47,24,47,25],[47,35,48,40],[47,42,48,47],[42,76,48,82],[43,0,43,2],[43,35,44,38],[43,39,44,40],[43,55,47,59],[44,0,44,2],[44,12,44,13],[44,24,45,28],[44,60,45,60],[44,61,45,64],[44,65,45,65],[44,66,45,69],[45,0,45,2],[45,12,45,13],[45,30,47,33],[46,12,46,13],[46,48,48,52],[46,61,46,64],[46,66,46,70],[42,48,44,52],[47,61,47,64],[47,66,47,70],[48,30,50,33],[48,55,48,57],[41,0,41,2],[41,35,42,38],[41,39,42,40],[42,0,42,2],[42,11,43,11],[42,12,43,22],[42,23,43,23],[42,24,43,33],[38,67,39,71],[39,0,39,2],[39,35,40,38],[39,39,40,40],[39,58,39,59],[40,0,40,2],[40,58,40,59],[37,23,38,23],[37,24,38,28],[37,30,37,33],[34,0,35,0],[34,1,35,5],[34,6,35,6],[34,7,35,10],[34,49,35,52],[35,12,36,15],[35,61,37,63],[37,73,41,82],[38,0,38,2],[38,19,38,22],[38,30,38,33],[38,61,40,63],[38,64,40,64],[38,65,40,65],[35,64,37,64],[35,65,37,65],[35,67,37,71],[36,0,36,2],[36,35,38,40],[36,42,37,47],[36,55,38,59],[37,0,37,2],[37,12,38,13],[37,14,38,15],[32,67,33,71],[33,24,35,28],[33,29,34,29],[33,30,36,33],[33,34,34,34],[33,35,35,47],[33,61,34,63],[33,64,34,64],[33,65,34,65],[29,67,30,71],[29,72,30,82],[30,2,30,10],[30,12,31,13],[30,14,31,15],[30,24,32,28],[30,34,30,35],[30,36,30,37],[30,38,30,39],[30,40,30,41],[29,40,29,41],[29,42,29,43],[29,44,29,45],[29,46,29,47],[29,49,31,52],[29,61,32,65],[30,42,30,43],[30,44,30,45],[30,46,30,47],[30,55,30,59],[31,55,32,59],[32,12,33,13],[32,14,33,15],[32,49,33,52],[26,0,27,0],[26,1,27,10],[26,12,27,15],[26,17,27,22],[26,23,27,23],[26,24,29,28],[26,29,27,29],[26,30,28,33],[26,34,26,35],[27,34,27,35],[29,2,29,10],[29,30,31,33],[29,34,29,35],[28,34,28,35],[28,2,28,10],[28,12,29,13],[28,14,29,15],[23,44,23,45],[28,36,28,37],[28,38,28,39],[27,36,27,37],[27,38,27,39],[27,40,27,41],[27,42,27,43],[27,44,27,45],[26,36,26,37],[26,38,26,39],[26,40,26,41],[26,42,26,43],[26,44,26,45],[28,40,28,41],[28,42,28,43],[28,44,28,45],[24,48,25,48],[25,36,25,37],[25,38,25,39],[25,40,25,41],[25,42,25,43],[25,44,25,45],[25,46,25,47],[29,36,29,37],[29,38,29,39],[24,44,24,45],[23,0,24,0],[23,1,24,5],[23,6,24,6],[23,7,25,10],[23,30,23,33],[23,34,23,35],[21,38,21,39],[21,40,21,41],[21,42,21,43],[24,12,25,22],[24,34,24,35],[24,36,24,37],[24,38,24,39],[24,40,24,41],[24,42,24,43],[25,34,25,35],[23,36,23,37],[23,38,23,39],[23,40,23,41],[23,42,23,43],[21,44,21,45],[21,46,21,47],[21,61,22,65],[22,38,22,39],[22,40,22,41],[22,42,22,43],[22,44,22,45],[21,1,21,2],[21,24,22,25],[21,26,22,26],[21,27,22,27],[21,30,22,33],[21,36,21,37],[22,34,22,35],[22,36,22,37],[20,48,21,48],[20,49,21,59],[20,36,20,39],[20,68,22,71],[20,73,20,76],[21,73,21,82],[22,46,22,47],[22,48,23,48],[22,49,23,59],[17,79,20,82],[23,61,23,64],[23,68,23,70],[23,73,24,76],[24,49,25,59],[24,61,24,64],[24,68,24,70],[25,80,28,82],[25,61,25,64],[25,68,25,70],[25,73,28,75],[25,76,28,79],[27,46,27,47],[28,46,28,47],[26,46,26,47],[28,55,28,57],[23,46,23,47],[24,46,24,47],[19,1,19,2],[19,11,19,12],[19,13,19,14],[19,15,19,16],[19,24,20,25],[19,26,20,26],[20,40,20,43],[20,44,20,47],[16,1,18,5],[16,24,16,27],[16,30,16,32],[20,1,20,2],[16,52,16,53],[16,54,16,55],[16,56,16,57],[16,58,16,59],[17,11,17,12],[17,13,17,14],[18,11,18,12],[18,13,18,14],[18,15,18,16],[18,30,18,32],[18,34,19,34],[18,35,19,47],[18,48,19,48],[18,49,19,59],[19,27,20,27],[19,30,19,32],[20,11,20,12],[20,13,20,14],[20,15,20,16],[20,30,20,31],[13,73,15,82],[14,12,16,16],[14,18,16,22],[14,35,14,40],[14,41,14,42],[14,49,16,51],[14,52,15,53],[17,15,17,16],[17,24,18,25],[17,26,18,26],[17,27,18,27],[17,30,17,32],[17,49,17,59],[15,68,17,71],[14,54,15,55],[14,56,15,57],[14,58,15,59],[15,24,15,27],[15,30,15,32],[15,35,15,40],[15,41,15,42],[18,61,20,65],[19,73,19,76],[19,77,20,78],[11,44,12,47],[11,49,13,51],[13,26,13,27],[9,43,10,43],[9,44,10,47],[11,52,12,53],[11,54,12,55],[11,56,12,57],[11,58,12,59],[12,30,14,33],[12,35,12,40],[12,41,12,42],[13,35,13,40],[13,41,13,42],[13,52,13,53],[13,54,13,55],[13,56,13,57],[13,58,13,59],[8,49,10,51],[10,52,10,53],[10,54,10,55],[10,56,10,57],[10,58,10,59],[8,52,9,53],[9,1,13,10],[9,24,10,25],[9,26,10,27],[9,30,9,32],[9,35,10,40],[9,41,10,42],[11,24,12,25],[11,26,12,27],[11,35,11,40],[11,41,11,42],[8,54,9,55],[8,56,9,57],[8,58,9,59],[4,73,11,77],[4,78,11,82],[5,24,6,27],[5,30,5,32],[5,35,6,36],[5,37,6,38],[5,39,6,40],[5,41,6,42],[5,44,6,47],[5,68,6,71],[2,49,5,52],[2,55,5,59],[2,61,5,66],[2,68,4,71],[3,34,4,34],[3,35,4,47],[6,52,7,53],[6,54,7,55],[6,56,7,57],[6,58,7,59],[6,61,8,66],[7,24,8,27],[7,30,7,32],[7,35,7,37],[0,0,6,0],[0,1,3,10],[2,12,4,16],[2,18,4,22],[2,24,4,27],[2,30,4,33],[4,1,8,1],[4,2,8,10],[6,30,6,32],[8,30,8,32]]}
[null,"SYNTHÈSE DU BILAN SOCIAL 2019",null,null,null,null,null,null,null,null,null,null,null,null,null,null,null,null,null,null,null,null,null,null,null,null,null,null,null,null,null,null,null,null,null,null,null,null,null,null,null,null,null,null,null,null,null,null,null,null,null,null,null,null,null,null,null,null,null,null,null,null,null,null,null,null,null,null,null,null,null,null,null,null,null,null,null,null,null,null,null,null,null,null,null,null,null,null,null,null,null,null,null,null,null,null,null,null,null,null,null,null,null,null,null,null,null,null,null,null,null,null,null,null,null,null,null,null,null,null,null,null,null,null,null,null,null,null,null,null,null,null,null,null,null,null,null,null,null,null,null,null,null,null,null,null,null,null,null,null,null,null,null,null,null,null,null,null,null,null,null,null,null,null,null,null,null,null,null,null,null,null,null,null,null,null,null,null,null,null,null,null,null,null,null,null,null,null,null,null,null,null,null,null,null,null,"Cadre d'emploi F","Fonctionnaires","Contractuel P","tt agent","Rang","Rang 2","%","Cadre","Catégorie","tt agent","Fonctionnaires","Contractuel P"]
[null,null,null,null,null,null,null,null,null,null,null,null,null,null,null,null,null,null,null,null,null,null,null,null,null,null,null,null,null,null,null,null,null,null,null,null,null,null,null,null,null,null,null,null,null,null,null,null,null,null,null,null,null,null,null,null,null,null,null,null,null,null,null,null,null,null,null,null,null,null,null,null,null,null,null,null,null,null,null,null,null,null,null,null,null,null,null,null,null,null,null,null,null,null,null,null,null,null,null,null,null,null,null,null,null,null,null,null,null,null,null,null,null,null,null,null,null,null,null,null,null,null,null,null,null,null,null,null,null,null,null,null,null,null,null,null,null,null,null,null,null,null,null,null,null,null,null,null,null,null,null,null,null,null,null,null,null,null,null,null,null,null,null,null,null,null,null,null,null,null,null,null,null,null,null,null,null,null,null,null,null,null,null,null,null,null,null,null,null,null,null,null,null,null,null,null,"Administrateurs",{"$f":"'IND 1.1.1'!I23","v":0},{"$f":"'IND 1.2.1'!K15","v":0},{"$f":"GP2+GQ2","v":0},{"$f":"RANK(GR2,$GR$1:$GR$58,0)+COUNTIF(GR$1:GR2,GR2)-1","v":1},{"$f":"GS2","v":1},{"$f":"$GX2/SUM($GX$2:$GX$58)","v":{"$error":"#DIV/0!"}},{"$f":"GO2","v":"Administrateurs"},"A",{"$f":"GR2","v":0},{"$f":"GP2","v":0},{"$f":"GQ2","v":0}]
[null,null,null,null,null,null,null,null,null,null,null,"Æ",{"$f":"IF(D69+D70<2,\"Répartition par temps de travail, complet ou non complet \",\"Répartition des agents à temps complet ou non complet\")","v":"Répartition par temps de travail, complet ou non complet "},null,null,null,null,"Æ",{"$f":"IF(AND('IND 1.1.1'!B376+'IND 1.2.1'!L91=0),\"Aucun agent à temps complet \",\nIF(D69+D70<2,\"Répartition des temps travail, temps plein ou temps partiel \",\"Répartition des agents à temps plein ou à temps partiel\"))","v":"Aucun agent à temps complet "},null,null,null,null,"Æ",{"$f":"\"En 2019, \"&\nIF(AF126+AG126=0,\n\"aucune arrivée d'agent permanent\",\nIF(AF126+AG126<2,AF126+AG126&\" arrivée d'agent permanent\",\nTEXT(AF126+AG126,\"# ##0\")&\" arrivées d'agents permanents\"))\n&\nIF(AF105+AG105=0,\n\" et aucun  départ \",\nIF(AF105+AG105<2,\n\" et \"&AF105+AG105&\" départ \",\n\" et \"&TEXT(AF105+AG105,\"# ##0\")&\" départs \"))","v":"En 2019, aucune arrivée d'agent permanent et aucun  départ "},null,null,null,null,"Æ",{"$f":"IF(AF105+AG105=0, \"Aucun départ d'agent permanent en 2019\", \"Principales causes de départ d'agents permanents\")","v":"Aucun départ d'agent permanent en 2019"},null,null,null,null,null,null,null,null,null,null,null,null,null,null,null,null,null,"Æ",{"$f":"IF(D69+D70=0,\"Aucun agent dans la collectivité\",IF(D69=0,BD3,IF(SUM('IND 2.1.1'!$F$15:$G$20)=0,\n\"Aucun jour d’absence pour motif médical concernant les fonctionnaires en 2019\",\nIF(ROUND(SUM('IND 2.1.1'!$F$15:$G$20)/D69,1)>2,\n\"En moyenne, \"&ROUND((SUM('IND 2.1.1'!$F$15:$G$20))/D69,1)&\" jours d’absence pour tout motif médical en 2019 par fonctionnaire \",\n\"En moyenne, \"&ROUND((SUM('IND 2.1.1'!$F$15:$G$20))/D69,1)&\" jour d’absence pour tout motif médical en 2019 par fonctionnaire\"))))","v":"Aucun agent dans la collectivité"},null,null,null,null,{"$f":"IF(D69=0,\"\",IF(D70=0,\"\",\">\"))","v":""},{"$f":"IF(D70=0,\"\",IF(SUM('IND 2.1.2'!$F$15:$G$20)=0,\"Aucun jour d’absence pour motif médical concernant les agents contractuels en 2019\",\nIF(SUM('IND 2.1.2'!$F$15:$G$20)/D70>1,\"En moyenne, \"&ROUND(SUM('IND 2.1.2'!$F$15:$G$20)/D70,1)&\" jours d’absence pour tout motif médical en 2019 par agent contractuel permanent \",\"En moyenne, \"&ROUND(SUM('IND 2.1.2'!$F$15:$G$20)/D70,1)&\" jour d’absence pour tout motif médical en 2019 par agent contractuel permanent \"                           )))","v":""},null,null,null,null,"Æ",{"$f":"IF('IND 5.1.1'!$F$15=0,\"Aucun agent titulaire ou contractuel permanent n'a bénéficié d'un départ en formation en 2019\",\n\"En 2019, \"&TEXT(BK102*100,\"##,0\")&\"% des agents permanents ont suivi une formation \"&CHAR(10)&\"d'au moins un jour\")","v":"Aucun agent titulaire ou contractuel permanent n'a bénéficié d'un départ en formation en 2019"},null,null,null,null,null,{"$f":"IF(BQ3=\" \",\" \",\"Æ\")","v":" "},{"$f":"IF(D69+D70=0,\" \",IF(D69+D70<2,\nIF(BS102=0,\"Aucun jour de formation suivi en 2019\",IF(BS102<2,ROUND(BS102,0)&\" jour de formation suivi en 2019\",TEXT(ROUND(BS102,0),\"# ##0\")&\" jours de formation suivis par l'agents permanents en 2019\")),\nIF(BS102=0,\"Aucun jour de formation suivi par des agents permanents en 2019\",IF(BS102<2,ROUND(BS102,0)&\" jour de formation suivi en 2019\",TEXT(ROUND(BS102,0),\"# ##0\")&\" jours de formation suivis par les agents sur emploi permanent en 2019\"))))","v":" "},null,null,null,"Æ","1Formules de calcul - Effectif théorique au 31/12/2018",null,null,null,null,null,null,null,null,null,null,null,null,null,null,null,null,null,null,null,null,null,null,null,null,null,null,null,null,null,null,null,null,null,null,null,null,null,null,null,null,null,null,null,null,null,null,null,null,null,null,null,null,null,null,null,null,null,null,null,null,null,null,null,null,null,null,null,null,null,null,null,null,null,null,null,null,null,null,null,null,null,null,null,null,null,null,null,null,null,null,null,null,null,null,null,null,null,null,null,null,null,null,null,null,null,null,null,null,null,null,null,null,null,null,null,null,null,null,null,null,null,null,"Attachés",{"$f":"'IND 1.1.1'!I30","v":0},{"$f":"'IND 1.2.1'!K16","v":0},{"$f":"GP3+GQ3","v":0},{"$f":"RANK(GR3,$GR$1:$GR$58,0)+COUNTIF(GR$1:GR3,GR3)-1","v":2},{"$f":"GS3","v":2},{"$f":"$GX3/SUM($GX$2:$GX$58)","v":{"$error":"#DIV/0!"}},{"$f":"GO3","v":"Attachés"},"A",{"$f":"GR3","v":0},{"$f":"GP3","v":0},0]
[null,null,null,null,null,null,null,null,null,null,null,null,null,null,null,null,null,null,null,null,null,null,null,null,null,null,null,null,null,null,null,null,null,null,"Æ",{"$f":"IF(AL6=\"0 €\",\"Informations manquantes\",\"Les charges de personnel représentent \"&ROUND($AP$62,2)&\" % des dépenses de fonctionnement\")","v":"Informations manquantes"},null,null,null,null,null,null,null,null,null,null,null,null,null,null,null,null,null,null,null,null,null,null,null,null,null,null,null,null,null,null,null,null,null,null,null,null,null,null,null,null,null,null,null,null,null,null,null,null,null,null,null,null,null,null,null,null,null,null,null,null,null,null,null,null,null,null,null,null,null,null,null,null,null,null,null,null,null,null,null,null,null,null,null,null,null,null,null,null,null,null,null,null,null,null,null,null,null,null,null,null,null,null,null,null,null,null,null,null,null,null,null,null,null,null,null,null,null,null,null,null,null,null,null,null,null,null,null,null,null,null,null,null,null,null,null,null,null,null,null,null,null,null,null,null,null,null,null,null,null,null,null,null,null,null,null,"Numéro","Région","Colonne2",null,null,"Secrétaires de mairie",{"$f":"'IND 1.1.1'!I33","v":0},{"$f":"'IND 1.2.1'!K17","v":0},0,{"$f":"RANK(GR4,$GR$1:$GR$58,0)+COUNTIF(GR$1:GR4,GR4)-1","v":3},3,{"$error":"#DIV/0!"},"Secrétaires de mairie","A",0,0,0]
[null,"Æ",{"$f":"'Page de garde'!$A$3","v":0},null,null,null,null,null,null,null,null,null,null,null,null,null,null,null,null,null,null,null,null,null,null,null,null,null,null,null,null,null,null,null,null,null,null,null,null,null,null,null,null,null,null,null,null,null,null,null,null,null,null,null,null,null,null,null,null,null,null,null,null,null,null,null,null,null,null,null,null,null,null,"Pour les fonctionnaires : \nTotal de l'effectif physique rémunéré des fonctionnaires au 31/12/2019 \n     + Départs définitifs de titulaires ou de stagiaires \n     + Départs temporaires non rémunérés\n     - Arrivées de titulaires ou de stagiaires\n     - Stagiairisation de contractuels de la collectivité \n     - Retours de titulaires stagiaires",null,null,null,null,"Pour les contractuels permanents : \nTotal de l'effectif physique rémunéré des contractuels au 31/12/2019 \n   + Départs définitifs de contractuels\n   + Départs temporaires non rémunérés\n   + Stagiairisation de contractuels de la collectivité\n   - Arrivées de contractuels \n   - Retours de contractuels",null,null,null,null,null,{"$f":"IF(BM36=\"\",\"\",\"Santé\")","v":""},null,null,null,null,null,null,null,null,null,null,null,null,null,null,null,null,null,null,null,null,null,null,null,null,null,null,null,null,null,null,null,null,null,null,null,null,null,null,null,null,null,null,null,null,null,null,null,null,null,null,null,null,null,null,null,null,null,null,null,null,null,null,null,null,null,null,null,null,null,null,null,null,null,null,null,null,null,null,null,null,null,null,null,null,null,null,null,null,null,null,null,null,null,null,null,null,null,null,null,null,null,null,null,null,null,null,67,"Alsace","Centre de Gestion du Bas-Rhin",null,null,"Rédacteurs",{"$f":"'IND 1.1.1'!I40","v":0},{"$f":"'IND 1.2.1'!K18","v":0},0,{"$f":"RANK(GR5,$GR$1:$GR$58,0)+COUNTIF(GR$1:GR5,GR5)-1","v":4},4,{"$error":"#DIV/0!"},"Rédacteurs","B",0,0,0]
[null,null,null,null,null,null,null,null,null,null,null,null,null,null,null,null,null,null,null,null,null,null,null,null,{"$f":"IF(AF128+AF129+AF130=0,\"Aucun contractuel permanent nommé stagiaire\",IF(AF128+AF129+AF130<2,AF128+AF129+AF130&\" contractuel permanent nommé stagiaire\",AF128+AF129+AF130&\" contractuels permanents nommés stagiaires\"))","v":"Aucun contractuel permanent nommé stagiaire"},null,null,null,null,1,{"$f":"IF(ISNA(VLOOKUP(AD6,$AA$87:$AG$104,2,FALSE))=TRUE,\"\",VLOOKUP(AD6,$AA$87:$AG$104,2,FALSE))","v":""},null,null,{"$f":"IF(AE6>\"\",VLOOKUP(AD6,$AA$86:$AE$104,5,FALSE),\"\")","v":""},null,"Budget de fonctionnement*",null,{"$f":"TEXT('IND 3.4.5'!C7,\"# ##0\") & \" €\"","v":"0 €"},null,"Charges de personnel*",null,{"$f":"TEXT('IND 3.4.5'!C8,\"# ##0\") & \" €\"","v":"0 €"},null,null,{"$f":"IF(AL6=\"0 €\",\"Informations manquantes\",\"Soit \"&ROUND($AP$62,2)&\" % des dépenses de fonctionnement\")","v":"Informations manquantes"},null,null,null,null,null,null,null,null,null,null,null,null,null,null,null,null,null,null,null,null,null,null,null,{"$f":"IF('IND 5.1.1'!$F$14=0,\"  \",\"Répartition des jours de formation\"&CHAR(10)&\"par catégorie hiérarchique\")","v":"  "},null,null,null,null,null,null,null,null,null,null,null,null,null,null,null,null,null,null,null,null,null,null,null,null,null,null,null,null,null,null,null,null,null,null,null,null,null,null,null,null,null,null,null,null,null,null,null,null,null,null,null,null,null,null,null,null,null,null,null,null,null,null,null,null,null,null,null,null,null,null,null,null,null,null,null,null,null,null,null,null,null,null,null,null,null,null,null,null,null,null,null,null,null,null,null,null,null,null,null,null,null,null,null,null,null,null,null,null,null,null,null,null,null,null,null,null,null,null,null,null,null,null,68,"Alsace","Centre de Gestion du Haut-Rhin",null,null,"Adjoints administratifs",{"$f":"'IND 1.1.1'!I47","v":0},{"$f":"'IND 1.2.1'!K19","v":0},0,{"$f":"RANK(GR6,$GR$1:$GR$58,0)+COUNTIF(GR$1:GR6,GR6)-1","v":5},5,{"$error":"#DIV/0!"},"Adjoints administratifs","C",0,0,0]
[null,null,null,null,null,null,null,null,null,null,null,null,null,null,null,null,null,null,null,null,null,null,null,null,null,null,null,null,null,2,{"$f":"IF(ISNA(VLOOKUP(AD7,$AA$87:$AG$104,2,FALSE))=TRUE,\"\",VLOOKUP(AD7,$AA$87:$AG$104,2,FALSE))","v":""},null,null,{"$f":"IF(AE7>\"\",VLOOKUP(AD7,$AA$86:$AE$104,5,FALSE),\"\")","v":""},null,null,null,null,null,null,null,null,null,null,null,null,null,null,null,null,null,null,{"$f":"IF($D$69=0,\" \",\"Fonctionnaires\")","v":" "},null,{"$f":"IF($D$70=0,\" \",\"Contractuels\"& CHAR(10)& \"permanents\")","v":" "},null,"Ensemble agents permanents",null,{"$f":"IF($D$71=0,\" \",\"Contractuels\"& CHAR(10)& \" non permanents\")","v":" "},null,null,{"$f":"IF('IND 5.1.1'!$F$14=0,\"  \",\"Pourcentage d'agents par catégorie et par statut ayant bénéficié d'au moins un jour de formation en 2019\")","v":"  "},null,null,null,null,null,null,null,null,null,null,null,null,null,null,null,null,null,null,null,null,null,null,null,null,null,null,null,null,null,null,null,null,null,null,null,null,null,null,null,null,null,null,null,null,null,null,null,null,null,null,null,null,null,null,null,null,null,null,null,null,null,null,null,null,null,null,null,null,null,null,null,null,null,null,null,null,null,null,null,null,null,null,null,null,null,null,null,null,null,null,null,null,null,null,null,null,null,null,null,null,null,null,null,null,null,null,null,null,null,null,null,null,null,null,null,null,null,null,null,null,null,null,null,null,null,null,null,null,null,24,"Aquitaine","Centre de Gestion de la Dordogne",null,null,"Ingénieurs en chef",{"$f":"'IND 1.1.1'!I56","v":0},{"$f":"'IND 1.2.1'!K22","v":0},0,{"$f":"RANK(GR7,$GR$1:$GR$58,0)+COUNTIF(GR$1:GR7,GR7)-1","v":6},6,{"$error":"#DIV/0!"},"Ingénieurs en chef","A",0,0,0]
[null,null,null,null,null,null,null,null,null,null,null,null,null,null,null,null,null,null,null,null,null,null,null,null,"Emplois permanents rémunérés",null,null,null,null,3,{"$f":"IF(ISNA(VLOOKUP(AD8,$AA$87:$AG$104,2,FALSE))=TRUE,\"\",VLOOKUP(AD8,$AA$87:$AG$104,2,FALSE))","v":""},null,null,{"$f":"IF(AE8>\"\",VLOOKUP(AD8,$AA$86:$AE$104,5,FALSE),\"\")","v":""},null,"* Montant global",null,null,null,null,null,null,null,null,null,null,null,null,null,null,null,null,null,null,null,null,null,null,null,null,null,null,null,null,null,null,null,null,null,null,null,null,null,null,null,null,null,null,null,null,null,null,null,null,null,null,null,null,null,null,null,null,null,null,null,null,null,null,null,null,null,null,null,null,null,null,null,null,null,null,null,null,null,null,null,null,null,null,null,null,null,null,null,null,null,null,null,null,null,null,null,null,null,null,null,null,null,null,null,null,null,null,null,null,null,null,null,null,null,null,null,null,null,null,null,null,null,null,null,null,null,null,null,null,null,null,null,null,null,null,null,null,null,null,null,null,null,null,null,null,null,null,null,null,null,null,null,null,null,null,null,33,"Aquitaine","Centre de Gestion de la Gironde",null,null,"Ingénieurs",{"$f":"'IND 1.1.1'!I62","v":0},{"$f":"'IND 1.2.1'!K23","v":0},0,{"$f":"RANK(GR8,$GR$1:$GR$58,0)+COUNTIF(GR$1:GR8,GR8)-1","v":7},7,{"$error":"#DIV/0!"},"Ingénieurs","A",0,0,0]
[null,null,null,null,null,null,null,null,null,null,null,null,null,null,null,null,null,null,null,null,null,null,null,null,null,null,null,null,null,4,{"$f":"IF(ISNA(VLOOKUP(AD9,$AA$87:$AG$104,2,FALSE))=TRUE,\"\",VLOOKUP(AD9,$AA$87:$AG$104,2,FALSE))","v":""},null,null,{"$f":"IF(AE9>\"\",VLOOKUP(AD9,$AA$86:$AE$104,5,FALSE),\"\")","v":""},null,null,null,null,null,null,null,null,null,null,null,null,null,null,null,"Taux d'absentéisme « compressible » (maladies ordinaires et accidents de travail)",null,null,{"$f":"IF($D$69=0,\" \",SUM('IND 2.1.1'!$F$15:$G$17)/($D$69*365))","v":" "},null,{"$f":"IF($D$70=0,\" \",SUM('IND 2.1.2'!$F$15:$G$17)/($D$70*365))","v":" "},null,{"$f":"IF($D$69+$D$70=0,\" \",SUM('IND 2.1.1'!$F$15:$G$17,'IND 2.1.2'!$F$15:$G$17)/(($D$69+$D$70)*365))","v":" "},null,{"$f":"IF($D$71=0,\" \",SUM('IND 2.1.3'!$F$16:$G$18)/($D$71*365))","v":" "},null,null,null,null,null,null,null,null,null,null,null,null,null,null,null,null,null,null,null,null,null,null,null,null,null,null,null,null,null,null,null,null,null,null,null,null,null,null,null,null,null,null,null,null,null,null,null,null,null,null,null,null,null,null,null,null,null,null,null,null,null,null,null,null,null,null,null,null,null,null,null,null,null,null,null,null,null,null,null,null,null,null,null,null,null,null,null,null,null,null,null,null,null,null,null,null,null,null,null,null,null,null,null,null,null,null,null,null,null,null,null,null,null,null,null,null,null,null,null,null,null,null,null,null,null,null,null,null,null,null,null,null,40,"Aquitaine","Centre de Gestion des Landes",null,null,"Techniciens",{"$f":"'IND 1.1.1'!I69","v":0},{"$f":"'IND 1.2.1'!K24","v":0},0,{"$f":"RANK(GR9,$GR$1:$GR$58,0)+COUNTIF(GR$1:GR9,GR9)-1","v":8},8,{"$error":"#DIV/0!"},"Techniciens","B",0,0,0]
[null,{"$f":"IFERROR(\"Cette synthèse du Rapport sur l'État de la Collectivité reprend les principaux indicateurs du Bilan Social au 31 décembre 2019. Elle a été réalisée via l'application www.bs.donnees-sociales\"&\" des Centres de Gestion par extraction des données 2019 transmises en 2020 par la collectivité au \"&VLOOKUP(VALUE('Page de garde'!$F$8),$GJ$4:$GL$110,3,FALSE)&\".\",\"\")","v":""},null,null,null,null,null,null,null,null,null,null,null,null,null,null,null,null,null,null,null,null,null,null,"Effectif physique théorique au 31/12/20181",null,"Effectif physique au 31/12/2019",null,null,5,{"$f":"IF(ISNA(VLOOKUP(AD10,$AA$87:$AG$104,2,FALSE))=TRUE,\"\",VLOOKUP(AD10,$AA$87:$AG$104,2,FALSE))","v":""},null,null,{"$f":"IF(AE10>\"\",VLOOKUP(AD10,$AA$86:$AE$104,5,FALSE),\"\")","v":""},null,"Rémunérations annuelles brutes -\nemploi permanent :",null,null,null,null,null,{"$f":"'IND 3.1.1-3.4.3'!B58+'IND 3.1.1-3.4.3'!C58+'IND 3.1.1-3.4.3'!B106+'IND 3.1.1-3.4.3'!C106","v":0},null,null,{"$f":"IF(AS12<2,\"Rémunération - emploi non permanent :\",\"Rémunérations des agents sur emploi non permanent :\")","v":"Rémunération - emploi non permanent :"},null,null,null,null,null,null,null,null,null,null,null,null,null,null,null,null,null,null,null,null,null,null,null,null,null,null,null,null,null,null,null,null,null,null,null,null,null,null,null,null,null,null,null,null,null,null,null,null,null,null,null,null,null,null,null,null,null,null,null,null,null,null,null,null,null,null,null,null,null,null,null,null,null,null,null,null,null,null,null,null,null,null,null,null,null,null,null,null,null,null,null,null,null,null,null,null,null,null,null,null,null,null,null,null,null,null,null,null,null,null,null,null,null,null,null,null,null,null,null,null,null,null,null,null,null,null,null,null,null,null,null,null,null,null,null,null,null,null,null,null,null,null,null,null,null,null,47,"Aquitaine","Centre de Gestion du Lot-et-Garonne",null,null,"Agents de maîtrise",{"$f":"'IND 1.1.1'!I74","v":0},{"$f":"'IND 1.2.1'!K25","v":0},0,{"$f":"RANK(GR10,$GR$1:$GR$58,0)+COUNTIF(GR$1:GR10,GR10)-1","v":9},9,{"$error":"#DIV/0!"},"Agents de maîtrise","C",0,0,0]
[null,null,null,null,null,null,null,null,null,null,null,null,null,null,null,null,null,null,null,null,null,null,null,null,null,null,null,null,null,null,null,null,null,null,null,null,null,null,null,null,null,null,null,null,null,null,null,null,null,null,null,null,{"$f":"BA9","v":" "},null,{"$f":"BC9","v":" "},null,{"$f":"BE9","v":" "},null,{"$f":"BG9","v":" "},null,null,null,null,null,null,null,null,null,null,null,null,null,null,null,null,null,null,null,null,null,null,null,null,null,null,null,null,null,null,null,null,null,null,null,null,null,null,null,null,null,null,null,null,null,null,null,null,null,null,null,null,null,null,null,null,null,null,null,null,null,null,null,null,null,null,null,null,null,null,null,null,null,null,null,null,null,null,null,null,null,null,null,null,null,null,null,null,null,null,null,null,null,null,null,null,null,null,null,null,null,null,null,null,null,null,null,null,null,null,null,null,null,null,null,null,null,null,null,null,null,null,null,null,null,null,null,null,null,null,null,null,64,"Aquitaine","Centre de Gestion des Pyrénées-Atlantiques",null,null,"Adjoints techniques",{"$f":"'IND 1.1.1'!I81","v":0},{"$f":"'IND 1.2.1'!K26","v":0},0,{"$f":"RANK(GR11,$GR$1:$GR$58,0)+COUNTIF(GR$1:GR11,GR11)-1","v":10},10,{"$error":"#DIV/0!"},"Adjoints techniques","C",0,0,0]
[null,null,null,null,null,null,null,null,null,null,null,null,null,null,null,null,null,null,null,null,null,null,null,null,{"$f":"IF(Z140< 2, TEXT(Z140, \"# ##0\") & \" agent\",TEXT(Z140, \"# ##0\") & \" agents\")","v":"0 agent"},null,{"$f":"IF(D69+D70< 2, TEXT(D69+D70, \"# ##0\") & \" agent\",TEXT(D69+D70, \"# ##0\") & \" agents\")","v":"0 agent"},null,null,null,null,null,null,null,null,"Primes et indemnités versées :",null,null,null,null,null,{"$f":"'IND 3.1.1-3.4.3'!D58+'IND 3.1.1-3.4.3'!E58+'IND 3.1.1-3.4.3'!D106+'IND 3.1.1-3.4.3'!E106","v":0},null,null,{"$f":"'IND 3.1.1-3.4.3'!D122+'IND 3.1.1-3.4.3'!E122","v":0},null,null,null,null,"Taux d'absentéisme médical \n(toutes absences\n pour motif médical)",null,null,{"$f":"IF($D$69=0,\" \",SUM('IND 2.1.1'!$F$15:$G$20)/($D$69*365))","v":" "},null,{"$f":"IF($D$70=0,\" \",SUM('IND 2.1.2'!$F$15:$G$20)/($D$70*365))","v":" "},null,{"$f":"IF($D$69+$D$70=0,\" \",SUM('IND 2.1.1'!$F$15:$G$20,'IND 2.1.2'!$F$15:$G$20)/(($D$69+$D$70)*365))","v":" "},null,{"$f":"IF($D$71=0,\" \",SUM('IND 2.1.3'!$F$16:$G$21)/($D$71*365))","v":" "},null,null,null,null,null,null,null,null,null,null,null,null,null,null,null,null,null,null,null,null,null,null,null,null,null,null,null,null,null,null,null,null,null,null,null,null,null,null,null,null,null,null,null,null,null,null,null,null,null,null,null,null,null,null,null,null,null,null,null,null,null,null,null,null,null,null,null,null,null,null,null,null,null,null,null,null,null,null,null,null,null,null,null,null,null,null,null,null,null,null,null,null,null,null,null,null,null,null,null,null,null,null,null,null,null,null,null,null,null,null,null,null,null,null,null,null,null,null,null,null,null,null,null,null,null,null,null,null,null,null,null,null,3,"Auvergne","Centre de Gestion de l'Allier",null,null,"Adjoints techniques des établissements d'enseignement",{"$f":"'IND 1.1.1'!I88","v":0},{"$f":"'IND 1.2.1'!K27","v":0},0,{"$f":"RANK(GR12,$GR$1:$GR$58,0)+COUNTIF(GR$1:GR12,GR12)-1","v":11},11,{"$error":"#DIV/0!"},"Adjoints techniques des établissements d'enseignement","C",0,0,0]
[null,null,null,null,null,null,null,null,null,null,null,null,null,null,null,null,null,null,null,null,null,null,null,null,null,null,null,null,null,"Æ",{"$f":"IF(AF126+AG126=0, \"Aucune arrivée d'agent permanent en 2019\", \"Principaux modes d'arrivée d'agents permanents\")","v":"Aucune arrivée d'agent permanent en 2019"},null,null,null,null,"Heures supplémentaires et/ou complémentaires :",null,null,null,null,null,{"$f":"'IND 3.1.1-3.4.3'!$H$58+'IND 3.1.1-3.4.3'!$I$58+'IND 3.1.1-3.4.3'!$F$106+'IND 3.1.1-3.4.3'!$G$106","v":0},null,null,null,null,null,null,null,null,null,null,null,null,null,null,null,null,null,null,null,null,null,null,null,null,null,null,null,null,null,null,null,null,null,null,null,null,null,null,null,null,null,null,null,null,null,null,null,null,null,null,null,null,null,null,null,null,null,null,null,null,null,null,null,null,null,null,null,null,null,null,null,null,null,null,null,null,null,null,null,null,null,null,null,null,null,null,null,null,null,null,null,null,null,null,null,null,null,null,null,null,null,null,null,null,null,null,null,null,null,null,null,null,null,null,null,null,null,null,null,null,null,null,null,null,null,null,null,null,null,null,null,null,null,null,null,null,null,null,null,null,null,null,null,null,null,null,null,null,null,15,"Auvergne","Centre de Gestion du Cantal",null,null,"Conservateurs du patrimoine",{"$f":"'IND 1.1.1'!I96","v":0},{"$f":"'IND 1.2.1'!K30","v":0},0,{"$f":"RANK(GR13,$GR$1:$GR$58,0)+COUNTIF(GR$1:GR13,GR13)-1","v":12},12,{"$error":"#DIV/0!"},"Conservateurs du patrimoine","A",0,0,0]
[null,null,null,null,null,null,null,null,null,null,null,null,null,null,null,null,null,null,null,null,null,null,null,null,null,null,"1 cf. page 7",null,null,null,null,null,null,null,null,"Nouvelle Bonification Indiciaire :",null,null,null,null,null,{"$f":"'IND 3.1.1-3.4.3'!F58+'IND 3.1.1-3.4.3'!G58","v":0},null,null,null,null,null,null,null,null,null,null,{"$f":"BA12","v":" "},null,{"$f":"BC12","v":" "},null,{"$f":"BE12","v":" "},null,{"$f":"BG12","v":" "},null,null,null,null,null,null,null,null,null,null,null,null,null,null,"Pour l'ensemble des agents permanents :\n        Effectif théorique des fonctionnaires au 31/12/2018\n     + Effectif théorique des contractuels permanents au 31/12/2018\n\n",null,null,null,null,null,null,null,null,null,null,null,null,null,null,null,null,null,null,null,null,null,null,null,null,null,null,null,null,null,null,null,null,null,null,null,null,null,null,null,null,null,null,null,null,null,null,null,null,null,null,null,null,null,null,null,null,null,null,null,null,null,null,null,null,null,null,null,null,null,null,null,null,null,null,null,null,null,null,null,null,null,null,null,null,null,null,null,null,null,null,null,null,null,null,null,null,null,null,null,null,null,null,null,null,null,null,null,null,null,null,null,null,null,null,null,null,null,43,"Auvergne","Centre de Gestion de la Haute-Loire",null,null,"Conservateurs des bibliothèques",{"$f":"'IND 1.1.1'!I101","v":0},{"$f":"'IND 1.2.1'!K31","v":0},0,{"$f":"RANK(GR14,$GR$1:$GR$58,0)+COUNTIF(GR$1:GR14,GR14)-1","v":13},13,{"$error":"#DIV/0!"},"Conservateurs des bibliothèques","A",0,0,0]
[null,null,null,null,null,null,null,null,null,null,null,{"$f":"IF(M15=\"\",\"\",\"Æ\")","v":""},{"$f":"IF(SUM(V72:W72)=0,\"\",IF(L20=\"\",\"La filière la plus concernée par le temps non complet\",IF(L21=\"\",\"Les 2 filières les plus concernées par le temps non complet\",\"Les 3 filières les plus concernées par le temps non complet\")))","v":""},null,null,null,null,{"$f":"IF(S15=\"\",\"\",\"Æ\")","v":""},{"$f":"IF(SUM(V73:W73)=0,\"\",\"Part des agents permanents à temps partiel selon le genre\")","v":""},null,null,null,null,null,null,null,null,null,null,null,null,null,null,null,null,"Supplément familial de traitement :",null,null,null,null,null,{"$f":"'IND 3.1.1-3.4.3'!J58+'IND 3.1.1-3.4.3'!K58","v":0},null,null,null,null,null,null,null,"Taux d'absentéisme global \n(toutes absences y compris maternité, paternité et autre)",null,null,{"$f":"IF($D$69=0,\" \",SUM('IND 2.1.1'!$F$15:$G$23)/($D$69*365))","v":" "},null,{"$f":"IF($D$70=0,\" \",SUM('IND 2.1.2'!$F$15:$G$23)/($D$70*365))","v":" "},null,{"$f":"IF($D$69+$D$70=0,\" \",SUM('IND 2.1.1'!$F$15:$G$23,'IND 2.1.2'!$F$15:$G$23)/(($D$69+$D$70)*365))","v":" "},null,{"$f":"IF($D$71=0,\" \",SUM('IND 2.1.3'!$F$16:$G$24)/($D$71*365))","v":" "},null,null,null,null,null,null,null,null,null,null,null,null,null,null,null,null,null,null,null,null,null,null,null,null,null,null,null,null,null,null,null,null,null,null,null,null,null,null,null,null,null,null,null,null,null,null,null,null,null,null,null,null,null,null,null,null,null,null,null,null,null,null,null,null,null,null,null,null,null,null,null,null,null,null,null,null,null,null,null,null,null,null,null,null,null,null,null,null,null,null,null,null,null,null,null,null,null,null,null,null,null,null,null,null,null,null,null,null,null,null,null,null,null,null,null,null,null,null,null,null,null,null,null,null,null,null,null,null,null,null,null,null,63,"Auvergne","Centre de Gestion du Puy-de-Dôme",null,null,"Attachés de conservation du patrimoine",{"$f":"'IND 1.1.1'!I106","v":0},{"$f":"'IND 1.2.1'!K32","v":0},0,{"$f":"RANK(GR15,$GR$1:$GR$58,0)+COUNTIF(GR$1:GR15,GR15)-1","v":14},14,{"$error":"#DIV/0!"},"Attachés de conservation du patrimoine","A",0,0,0]
[null,null,null,null,null,null,null,null,null,null,null,null,null,null,null,null,null,null,null,null,null,null,null,null,"Variation des effectifs*",null,null,null,null,1,{"$f":"IF(ISNA(VLOOKUP(AD16,$AA$115:$AB$125,2,FALSE))=TRUE,\"\",VLOOKUP(AD16,$AA$115:$AB$125,2,FALSE))","v":""},null,null,{"$f":"IF(AE16>\"\",VLOOKUP(AE16,$AB$115:$AE$124,4,FALSE),\"\")","v":""},null,"Indemnité de résidence :",null,null,null,null,null,{"$f":"'IND 3.1.1-3.4.3'!L58+'IND 3.1.1-3.4.3'!M58","v":0},null,null,null,null,null,null,null,null,null,null,null,null,null,null,null,null,null,null,null,null,null,null,null,null,null,null,{"$f":"IF('IND 5.1.1'!$F$15=0,\"\",\"Nombre moyen de jours de formation\" & CHAR(10) & \"par agent permanent : \")","v":""},null,null,null,null,null,null,null,null,null,null,null,null,null,null,null,null,null,null,null,null,null,null,null,null,null,null,null,null,null,null,null,null,null,null,null,null,null,null,null,null,null,null,null,null,null,null,null,null,null,null,null,null,null,null,null,null,null,null,null,null,null,null,null,null,null,null,null,null,null,null,null,null,null,null,null,null,null,null,null,null,null,null,null,null,null,null,null,null,null,null,null,null,null,null,null,null,null,null,null,null,null,null,null,null,null,null,null,null,null,null,null,null,null,null,null,null,null,null,null,null,null,null,14,"Basse-Normandie","Centre de Gestion du Calvados",null,null,"Bibliothécaires",{"$f":"'IND 1.1.1'!I111","v":0},{"$f":"'IND 1.2.1'!K33","v":0},0,{"$f":"RANK(GR16,$GR$1:$GR$58,0)+COUNTIF(GR$1:GR16,GR16)-1","v":15},15,{"$error":"#DIV/0!"},"Bibliothécaires","A",0,0,0]
["Æ",{"$f":"IF(D69+D70+D71=0,\"Aucun agent employé par la collectivité au 31 décembre 2019\",IF(D69+D70+D71<2,D69+D70+D71&\" agent employé par la collectivité au 31 décembre 2019\",TEXT(D69+D70+D71,\"# ##0\")&\" agents employés par la collectivité au 31 décembre 2019\"))","v":"Aucun agent employé par la collectivité au 31 décembre 2019"},null,null,null,null,null,null,null,null,null,null,null,null,null,null,null,null,null,null,null,null,null,null,"entre le 1er janvier et le 31 décembre 2019",null,null,null,null,2,{"$f":"IF(ISNA(VLOOKUP(AD17,$AA$115:$AB$125,2,FALSE))=TRUE,\"\",VLOOKUP(AD17,$AA$115:$AB$125,2,FALSE))","v":""},null,null,{"$f":"IF(AE17>\"\",VLOOKUP(AE17,$AB$115:$AE$124,4,FALSE),\"\")","v":""},null,null,null,null,null,null,null,null,null,null,null,null,null,null,null,null,null,null,{"$f":"BA15","v":" "},null,{"$f":"BC15","v":" "},null,{"$f":"BE15","v":" "},null,{"$f":"BG15","v":" "},null,null,null,null,null,null,null,null,null,null,null,null,null,null,null,null,null,null,null,null,null,null,null,null,null,null,null,null,null,null,null,null,null,null,null,null,null,null,null,null,null,null,null,null,null,null,null,null,null,null,null,null,null,null,null,null,null,null,null,null,null,null,null,null,null,null,null,null,null,null,null,null,null,null,null,null,null,null,null,null,null,null,null,null,null,null,null,null,null,null,null,null,null,null,null,null,null,null,null,null,null,null,null,null,null,null,null,null,null,null,null,null,null,null,null,null,null,null,null,null,null,null,null,null,null,null,null,null,null,null,null,null,61,"Basse-Normandie","Centre de Gestion de l'Orne",null,null,"Directeurs d'établissements d'enseignement artistique",{"$f":"'IND 1.1.1'!I117","v":0},{"$f":"'IND 1.2.1'!K34","v":0},0,{"$f":"RANK(GR17,$GR$1:$GR$58,0)+COUNTIF(GR$1:GR17,GR17)-1","v":16},16,{"$error":"#DIV/0!"},"Directeurs d'établissements d'enseignement artistique","A",0,0,0]
[null,null,null,null,null,null,null,null,null,null,null,{"$f":"IF(M15=\"\",\"\",\"Filière\")","v":""},null,{"$f":"IF(M15=\"\",\"\",IF(D69=0,\"\",\"Fonctionnaires\"))","v":""},null,{"$f":"IF(M15=\"\",\"\",IF(D70=0,\"\",\"Contractuels\"))","v":""},null,null,null,null,null,null,null,null,{"$f":"IF(D69<2,\"Fonctionnaire\",\"Fonctionnaires\")","v":"Fonctionnaire"},null,{"$f":"IF($AB$18=\"\",\"\",IF(AB18>0%,\"æ\",IF(AB18<0,\"è\",\"â\")))","v":""},{"$f":"AH142","v":""},null,3,{"$f":"IF(ISNA(VLOOKUP(AD18,$AA$115:$AB$125,2,FALSE))=TRUE,\"\",VLOOKUP(AD18,$AA$115:$AB$125,2,FALSE))","v":""},null,null,{"$f":"IF(AE18>\"\",VLOOKUP(AE18,$AB$115:$AE$124,4,FALSE),\"\")","v":""},null,null,null,null,null,null,null,null,null,null,null,null,null,null,null,"Cf. p7 Précisions méthodologiques pour les groupes d'absences         Taux d'absentéisme : nombre de jours d'absence / (nombre total d'agents x 365)",null,null,null,null,null,null,null,null,null,null,null,null,null,null,null,null,null,null,null,null,null,null,"Æ","2Formules de calcul - Taux d'absentéisme",null,null,null,null,null,"Note de lecture : \nSi le taux d’absentéisme est de 8 %, cela signifie que pour 100 agents de la collectivité, un équivalent de 8 agents a été absent toute l’année.",null,null,null,null,null,null,null,null,null,null,null,null,null,null,null,null,null,null,null,null,null,null,null,null,null,null,null,null,null,null,null,null,null,null,null,null,null,null,null,null,null,null,null,null,null,null,null,null,null,null,null,null,null,null,null,null,null,null,null,null,null,null,null,null,null,null,null,null,null,null,null,null,null,null,null,null,null,null,null,null,null,null,null,null,null,null,null,null,null,null,null,null,null,null,null,null,null,null,null,null,null,null,null,null,null,null,null,null,null,null,null,21,"Bourgogne","Centre de Gestion de la Côte d'Or",null,null,"Professeurs d'enseignement artistique",{"$f":"'IND 1.1.1'!I122","v":0},{"$f":"'IND 1.2.1'!K35","v":0},0,{"$f":"RANK(GR18,$GR$1:$GR$58,0)+COUNTIF(GR$1:GR18,GR18)-1","v":17},17,{"$error":"#DIV/0!"},"Professeurs d'enseignement artistique","A",0,0,0]
[null,null,null,null,null,null,null,null,null,null,null,{"$f":"IF(ISNA(VLOOKUP(1,$L$73:$O$80,2,FALSE))=FALSE,VLOOKUP(1,$L$73:$O$80,2,FALSE),\"\")","v":""},null,{"$f":"IF(L19=\"\",\"\",VLOOKUP(1,$L$73:$O$80,3,FALSE))","v":""},null,{"$f":"IF(L19=\"\",\"\",VLOOKUP(1,$L$73:$O$80,4,FALSE))","v":""},null,null,{"$f":"IF(S15=\"\",\"\",O85)","v":""},{"$f":"IF(S15=\"\",\"\",\"des hommes à temps partiel\")","v":""},null,null,null,null,null,null,null,null,null,4,{"$f":"IF(ISNA(VLOOKUP(AD19,$AA$115:$AB$125,2,FALSE))=TRUE,\"\",VLOOKUP(AD19,$AA$115:$AB$125,2,FALSE))","v":""},null,null,{"$f":"IF(AE19>\"\",VLOOKUP(AE19,$AB$115:$AE$124,4,FALSE),\"\")","v":""},"Æ","Rémunération moyenne par équivalent temps plein rémunéré des agents permanents",null,null,null,null,null,null,null,null,null,null,null,null,{"$f":"IF(AX19=\"\",\"\",\"Æ\")","v":""},{"$f":"IF('IND 2.1.0'!$B$8=0,\"\",IF('IND 2.1.0'!$B$8=1,\"Les agents ont bénéficié d'un jour de congés au titre des droits acquis (cycles de travail antérieurs au 1er janvier 2002).\",\"Les agents ont bénéficié de \"&'IND 2.1.0'!$B$8&\" jours de congés au titre des droits acquis (cycles de travail antérieurs au 1er janvier 2002).\"))","v":""},null,null,null,null,null,null,null,null,null,null,{"$f":"IF(BJ19=\" \",\" \",\"Æ\")","v":" "},{"$f":"IF('IND 5.1.4'!C15=0, \" \",TEXT(ROUND('IND 5.1.4'!$C$15,0),\"# ##0\") &\" € ont été consacrés à la formation en 2019\")","v":" "},null,null,null,null,null,null,null,{"$f":"IF((D69+D70)=0,\"\",\"> \"&\nIF(AND(BS102/(D69+D70)<2,BS102/(D69+D70)>0),ROUND((BS102/(D69+D70)),1)&\" jour par agent\",IF(BS102/(D69+D70)>=2,ROUND((BS102/(D69+D70)),1)&\" jours par agent\",\" Aucun jour de formation\")))","v":""},null,null,null,null,null,null,null,null,null,null,null,null,null,null,null,null,null,null,null,null,null,null,null,null,null,null,null,null,null,null,null,null,null,null,null,null,null,null,null,null,null,null,null,null,null,null,null,null,null,null,null,null,null,null,null,null,null,null,null,null,null,null,null,null,null,null,null,null,null,null,null,null,null,null,null,null,null,null,null,null,null,null,null,null,null,null,null,null,null,null,null,null,null,null,null,null,null,null,null,null,null,null,null,null,null,null,null,null,null,null,null,null,null,null,null,null,null,null,null,null,null,58,"Bourgogne","Centre de Gestion de la Nièvre",null,null,"Assistants de conservation du patrimoine et des bibliothèque",{"$f":"'IND 1.1.1'!I129","v":0},{"$f":"'IND 1.2.1'!K36","v":0},0,{"$f":"RANK(GR19,$GR$1:$GR$58,0)+COUNTIF(GR$1:GR19,GR19)-1","v":18},18,{"$error":"#DIV/0!"},"Assistants de conservation du patrimoine et des bibliothèque","B",0,0,0]
[null,{"$f":"D69","v":0},null,{"$f":"IF(D69<2,\"fonctionnaire\",\"fonctionnaires\")","v":"fonctionnaire"},null,null,null,null,null,null,null,{"$f":"IF(ISNA(VLOOKUP(2,$L$73:$O$80,2,FALSE))=FALSE,VLOOKUP(2,$L$73:$O$80,2,FALSE),\"\")","v":""},null,{"$f":"IF(L20=\"\",\"\",VLOOKUP(2,$L$73:$O$80,3,FALSE))","v":""},null,{"$f":"IF(L20=\"\",\"\",VLOOKUP(2,$L$73:$O$80,4,FALSE))","v":""},null,null,{"$f":"IF(S15=\"\",\"\",O86)","v":""},{"$f":"IF(S15=\"\",\"\",\"des femmes à temps partiel\")","v":""},null,null,null,null,{"$f":"IF(D70<2,\"Contractuel\",\"Contractuels\")","v":"Contractuel"},null,{"$f":"IF($AB$20=\"\", \"\",IF(AB20>0%,\"æ\",IF(AB20<0,\"è\",\"â\")))","v":""},{"$f":"AH144","v":""},null,5,{"$f":"IF(ISNA(VLOOKUP(AD20,$AA$115:$AB$125,2,FALSE))=TRUE,\"\",VLOOKUP(AD20,$AA$115:$AB$125,2,FALSE))","v":""},null,null,{"$f":"IF(AE20>\"\",VLOOKUP(AE20,$AB$115:$AE$124,4,FALSE),\"\")","v":""},null,null,null,null,null,null,null,null,null,null,null,null,null,null,null,null,null,null,null,null,null,null,null,null,null,null,null,null,null,null,null,null,null,null,null,null,null,null,null,"Nombre de jours calendaires d'absence",null,null,null,"x 100",null,null,null,null,null,null,null,null,null,null,null,null,null,null,null,null,null,null,null,null,null,null,null,null,null,null,null,null,null,null,null,null,null,null,null,null,null,null,null,null,null,null,null,null,null,null,null,null,null,null,null,null,null,null,null,null,null,null,null,null,null,null,null,null,null,null,null,null,null,null,null,null,null,null,null,null,null,null,null,null,null,null,null,null,null,null,null,null,null,null,null,null,null,null,null,null,null,null,null,null,null,null,null,null,null,null,null,null,null,null,null,null,null,71,"Bourgogne","Centre de Gestion de Saône-et-Loire",null,null,"Assistants d'enseignement artistique",{"$f":"'IND 1.1.1'!I136","v":0},{"$f":"'IND 1.2.1'!K37","v":0},0,{"$f":"RANK(GR20,$GR$1:$GR$58,0)+COUNTIF(GR$1:GR20,GR20)-1","v":19},19,{"$error":"#DIV/0!"},"Assistants d'enseignement artistique","B",0,0,0]
[null,{"$f":"D70","v":0},null,{"$f":"IF(D70<2,\"contractuel permanent\",\"contractuels permanents\")","v":"contractuel permanent"},null,null,null,null,null,null,null,{"$f":"IF(ISNA(VLOOKUP(3,$L$73:$O$80,2,FALSE))=FALSE,VLOOKUP(3,$L$73:$O$80,2,FALSE),\"\")","v":""},null,{"$f":"IF(L21=\"\",\"\",VLOOKUP(3,$L$73:$O$80,3,FALSE))","v":""},null,{"$f":"IF(L21=\"\",\"\",VLOOKUP(3,$L$73:$O$80,4,FALSE))","v":""},null,null,null,null,null,null,null,null,null,null,null,null,null,null,"* Variation des effectifs :",null,null,null,null,null,"Catégorie A",null,null,null,"Catégorie B",null,null,null,"Catégorie C",null,null,null,"Æ",{"$f":"IF('IND 2.1.0'!$B$10=0,\"Aucune journée de congés supplémentaires accordée au-delà des congés légaux (exemple : journée du maire)\",IF('IND 2.1.0'!$B$10=1,\"Une journée de congés supplémentaires accordée au-delà des congés légaux (exemple : journée du maire)\",'IND 2.1.0'!$B$10 &\" journées de congés supplémentaires accordées au-delà des congés légaux (exemple : journée du maire)\"))","v":"Aucune journée de congés supplémentaires accordée au-delà des congés légaux (exemple : journée du maire)"},null,null,null,null,null,null,null,null,null,null,null,null,null,null,null,null,null,null,{"$f":"IF(BS102=0, \"\",\"Répartition des jours de formation\"&CHAR(10)&\"par organisme\")","v":""},null,null,null,null,"Nombre d'agents au 31/12/2019 x 365",null,null,null,null,null,null,null,null,null,null,null,null,null,null,null,null,null,null,null,null,null,null,null,null,null,null,null,null,null,null,null,null,null,null,null,null,null,null,null,null,null,null,null,null,null,null,null,null,null,null,null,null,null,null,null,null,null,null,null,null,null,null,null,null,null,null,null,null,null,null,null,null,null,null,null,null,null,null,null,null,null,null,null,null,null,null,null,null,null,null,null,null,null,null,null,null,null,null,null,null,null,null,null,null,null,null,null,null,null,null,null,null,null,null,null,null,null,89,"Bourgogne","Centre de Gestion de l'Yonne",null,null,"Adjoints du patrimoine",{"$f":"'IND 1.1.1'!I143","v":0},{"$f":"'IND 1.2.1'!K38","v":0},0,{"$f":"RANK(GR21,$GR$1:$GR$58,0)+COUNTIF(GR$1:GR21,GR21)-1","v":20},20,{"$error":"#DIV/0!"},"Adjoints du patrimoine","C",0,0,0]
[null,{"$f":"D71","v":0},null,{"$f":"IF(D71<2,\"contractuel non permanent\",\"contractuels non permanents\")","v":"contractuel non permanent"},null,null,null,null,null,null,null,null,null,null,null,null,null,null,null,null,null,null,null,null,"Ensemble",null,{"$f":"IF($AB$22=\"\",\"\",IF(AB22>0%,\"æ\",IF(AB22<0,\"è\",\"â\")))","v":""},{"$f":"AH140","v":""},null,null," (effectif physique rémunéré au 31/12/2019 - effectif physique théorique rémunéré au 31/12/2018)  /",null,null,null,null,null,"Titulaire",null,"Contractuel",null,"Titulaire",null,"Contractuel",null,"Titulaire",null,"Contractuel",null,null,null,null,null,null,null,null,null,null,null,null,null,null,{"$f":"IF('IND 5.1.4'!C14=0,\" \",\"Répartition des dépenses de formation\")","v":" "},null,null,null,null,null,null,null,null,null,null,null,"Les journées d’absence sont décomptées en jours calendaires pour respecter les saisies réalisées dans les logiciels de paie",null,null,null,null,null,null,null,null,null,null,null,null,null,null,null,null,null,null,null,null,null,null,null,null,null,null,null,null,null,null,null,null,null,null,null,null,null,null,null,null,null,null,null,null,null,null,null,null,null,null,null,null,null,null,null,null,null,null,null,null,null,null,null,null,null,null,null,null,null,null,null,null,null,null,null,null,null,null,null,null,null,null,null,null,null,null,null,null,null,null,null,null,null,null,null,null,null,null,null,null,null,null,null,null,null,null,null,null,null,null,null,null,null,null,null,null,null,22,"Bretagne","Centre de Gestion des Côtes d'Armor",null,null,"Conseillers des APS",{"$f":"'IND 1.1.1'!I151","v":0},{"$f":"'IND 1.2.1'!K41","v":0},0,{"$f":"RANK(GR22,$GR$1:$GR$58,0)+COUNTIF(GR$1:GR22,GR22)-1","v":21},21,{"$error":"#DIV/0!"},"Conseillers des APS","A",0,0,0]
[null,null,null,null,null,null,null,null,null,null,null,null,null,null,null,null,null,null,null,null,null,null,null,null,null,null,null,null,null,null,null,null,null,null,"Administrative",null,{"$f":"IF(AK161>=2,AK148/AK161,IF(AK161=0,\"\",\"s\"))","v":""},null,{"$f":"IF(AN161>=2,AN148/AN161,IF(AN161=0,\"\",\"s\"))","v":""},null,{"$f":"IF(AO161>=2,AO148/AO161,IF(AO161=0,\"\",\"s\"))","v":""},null,{"$f":"IF(AP161>=2,AP148/AP161,IF(AP161=0,\"\",\"s\"))","v":""},null,{"$f":"IF(AR161>=2,AR148/AR161,IF(AR161=0,\"\",\"s\"))","v":""},null,{"$f":"IF(AT161>=2,AT148/AT161,IF(AT161=0,\"\",\"s\"))","v":""},null,"Æ",{"$f":"IF(SUM('IND 2.2.6'!$B$13:$G$13,'IND 2.2.6'!$B$22:$G$22)=0,\"Aucun jour de carence prélevé pour les agents permanents\",TEXT((BF76/BF75)*100,\"##0,0\")&\" % des agents permanents ont eu au moins un jour de carence prélevé\")","v":"Aucun jour de carence prélevé pour les agents permanents"},null,null,null,null,null,null,null,null,null,null,null,null,null,null,null,null,null,null,null,null,null,null,null,null,null,null,null,null,null,null,null,null,null,null,null,null,null,null,null,null,null,null,null,null,null,null,null,null,null,null,null,null,null,null,null,null,null,null,null,null,null,null,null,null,null,null,null,null,null,null,null,null,null,null,null,null,null,null,null,null,null,null,null,null,null,null,null,null,null,null,null,null,null,null,null,null,null,null,null,null,null,null,null,null,null,null,null,null,null,null,null,null,null,null,null,null,null,null,null,null,null,null,null,null,null,null,null,null,null,null,null,null,null,null,null,null,null,null,null,null,null,29,"Bretagne","Centre de Gestion du Finistère",null,null,"Educateurs des APS",{"$f":"'IND 1.1.1'!I158","v":0},{"$f":"'IND 1.2.1'!K42","v":0},0,{"$f":"RANK(GR23,$GR$1:$GR$58,0)+COUNTIF(GR$1:GR23,GR23)-1","v":22},22,{"$error":"#DIV/0!"},"Educateurs des APS","B",0,0,0]
[{"$f":"IF($B$24=\"\",\"\",\"Æ\")","v":""},{"$f":"IF($D$70=0,\"\",IF($I$70=0,\"Aucun contractuel permanent en CDI\",\n(IF($I$70>5,ROUND($I$70/$D$70*100,0)&\" % des contractuels permanents en CDI\",\nIF($I$70=1,\"1 contractuel permanent en CDI\",$I$70&\" contractuels permanents en CDI\")))))","v":""},null,null,null,null,{"$f":"IF($H$24=\"\",\"\",\"Æ\")","v":""},{"$f":"IF($D$74=0,\"\",IF($D$74<2,\"Un agent sur emploi fonctionnel dans la collectivité\",$D$74&\" agents sur emploi fonctionnel dans la collectivité\"&IF($D$75>0,\" dont \"&IF($D$75<2,\"un contractuel\",$D$75&\" contractuels\"),\"\")))","v":""},null,null,null,null,null,null,null,null,null,null,null,null,null,null,null,null,null,null,null,null,null,null,"(Effectif physique théorique rémunéré au 31/12/2018)",null,null,null,"Technique",null,"",null,"",null,"",null,"",null,"",null,"",null,null,null,null,null,null,null,null,null,null,null,null,null,null,{"$f":"IF('IND 5.1.4'!$C$11+'IND 5.1.4'!$C$12=0,\"\", \"CNFPT \")","v":""},null,null,null,{"$f":"IF(BM108=0,\"\",ROUND(((BM108/'IND 5.1.4'!$C$15)*100),0) & \" %\")","v":""},null,null,{"$f":"IF(BS102=0,\"\",IF(BT24=\"\",\"\", \"CNFPT\"))","v":""},null,null,{"$f":"IF(BS107=0,\"\",BS107)","v":""},null,"3 « groupes d’absences » ",null,null,null,null,null,null,null,null,null,null,null,null,null,null,null,null,null,null,null,null,null,null,null,null,null,null,null,null,null,null,null,null,null,null,null,null,null,null,null,null,null,null,null,null,null,null,null,null,null,null,null,null,null,null,null,null,null,null,null,null,null,null,null,null,null,null,null,null,null,null,null,null,null,null,null,null,null,null,null,null,null,null,null,null,null,null,null,null,null,null,null,null,null,null,null,null,null,null,null,null,null,null,null,null,null,null,null,null,null,null,null,null,null,null,null,null,null,35,"Bretagne","Centre de Gestion d'Ille-et-Vilaine",null,null,"Opérateurs des APS",{"$f":"'IND 1.1.1'!I164","v":0},{"$f":"'IND 1.2.1'!K43","v":0},0,{"$f":"RANK(GR24,$GR$1:$GR$58,0)+COUNTIF(GR$1:GR24,GR24)-1","v":23},23,{"$error":"#DIV/0!"},"Opérateurs des APS","C",0,0,0]
[null,null,null,null,null,null,null,null,null,null,null,"Æ",{"$f":"IF(D69+D70=0,\"Aucun agent\",IF(D69+D70<2,\"L'agent employé a \"&G88&\" ans\",\"En moyenne, les agents de la collectivité ont \"&ROUND($O$33,0)&\" ans\"))","v":"Aucun agent"},null,null,null,null,null,null,null,null,null,null,null,null,null,null,null,null,null,null,null,null,null,"Culturelle",null,"",null,"",null,"",null,"",null,"",null,"",null,{"$f":"IF(AX25=\"\",\"\",\"Æ\")","v":""},{"$f":"IF('IND 4.2.5'!$I$5=\"Oui\", \"La collectivité adhère à un contrat d'assurance groupe pour la gestion du risque maladie\",IF('IND 4.2.5'!$I$4=\"Non\",\"La collectivité n'est pas assurée pour la gestion du risque maladie\",\"\"))","v":""},null,null,null,null,null,null,null,null,null,null,null,{"$f":"IF('IND 5.1.4'!$C$13=0,\"\",\"Autres organismes \")","v":""},null,null,null,{"$f":"IF(BM109=0,\"\",ROUND(((BM109/'IND 5.1.4'!$C$15)*100),0) & \" %\")","v":""},null,null,{"$f":"IF(BS102=0,\"\",IF(BT25=\"\",\"\",\"Autres organismes \"))","v":""},null,null,{"$f":"IF(BS108=0,\"\",BS108)","v":""},null,null,null,null,null,null,null,null,null,null,null,null,null,null,null,null,null,null,null,null,null,null,null,null,null,null,null,null,null,null,null,null,null,null,null,null,null,null,null,null,null,null,null,null,null,null,null,null,null,null,null,null,null,null,null,null,null,null,null,null,null,null,null,null,null,null,null,null,null,null,null,null,null,null,null,null,null,null,null,null,null,null,null,null,null,null,null,null,null,null,null,null,null,null,null,null,null,null,null,null,null,null,null,null,null,null,null,null,null,null,null,null,null,null,null,null,null,null,null,56,"Bretagne","Centre de Gestion du Morbihan",null,null,"Conseillers socio-éducatifs",{"$f":"'IND 1.1.1'!I173","v":0},{"$f":"'IND 1.2.1'!K46","v":0},0,{"$f":"RANK(GR25,$GR$1:$GR$58,0)+COUNTIF(GR$1:GR25,GR25)-1","v":24},24,{"$error":"#DIV/0!"},"Conseillers socio-éducatifs","A",0,0,0]
[null,null,null,null,null,null,null,null,null,null,null,null,null,null,null,null,null,null,null,null,null,null,null,null,null,null,null,null,null,null,null,null,null,null,"Sportive",null,"",null,"",null,"",null,"",null,"",null,"",null,null,null,null,null,null,null,null,null,null,null,null,null,null,{"$f":"IF('IND 5.1.4'!$C$14=0,\"\",\"Frais de déplacement \")","v":""},null,null,null,{"$f":"IF(BM110=0,\"\",ROUND(((BM110/'IND 5.1.4'!$C$15)*100),0) & \" %\")","v":""},null,null,{"$f":"IF(BS102=0,\"\",IF(BT26=\"\",\"\",\"Interne à la collectivité \"))","v":""},null,null,{"$f":"IF(BS109=0,\"\",BS109)","v":""},null,"1. Absences compressibles : \nMaladie ordinaire et accidents du travail",null,null,"2. Absences médicales : \nAbsences compressibles + longue maladie, maladie de longue durée, grave maladie, maladie professionnelle",null,null,null,"3. Absences Globales : \nAbsences médicales + maternité, paternité adoption, autres raisons*",null,null,null,null,null,null,null,null,null,null,null,null,null,null,null,null,null,null,null,null,null,null,null,null,null,null,null,null,null,null,null,null,null,null,null,null,null,null,null,null,null,null,null,null,null,null,null,null,null,null,null,null,null,null,null,null,null,null,null,null,null,null,null,null,null,null,null,null,null,null,null,null,null,null,null,null,null,null,null,null,null,null,null,null,null,null,null,null,null,null,null,null,null,null,null,null,null,null,null,null,null,null,null,null,null,null,null,null,null,null,18,"Centre","Centre de Gestion du Cher",null,null,"Assistants socio-éducatifs",{"$f":"'IND 1.1.1'!I179","v":0},{"$f":"'IND 1.2.1'!K47","v":0},0,{"$f":"RANK(GR26,$GR$1:$GR$58,0)+COUNTIF(GR$1:GR26,GR26)-1","v":25},25,{"$error":"#DIV/0!"},"Assistants socio-éducatifs","A",0,0,0]
[{"$f":"IF($B$27=\"\",\"\",\"Æ\")","v":""},{"$f":"IF($D$71=0,\"\",IF($D$71<2,\"Précisions emploi non permanent\",\"Précisions emplois non permanents\"))","v":""},null,null,null,null,null,null,null,null,null,null,{"$f":"IF(D69+D70<2,\"Tranche d'âge\",\"Âge moyen*\"&CHAR(10)&\"des agents permanents\")","v":"Tranche d'âge"},null,null,null,null," Pyramide des âges \ndes agents sur emploi permanent ",null,null,null,null,null,"Æ",{"$f":"IF(B20=0,\" \",IF((AF63+AG63+AF66+AG66)=0,\"Aucun lauréat de concours ou d'examen professionnel\",IF((AF63+AG63+AF66+AG66)<2,\"Un agent a été lauréat d'un concours ou d'un examen professionnel\"&IF(AF64+AG64+AF67+AG67=1,\" et a été nommé dans la collectivité\",\" non suivi d'une nomination\"),(AF63+AG63+AF66+AG66) & \" agents sont lauréats d'un concours ou d'un examen professionnel dont \"& AF64+AG64+AF67+AG67 & IF(AF64+AG64+AF67+AG67<2,\" suivi d'une nomination\", \" suivis d'une nomination\"))))","v":" "},null,null,null,null,"Æ",{"$f":"IF(B20=0,\" \",IF(SUM('IND 1.5.4-1.5.5'!$B$30:$C$30)=0,\"Aucun bénéficiaire d'une promotion interne au choix en 2019\",IF(SUM('IND 1.5.4-1.5.5'!$B$30:$C$30)=1,\"Un fonctionnaire a bénéficié d’une promotion interne au choix en 2019\",SUM('IND 1.5.4-1.5.5'!$B$30:$C$30)& \" fonctionnaires ont bénéficié d’une promotion interne au choix en 2019\")))","v":" "},null,null,null,"Médico-sociale",null,"",null,"",null,"",null,"",null,"",null,"",null,null,null,null,null,null,null,null,null,null,null,null,null,null,null,null,null,null,null,null,null,null,null,null,null,null,null,null,null,null,null,null,null,null,null,null,null,null,null,null,null,null,null,null,null,null,null,null,null,null,null,null,null,null,null,null,null,null,null,null,null,null,null,null,null,null,null,null,null,null,null,null,null,null,null,null,null,null,null,null,null,null,null,null,null,null,null,null,null,null,null,null,null,null,null,null,null,null,null,null,null,null,null,null,null,null,null,null,null,null,null,null,null,null,null,null,null,null,null,null,null,null,null,null,null,null,null,null,null,null,null,null,null,null,null,null,null,null,null,null,null,null,null,null,28,"Centre","Centre de Gestion d'Eure-et-Loir",null,null,"Educateurs de jeunes enfants",{"$f":"'IND 1.1.1'!I185","v":0},{"$f":"'IND 1.2.1'!K48","v":0},0,{"$f":"RANK(GR27,$GR$1:$GR$58,0)+COUNTIF(GR$1:GR27,GR27)-1","v":26},26,{"$error":"#DIV/0!"},"Educateurs de jeunes enfants","A",0,0,0]
[null,null,null,null,null,null,null,null,null,null,null,null,null,null,null,null,null,null,null,null,null,null,null,null,null,null,null,null,null,null,null,null,null,null,"Police",null,"",null,"",null,"",null,"",null,"",null,"",null,null,null,null,null,null,null,null,null,null,null,null,null,null,null,null,null,null,null,null,null,null,null,null,null,null,null,null,null,null,null,null,null,null,null,null,null,null,null,null,null,null,null,null,null,null,null,null,null,null,null,null,null,null,null,null,null,null,null,null,null,null,null,null,null,null,null,null,null,null,null,null,null,null,null,null,null,null,null,null,null,null,null,null,null,null,null,null,null,null,null,null,null,null,null,null,null,null,null,null,null,null,null,null,null,null,null,null,null,null,null,null,null,null,null,null,null,null,null,null,null,null,null,null,null,null,null,null,null,null,null,null,null,null,null,null,null,null,null,null,null,null,null,null,36,"Centre","Centre de Gestion de l'Indre",null,null,"Moniteurs-éducateurs et intervenants familiaux",{"$f":"'IND 1.1.1'!I190","v":0},{"$f":"'IND 1.2.1'!K49","v":0},0,{"$f":"RANK(GR28,$GR$1:$GR$58,0)+COUNTIF(GR$1:GR28,GR28)-1","v":27},27,{"$error":"#DIV/0!"},"Moniteurs-éducateurs et intervenants familiaux","B",0,0,0]
[null,{"$f":"IF($C$29=\"\",\"\",\"a\")","v":""},{"$f":"IF($D$71=0,\"\",IF($I$69=0,\"Aucun contractuel non permanent recruté dans le cadre d’un emploi aidé \",IF($I$69>5,ROUND($I$69/$D$71*100,0)&\" % des contractuels non permanents recrutés dans le cadre d’un emploi aidé \",IF($I$69<2,\"1 contractuel non permanent recruté dans le cadre d’un emploi aidé\",$I$69&\" contractuels non permanents recrutés dans le cadre d’un emploi aidé\"))))","v":""},null,null,null,null,null,null,null,null,null,{"$f":"IF($H$85=0,\" \",IF(D69<2,\"Fonctionnaire\",\"Fonctionnaires\"))","v":" "},null,{"$f":"IF($H$85=0,\" \",IF(D69<2,\"de \"&$H$86-2.5&\" à \"&$H$86+2.5,$H$86))","v":" "},null,null,null,null,null,null,null,null,null,null,null,null,null,null,null,null,null,null,null,"Incendie",null,"",null,"",null,"",null,"",null,"",null,"",null,null,null,null,null,null,null,null,null,null,null,null,null,null,null,null,null,null,null,null,null,null,null,null,null,null,null,null,null,null,null,null,null,null,null,null,null,null,null,null,null,null,null,null,null,null,null,null,null,null,null,null,null,null,null,null,null,null,null,null,null,null,null,null,null,null,null,null,null,null,null,null,null,null,null,null,null,null,null,null,null,null,null,null,null,null,null,null,null,null,null,null,null,null,null,null,null,null,null,null,null,null,null,null,null,null,null,null,null,null,null,null,null,null,null,null,null,null,null,null,null,null,null,null,null,null,null,null,null,null,null,null,null,null,null,null,null,null,null,null,null,null,null,null,37,"Centre","Centre de Gestion d'Indre-et-Loire",null,null,"ATSEM",{"$f":"'IND 1.1.1'!I195","v":0},{"$f":"'IND 1.2.1'!K50","v":0},0,{"$f":"RANK(GR29,$GR$1:$GR$58,0)+COUNTIF(GR$1:GR29,GR29)-1","v":28},28,{"$error":"#DIV/0!"},"ATSEM","C",0,0,0]
[null,{"$f":"IF($C$30=\" \",\" \",\"a\")","v":" "},{"$f":"IF($D$71=0,\" \",IF($I$71=0,\"Aucun contractuel non permanent recruté comme saisonnier ou occasionnel\",(IF($I$71>5,ROUND($I$71/D71*100,0)&\" % des contractuels non permanents recrutés comme saisonniers ou occasionnels\",IF($I$71<2,$I$71&\" contractuel non permanent recruté comme saisonnier ou occasionnel\",$I$71&\" contractuels non permanents recrutés comme saisonniers ou occasionnels\")))))","v":" "},null,null,null,null,null,null,null,null,null,null,null,null,null,null,null,null,null,null,null,null,null,null,null,null,null,null,null,{"$f":"IF(SUM('IND 1.5.4-1.5.5'!$B$30:$C$30)=0,\"\",TEXT(AA74*100,\"##0,0\")&\" % des hommes ont bénéficié d'une promotion au choix contre \"&TEXT(AB74*100,\"##0,0\")&\" % des femmes\")","v":""},null,null,null,"Animation",null,"",null,"",null,"",null,"",null,"",null,"",null,"Æ",{"$f":"IF(D69+D70=0,\"Aucun agent dans la collectivité\",IF('IND 4.2.1'!C101+'IND 4.2.1'!D101+'IND 4.2.1'!G101+'IND 4.2.1'!H101=0,\"Aucun accident du travail déclaré en 2019\",IF('IND 4.2.1'!C101+'IND 4.2.1'!D101+'IND 4.2.1'!G101+'IND 4.2.1'!H101>1,'IND 4.2.1'!C101+'IND 4.2.1'!D101+'IND 4.2.1'!G101+'IND 4.2.1'!H101&\" accidents du travail déclarés au total en 2019\",'IND 4.2.1'!C101+'IND 4.2.1'!D101+'IND 4.2.1'!G101+'IND 4.2.1'!H101&\" seul accident du travail déclaré au total en 2019\")))","v":"Aucun agent dans la collectivité"},null,null,null,null,null,null,null,null,null,null,{"$f":"\"Æ\"","v":"Æ"},{"$f":"IF(AND(BV63=0,BV64=0,BX63=0,BX64=0),\"Aucune information relative à la participation aux contrats de protection sociale complémentaire \",IF(AND(BV63=1,BV64=1,BX63=1,BX64=1),\"La collectivité ne participe ni à la complémentaire santé de ses agents, ni aux contrats de prévoyance\",IF(AND(OR(BV63=2,BV64=2),OR(BX63=2,BX64=2)),\"La collectivité participe à la complémentaire santé et aux contrats de prévoyance\",IF(OR(BV63=2,BV64=2),\"La collectivité participe financièrement à la complémentaire santé\",IF(OR(BX63=2,BX64=2),\"La collectivité participe aux contrats de prévoyance \",\"\")))))","v":"Aucune information relative à la participation aux contrats de protection sociale complémentaire "},null,null,null,null,{"$f":"\"Æ\"","v":"Æ"},"L’action sociale de la collectivité",null,null,null,null,"* Les absences pour \"autres raisons\" correspondent aux autorisations spéciales d'absences (motif familial, concours…)  \nNe sont pas comptabilisés les jours de formation et les absences pour motif syndical ou de représentation.",null,null,null,null,null,null,null,null,null,null,null,null,null,null,null,null,null,null,null,null,null,null,null,null,null,null,null,null,null,null,null,null,null,null,null,null,null,null,null,null,null,null,null,null,null,null,null,null,null,null,null,null,null,null,null,null,null,null,null,null,null,null,null,null,null,null,null,null,null,null,null,null,null,null,null,null,null,null,null,null,null,null,null,null,null,null,null,null,null,null,null,null,null,null,null,null,null,null,null,null,null,null,null,null,null,null,null,null,null,null,null,null,null,null,null,null,null,null,41,"Centre","Centre de Gestion du Loir-et-Cher",null,null,"Agents sociaux",{"$f":"'IND 1.1.1'!I202","v":0},{"$f":"'IND 1.2.1'!K51","v":0},0,{"$f":"RANK(GR30,$GR$1:$GR$58,0)+COUNTIF(GR$1:GR30,GR30)-1","v":29},29,{"$error":"#DIV/0!"},"Agents sociaux","C",0,0,0]
[null,{"$f":"IF($C$30=\" \",\" \",\"a\")","v":" "},{"$f":"\"Personnel temporaire intervenu en 2019 : \"& IF(SUM('IND 1.3.2'!$E$14:$F$14)=0,\"aucun agent du Centre de Gestion et \",IF(SUM('IND 1.3.2'!$E$14:$F$14)=1,\"un agent du Centre de Gestion et \",IF(SUM('IND 1.3.2'!$E$14:$F$14)=1,\"un agent du Centre de Gestion et \",SUM('IND 1.3.2'!$E$14:$F$14)&\" agents du Centre de Gestion et \")))&\nIF(SUM('IND 1.3.2'!$E$26:$F$26)=0,\"aucun intérimaire\",IF(SUM('IND 1.3.2'!$E$26:$F$26)=1,\"un intérimaire\",IF(SUM('IND 1.3.2'!$E$26:$F$26)=1,\"un intérimaire \",SUM('IND 1.3.2'!$E$26:$F$26)&\" intérimaires\")))","v":"Personnel temporaire intervenu en 2019 : aucun agent du Centre de Gestion et aucun intérimaire"},null,null,null,null,null,null,null,null,null,{"$f":"IF($I$85=0,\" \",IF(D70<2,\"Contractuel permanent\",\"Contractuels permanents\"))","v":" "},null,{"$f":"IF($I$85=0,\" \",IF(D70<2,\"de \"&$I$86-2.5&\" à \"&$I$86+2.5,$I$86))","v":" "},null,null,null,null,null,null,null,null,null,{"$f":"IF((AF64+AG64+AF67+AG67)=0,\"\",TEXT(AA78*100,\"##0,0\")&\" % des hommes nommés suite à la réussite à un concours contre \"&TEXT(AB78*100,\"##0,0\")&\" % des femmes\")","v":""},null,null,null,null,null,null,null,null,null,"Toutes filières",null,"",null,"",null,"",null,"",null,"",null,"",null,null,null,null,null,null,null,"Æ",{"$f":"IF('IND 4.1.1-4.1.2'!B9=1,\"ASSISTANT DE PRÉVENTION\",\"ASSISTANTS DE PRÉVENTION\")","v":"ASSISTANTS DE PRÉVENTION"},null,null,null,null,null,null,null,null,null,null,null,null,null,null,null,null,null,null,null,null,null,null,null,null,null,null,null,null,null,null,null,null,null,null,null,null,null,null,null,null,null,null,null,null,null,null,null,null,null,null,null,null,null,null,null,null,null,null,null,null,null,null,null,null,null,null,null,null,null,null,null,null,null,null,null,null,null,null,null,null,null,null,null,null,null,null,null,null,null,null,null,null,null,null,null,null,null,null,null,null,null,null,null,null,null,null,null,null,null,null,null,null,null,null,null,null,null,null,null,null,null,null,null,null,null,null,null,null,null,null,null,null,null,null,null,45,"Centre","Centre de Gestion du Loiret",null,null,"Médecins",{"$f":"'IND 1.1.1'!I211","v":0},{"$f":"'IND 1.2.1'!K54","v":0},0,{"$f":"RANK(GR31,$GR$1:$GR$58,0)+COUNTIF(GR$1:GR31,GR31)-1","v":30},30,{"$error":"#DIV/0!"},"Médecins","A",0,0,0]
[null,null,null,null,null,null,null,null,null,null,null,null,null,null,null,null,null,null,null,null,null,null,null,null,null,null,null,null,null,null,null,null,null,null,null,null,null,null,null,null,"*s : secret statistique appliqué en dessous de 2 ETPR",null,null,null,null,null,null,null,null,null,null,null,null,null,null,{"$f":"IF('IND 4.1.1-4.1.2'!B9=0,\"Aucun assistant de prévention désigné dans la collectivité\",IF('IND 4.1.1-4.1.2'!B9<2,'IND 4.1.1-4.1.2'!B9&\" assistant de prévention désigné dans la collectivité\",'IND 4.1.1-4.1.2'!B9&\" assistants de prévention désignés dans la collectivité\"))","v":"Aucun assistant de prévention désigné dans la collectivité"},null,null,null,null,null,null,null,null,null,null,null,null,null,null,null,null,null,null,null,null,null,null,null,null,null,null,null,null,null,null,null,null,null,null,null,null,null,null,null,null,null,null,null,null,null,null,null,null,null,null,null,null,null,null,null,null,null,null,null,null,null,null,null,null,null,null,null,null,null,null,null,null,null,null,null,null,null,null,null,null,null,null,null,null,null,null,null,null,null,null,null,null,null,null,null,null,null,null,null,null,null,null,null,null,null,null,null,null,null,null,null,null,null,null,null,null,null,null,null,null,null,null,null,null,null,null,null,null,null,null,null,null,null,null,null,8,"Champagne","Centre de Gestion des Ardennes",null,null,"Psychologues",{"$f":"'IND 1.1.1'!I216","v":0},{"$f":"'IND 1.2.1'!K55","v":0},0,{"$f":"RANK(GR32,$GR$1:$GR$58,0)+COUNTIF(GR$1:GR32,GR32)-1","v":31},31,{"$error":"#DIV/0!"},"Psychologues","A",0,0,0]
[null,null,null,null,null,null,null,null,null,null,null,null,{"$f":"IF($K$85=0,\" \",IF(D69+D70<2,\" \",\"Ensemble des permanents\"))","v":" "},null,{"$f":"IF($K$85=0,\" \",IF(D69+D70<2,\" \",$K$86))","v":" "},null,null,null,null,null,null,null,null,null,null,null,null,null,null,null,null,null,null,null,null,null,null,null,null,null,null,null,null,null,null,null,null,null,{"$f":"IF(AX33=\"\",\"\",\">\")","v":""},{"$f":"IF('IND 4.2.1'!C101+'IND 4.2.1'!D101+'IND 4.2.1'!G101+'IND 4.2.1'!H101=0,\"\",\nIF(D69+D70+D71<=100,\nIF('IND 4.2.1'!C101+'IND 4.2.1'!D101+'IND 4.2.1'!G101+'IND 4.2.1'!H101<2,('IND 4.2.1'!C101+'IND 4.2.1'!D101+'IND 4.2.1'!G101+'IND 4.2.1'!H101)&\" accident du travail pour \",('IND 4.2.1'!C101+'IND 4.2.1'!D101+'IND 4.2.1'!G101+'IND 4.2.1'!H101)&\" accidents du travail pour \")&IF(D69+D70+D71<1,D69+D70+D71 &\" agent en position d'activité au 31 décembre 2019\",D69+D70+D71&\" agents en position d'activité au 31 décembre 2019\"),IF(ROUND((('IND 4.2.1'!C101+'IND 4.2.1'!D101+'IND 4.2.1'!G101+'IND 4.2.1'!H101)/(D69+D70+D71))*100,1)<2,ROUND((('IND 4.2.1'!C101+'IND 4.2.1'!D101+'IND 4.2.1'!G101+'IND 4.2.1'!H101)/(D69+D70+D71))*100,1)&\" accident du travail pour 100 agents\",ROUND((('IND 4.2.1'!C101+'IND 4.2.1'!D101+'IND 4.2.1'!G101+'IND 4.2.1'!H101)/(D69+D70+D71))*100,1)&\" accidents du travail pour 100 agents\")))","v":""},null,null,null,null,null,null,null,null,null,null,null,null,null,null,null,null,null,{"$f":"IF('IND 7.1.1-7.1.3'!$B$21=\"Oui\",\"La collectivité cotise auprès d'un Comité d'Œuvres Sociales\",\"La collectivité ne cotise pas auprès d'un Comité d'Œuvres Sociales\")","v":"La collectivité ne cotise pas auprès d'un Comité d'Œuvres Sociales"},null,null,null,null,"Æ","En raison de certains arrondis, la somme des pourcentages peut ne pas être égale à 100 %",null,null,null,null,null,null,null,null,null,null,null,null,null,null,null,null,null,null,null,null,null,null,null,null,null,null,null,null,null,null,null,null,null,null,null,null,null,null,null,null,null,null,null,null,null,null,null,null,null,null,null,null,null,null,null,null,null,null,null,null,null,null,null,null,null,null,null,null,null,null,null,null,null,null,null,null,null,null,null,null,null,null,null,null,null,null,null,null,null,null,null,null,null,null,null,null,null,null,null,null,null,null,null,null,null,null,null,null,null,null,null,null,null,null,null,null,null,10,"Champagne","Centre de Gestion de l'Aube",null,null,"Sages-femmes",{"$f":"'IND 1.1.1'!I221","v":0},{"$f":"'IND 1.2.1'!K56","v":0},0,{"$f":"RANK(GR33,$GR$1:$GR$58,0)+COUNTIF(GR$1:GR33,GR33)-1","v":32},32,{"$error":"#DIV/0!"},"Sages-femmes","A",0,0,0]
[null,null,null,null,null,null,null,null,null,null,null,null,null,null,null,null,null,null,null,null,null,null,null,null,{"$f":"IF((AF64+AG64+AF67+AG67)=0,\"\",TEXT(AA76*100,\"##0,0\")&\" % des hommes nommés suite à la réussite à un examen professionnel contre \"&TEXT(AB76*100,\"##0,0\")&\" % des femmes\")","v":""},null,null,null,null,"Æ",{"$f":"IF((B20+B21)=0,\" \",IF(SUM('IND 1.5.7'!$B$8:$C$10)=0,\"Aucun agent n'a bénéficiéd'un accompagnement par un conseiller en évolution professionnelle\",IF(SUM('IND 1.5.7'!$B$8:$C$10)=1,\"Un agent a bénéficié d'un accompagnement par un conseiller en évolution professionnelle\",SUM('IND 1.5.7'!$B$8:$C$10)& \" agents ont bénéficié d'un accompagnement par un conseiller en évolution professionnelle\")))","v":" "},null,null,null,"Æ",{"$f":"IF(D69+D70=0,\"Aucun agent dans la collectivité\",IF(D69+D70=1,\"La collectivité consacre \" &TEXT((AP10/AL6)*100,\"##,0\")&\" % de son budget de fonctionnement à la rémunération de l'agent permanent\",IF(AP12=0,\"La collectivité consacre \" &TEXT((AP10/AL6)*100,\"##,0\")&\" % de son budget de fonctionnement à la rémunération des agents permanents\",\"La part du régime indemnitaire sur les rémunérations annuelles brutes pour l'ensemble des agents permanents est de \" & (ROUND(AN44, 4))*100 & \" %\")))","v":"Aucun agent dans la collectivité"},null,null,null,null,null,null,null,null,null,null,null,null,null,null,null,null,null,null,null,{"$f":"IF('IND 4.1.1-4.1.2'!B10=0,\" \",IF('IND 4.1.1-4.1.2'!B10<2,'IND 4.1.1-4.1.2'!B10&\" conseiller de prévention \",'IND 4.1.1-4.1.2'!B10&\" conseillers de prévention\"))","v":" "},null,null,null,null,null,{"$f":"IF('IND 7.1.4'!$B$27+'IND 7.1.4'!$C$27=0,\"\",\"Montants annuels\")","v":""},null,null,{"$f":"IF(BM36=\"\",\"\",\"Santé\")","v":""},{"$f":"IF(BN36=\"\",\" \",\"Prévoyance\")","v":" "},null,null,null,null,null,null,null,null,null,null,null,null,null,null,null,null,null,null,null,null,null,null,null,null,null,null,null,null,null,null,null,null,null,null,null,null,null,null,null,null,null,null,null,null,null,null,null,null,null,null,null,null,null,null,null,null,null,null,null,null,null,null,null,null,null,null,null,null,null,null,null,null,null,null,null,null,null,null,null,null,null,null,null,null,null,null,null,null,null,null,null,null,null,null,null,null,null,null,null,null,null,null,null,null,null,null,null,null,null,null,null,null,null,null,null,null,null,null,null,null,null,null,null,null,null,51,"Champagne","Centre de Gestion de la Marne",null,null,"CADRES DE SANTE PARAMEDICAUX",{"$f":"'IND 1.1.1'!I227","v":0},{"$f":"'IND 1.2.1'!K57","v":0},0,{"$f":"RANK(GR34,$GR$1:$GR$58,0)+COUNTIF(GR$1:GR34,GR34)-1","v":33},33,{"$error":"#DIV/0!"},"CADRES DE SANTE PARAMEDICAUX","A",0,0,0]
["Æ",{"$f":"IF(D69+D70+D71<2,\"Répartition par filière\",\"Répartition par filière et par statut\")","v":"Répartition par filière"},null,null,null,null,"Æ",{"$f":"IF(D69+D70+D71<2,\"Répartition par catégorie\",\"Répartition des agents par catégorie\")","v":"Répartition par catégorie"},null,null,null,null,null,null,null,null,null,null,null,null,null,null,null,null,null,null,null,null,null,null,null,null,null,null,null,null,null,null,null,null,null,null,null,null,null,null,null,null,{"$f":"IF(OR(AX35=\"\",AX35=\" \"),\"\",\">\")","v":""},{"$f":"IF('IND 4.2.1'!C101+'IND 4.2.1'!D101+'IND 4.2.1'!G101+'IND 4.2.1'!H101=0,\"\",\n\n(IF('IND 4.2.1'!C101+'IND 4.2.1'!D101+'IND 4.2.1'!G101+'IND 4.2.1'!H101<2,\" \",IF('IND 4.2.1'!C101+'IND 4.2.1'!D101+'IND 4.2.1'!G101+'IND 4.2.1'!H101=0,\"Les accidents de travail déclarés en 2019 n'ont été suivis d'aucun jour d'arrêt de travail\",\n\nIF(('IND 4.2.1'!K101+'IND 4.2.1'!L101+'IND 4.2.1'!M101+'IND 4.2.1'!N101)/('IND 4.2.1'!C101+'IND 4.2.1'!D101+'IND 4.2.1'!G101+'IND 4.2.1'!H101)>1, \"En moyenne, \"&\nROUND(('IND 4.2.1'!K101+'IND 4.2.1'!L101+'IND 4.2.1'!M101+'IND 4.2.1'!N101)/('IND 4.2.1'!C101+'IND 4.2.1'!D101+'IND 4.2.1'!G101+'IND 4.2.1'!H101),0)&\" jours d'absence consécutifs par accident du travail\", \"En moyenne, \"&ROUND(('IND 4.2.1'!K101+'IND 4.2.1'!L101+'IND 4.2.1'!M101+'IND 4.2.1'!N101)/('IND 4.2.1'!C101+'IND 4.2.1'!D101+'IND 4.2.1'!G101+'IND 4.2.1'!H101),0)&\" jour d'absence consécutif par accident du travail\")))))","v":""},null,null,null,null,null,null,null,null,null,null,null,null,null,null,null,null,null,null,null,null,null,null,null,null,null,null,null,null,null,null,null,null,null,null,null,null,null,null,null,null,null,null,null,null,null,null,null,null,null,null,null,null,null,null,null,null,null,null,null,null,null,null,null,null,null,null,null,null,null,null,null,null,null,null,null,null,null,null,null,null,null,null,null,null,null,null,null,null,null,null,null,null,null,null,null,null,null,null,null,null,null,null,null,null,null,null,null,null,null,null,null,null,null,null,null,null,null,null,null,null,null,null,null,null,null,null,null,null,null,null,null,null,null,null,null,null,null,null,null,null,null,52,"Champagne","Centre de Gestion de Haute-Marne",null,null,"Puéricultrices cadres de santé",{"$f":"'IND 1.1.1'!I231","v":0},{"$f":"'IND 1.2.1'!K58","v":0},0,{"$f":"RANK(GR35,$GR$1:$GR$58,0)+COUNTIF(GR$1:GR35,GR35)-1","v":34},34,{"$error":"#DIV/0!"},"Puéricultrices cadres de santé","A",0,0,0]
[null,null,null,null,null,null,null,null,null,null,null,null,{"$f":"IF(D71<2,\"Tranche d'âge\",\"Âge moyen* \"&CHAR(10)&\"des agents non permanent\")","v":"Tranche d'âge"},null,null,null,null,null,null,null,null,null,null,null,null,null,null,null,null,null,null,null,null,null,null,null,null,null,null,null,null,null,null,null,null,null,null,null,null,null,null,null,null,null,"Æ","FORMATION ",null,null,null,null,null,{"$f":"IF('IND 7.1.4'!$B$27+'IND 7.1.4'!$C$27=0,\"\",\"Montant global des participations\")","v":""},null,null,{"$f":"IF('IND 7.1.4'!$B$27=0,\"\",TEXT('IND 7.1.4'!$B$27,\"# ### ### €\"))","v":""},{"$f":"IF('IND 7.1.4'!$C$27=0,\"\",TEXT('IND 7.1.4'!$C$27,\"# ### ### €\"))","v":""},null,{"$f":"IF(OR(BV73=\"Non\",BV73=\"(vide)\",BV73=\"Ne sait pas\"), \"Aucune prestation sociale servie directement aux agents n'est prévue\", \"La collectivité a mis en place des prestations sociales servies directement aux agents \")","v":"Aucune prestation sociale servie directement aux agents n'est prévue"},null,null,null,null,null,null,null,null,null,null,null,null,null,null,null,null,null,null,null,null,null,null,null,null,null,null,null,null,null,null,null,null,null,null,null,null,null,null,null,null,null,null,null,null,null,null,null,null,null,null,null,null,null,null,null,null,null,null,null,null,null,null,null,null,null,null,null,null,null,null,null,null,null,null,null,null,null,null,null,null,null,null,null,null,null,null,null,null,null,null,null,null,null,null,null,null,null,null,null,null,null,null,null,null,null,null,null,null,null,null,null,null,null,null,null,null,null,null,null,null,null,null,null,"2A","Corse","Centre de Gestion de Corse du Sud",null,null,"PUERICULTRICES (décret n° 92-859 du 28 août 1992 modifié) *",{"$f":"'IND 1.1.1'!I235+'IND 1.1.1'!I241","v":0},{"$f":"'IND 1.2.1'!K59","v":0},0,{"$f":"RANK(GR36,$GR$1:$GR$58,0)+COUNTIF(GR$1:GR36,GR36)-1","v":35},35,{"$error":"#DIV/0!"},"PUERICULTRICES (décret n° 92-859 du 28 août 1992 modifié) *","A",0,0,0]
["Filière",null,null,"Titulaire","Contractuel","Tous",null,null,null,null,null,null,null,null,null,null,null,null,null,null,null,null,null,null,null,null,null,null,null,null,null,null,null,null,null,{"$f":"\"Part du régime indemnitaire\" & CHAR(10)&\" sur les rémunérations :\"","v":"Part du régime indemnitaire\n sur les rémunérations :"},null,null,null,null,null,null,"Part du régime indemnitaire sur les rémunérations par catégorie et par statut",null,null,null,null,null,null,null,null,null,null,null,null,{"$f":"IF(SUM('IND 4.1.1-4.1.2'!C26:C28)=0,\"Aucune formation liée à la prévention n'a été suivie\",IF(SUM('IND 4.1.1-4.1.2'!C26:C28)>1,SUM('IND 4.1.1-4.1.2'!C26:C28)&\" jours de formation liés à la prévention (habilitations et formations obligatoires)\",SUM('IND 4.1.1-4.1.2'!C26:C28)&\" jour de formation lié à la prévention (habilitation ou formation obligatoire)\"))","v":"Aucune formation liée à la prévention n'a été suivie"},null,null,null,null,null,null,null,null,null,null,null,null,null,null,null,null,null,null,null,null,null,null,null,null,null,null,null,null,null,null,null,null,null,null,null,null,null,null,null,null,null,null,null,null,null,null,null,null,null,null,null,null,null,null,null,null,null,null,null,null,null,null,null,null,null,null,null,null,null,null,null,null,null,null,null,null,null,null,null,null,null,null,null,null,null,null,null,null,null,null,null,null,null,null,null,null,null,null,null,null,null,null,null,null,null,null,null,null,null,null,null,null,null,null,null,null,null,null,null,null,null,null,null,null,null,null,null,null,null,null,null,null,null,null,null,"2B","Corse","Centre de Gestion de la Haute-Corse",null,null,null,null,null,null,{"$f":"RANK(GR37,$GR$1:$GR$58,0)+COUNTIF(GR$1:GR37,GR37)-1","v":35},null,{"$error":"#DIV/0!"},null,null,0,0,0]
["Administrative",null,null,{"$f":"IFERROR('IND 1.1.1'!$I$49/$D$69,\"\")","v":""},{"$f":"IFERROR('IND 1.2.1'!K20/$D$70,\"\")","v":""},{"$f":"IFERROR(('IND 1.1.1'!I49+'IND 1.2.1'!K20)/(synthese!$D$69+synthese!$D$70),\"\")","v":""},null,null,null,null,null,null,{"$f":"IF($J$85=0,\" \",IF(D71<2,\"Contractuel non permanent\",\"Contractuels non permanents\"))","v":" "},null,{"$f":"IF($J$85=0,\" \",IF(D71<2,\"de \"&$J$86-2.5&\" à \"&$J$86+2.5,$J$86))","v":" "},null,null,null,null,null,null,null,null,"Æ",{"$f":"IF(B20=0,\" \",IF('IND 1.5.4-1.5.5'!$B$26+'IND 1.5.4-1.5.5'!$C$26=0,\"Aucun avancement d'échelon\",IF('IND 1.5.4-1.5.5'!$B$26+'IND 1.5.4-1.5.5'!$C$26=1,\"Un avancement d'échelon\",'IND 1.5.4-1.5.5'!$B$26+'IND 1.5.4-1.5.5'!$C$26& \" avancements d'échelon\")))","v":" "},null,null,null,null,null,{"$f":"IF(SUM('IND 1.5.7'!$B$8:$C$10)=0,\"\",\"dont \"&TEXT(AG74*100,\"##0,0\")&\" % femmes et \"&TEXT(AF74*100,\"##0,0\")&\" % hommes\")","v":""},null,null,null,null,null,null,null,null,null,null,null,null,null,null,null,null,null,null,null,null,null,null,null,null,null,null,null,null,null,null,null,null,null,null,null,null,null,null,null,null,null,null,"Cette fiche synthétique reprend les principaux indicateurs sociaux issus du Bilan Social 2019. Les données utilisées sont extraites du Rapport sur l'État de la Collectivité 2019 transmis en 2020 par la collectivité. Ces données ont pour objectif de bénéficier d'une vue d'ensemble sur les effectifs de la collectivité. ",null,null,null,null,null,null,null,null,null,null,null,null,null,null,null,null,null,null,null,null,null,null,null,null,null,null,null,null,null,null,null,null,null,null,null,null,null,null,null,null,null,null,null,null,null,null,null,null,null,null,null,null,null,null,null,null,null,null,null,null,null,null,null,null,null,null,null,null,null,null,null,null,null,null,null,null,null,null,null,null,null,null,null,null,null,null,null,null,null,null,null,null,null,null,null,null,null,null,null,null,null,null,null,null,null,null,null,null,null,null,null,null,null,null,null,null,null,25,"Franche-Comté","Centre de Gestion du Doubs",null,null,"Cadres de santé infirmiers, rééducateurs et assistants médico-techniques",{"$f":"'IND 1.1.1'!I244","v":0},{"$f":"'IND 1.2.1'!K60","v":0},0,{"$f":"RANK(GR38,$GR$1:$GR$58,0)+COUNTIF(GR$1:GR38,GR38)-1","v":36},36,{"$error":"#DIV/0!"},"Cadres de santé infirmiers, rééducateurs et assistants médico-techniques","A",0,0,0]
["Technique",null,null,{"$f":"IFERROR('IND 1.1.1'!$I$90/$D$69,\"\")","v":""},{"$f":"IFERROR('IND 1.2.1'!K28/$D$70,\"\")","v":""},{"$f":"IFERROR(('IND 1.1.1'!I90+'IND 1.2.1'!K28)/(synthese!$D$69+synthese!$D$70),\"\")","v":""},null,null,null,null,null,null,null,null,null,null,null,null,null,"* L'âge moyen est calculé sur la base des tranches d'âge",null,null,null,null,null,null,null,null,null,null,{"$f":"IF(SUM('IND 1.5.7'!$B$8:$C$10)=0,\"\",\"dont \"&TEXT(AH80*100,\"##0,0\")&\" % de catégorie C\")","v":""},null,null,null,null,null,null,null,null,null,null,null,null,null,null,null,null,null,null,null,null,null,null,null,null,null,null,null,null,null,null,{"$f":"IF(OR('IND 7.1.4'!$B$27+'IND 7.1.4'!$C$27=0,'IND 7.1.4'!$B$20+'IND 7.1.4'!$C$20=0),\"\",\"Montant moyen par bénéficiaire\")","v":""},null,null,{"$f":"IF('IND 7.1.4'!$B$20=0,\" \",IF('IND 7.1.4'!$B$27=0, \"\",TEXT(ROUND('IND 7.1.4'!$B$27/'IND 7.1.4'!$B$20,0),\"# ### ### €\")))","v":" "},{"$f":"IF('IND 7.1.4'!$C$20=0,\"\",IF('IND 7.1.4'!$C$27=0, \"\",TEXT(ROUND('IND 7.1.4'!$C$27/'IND 7.1.4'!$C$20,0),\"# ### ### €\")))","v":""},null,"(ex. : restauration, chèques vacances…) ",null,null,null,null,null,null,null,null,null,null,null,null,null,null,null,null,null,null,null,null,null,null,null,null,null,null,null,null,null,null,null,null,null,null,null,null,null,null,null,null,null,null,null,null,null,null,null,null,null,null,null,null,null,null,null,null,null,null,null,null,null,null,null,null,null,null,null,null,null,null,null,null,null,null,null,null,null,null,null,null,null,null,null,null,null,null,null,null,null,null,null,null,null,null,null,null,null,null,null,null,null,null,null,null,null,null,null,null,null,null,null,null,null,null,null,null,null,null,null,null,null,null,null,39,"Franche-Comté","Centre de Gestion du Jura",null,null,"Infirmiers en soins généraux",{"$f":"'IND 1.1.1'!I250","v":0},{"$f":"'IND 1.2.1'!K61","v":0},0,{"$f":"RANK(GR39,$GR$1:$GR$58,0)+COUNTIF(GR$1:GR39,GR39)-1","v":37},37,{"$error":"#DIV/0!"},"Infirmiers en soins généraux","A",0,0,0]
["Culturelle",null,null,{"$f":"IFERROR('IND 1.1.1'!$I$145/$D$69,\"\")","v":""},{"$f":"IFERROR('IND 1.2.1'!K39/$D$70,\"\")","v":""},{"$f":"IFERROR(('IND 1.1.1'!I145+'IND 1.2.1'!K39)/(synthese!$D$69+synthese!$D$70),\"\")","v":""},null,null,null,null,null,null,null,null,null,null,null,null,null,null,null,null,null,null,null,null,null,null,null,null,null,null,null,null,null,{"$f":"IF(AP72=0, \" \",\"Fonctionnaires\")","v":" "},null,null,null,{"$f":"IF(AP72=0,\" \",AS72)","v":" "},null,null,null,null,null,null,null,null,null,null,null,null,null,null,null,{"$f":"IF($BG$40=\" \",\" \",\"Coût total des formations :\")","v":" "},null,null,{"$f":"IF(SUM('IND 4.1.1-4.1.2'!B26:B28)=0,\" \",SUM('IND 4.1.1-4.1.2'!B26:B28))","v":" "},null,null,null,null,null,null,null,null,null,null,null,null,null,null,null,null,null,null,null,null,null,null,null,null,null,null,null,null,null,null,null,null,null,null,null,null,null,null,null,null,null,null,null,null,null,null,null,null,null,null,null,null,null,null,null,null,null,null,null,null,null,null,null,null,null,null,null,null,null,null,null,null,null,null,null,null,null,null,null,null,null,null,null,null,null,null,null,null,null,null,null,null,null,null,null,null,null,null,null,null,null,null,null,null,null,null,null,null,null,null,null,null,null,null,null,null,null,null,null,null,null,null,null,null,null,null,null,null,null,null,null,null,70,"Franche-Comté","Centre de Gestion de Haute-Saône",null,null,"Infirmiers",{"$f":"'IND 1.1.1'!I254","v":0},{"$f":"'IND 1.2.1'!K62","v":0},0,{"$f":"RANK(GR40,$GR$1:$GR$58,0)+COUNTIF(GR$1:GR40,GR40)-1","v":38},38,{"$error":"#DIV/0!"},"Infirmiers","B",0,0,0]
["Sportive",null,null,{"$f":"IFERROR('IND 1.1.1'!$I$166/$D$69,\"\")","v":""},{"$f":"IFERROR('IND 1.2.1'!K44/$D$70,\"\")","v":""},{"$f":"IFERROR(('IND 1.1.1'!I166+'IND 1.2.1'!K44)/(synthese!$D$69+synthese!$D$70),\"\")","v":""},null,null,null,null,null,null,null,null,null,null,null,null,null,null,null,null,null,null,null,null,null,null,null,null,null,null,null,null,null,null,null,null,null,null,null,null,null,null,null,null,null,null,null,null,null,null,null,null,null,{"$f":"IF($BG$40=\" \",\" \",\"Coût par jour de formation :\")","v":" "},null,null,{"$f":"IF($BG$40=\" \",\" \",(IF(SUM('IND 4.1.1-4.1.2'!B26:B28)/SUM('IND 4.1.1-4.1.2'!C26:C28)=$BG$40,\"-      \",SUM('IND 4.1.1-4.1.2'!B26:B28)/SUM('IND 4.1.1-4.1.2'!C26:C28))))","v":" "},null,null,null,null,null,null,null,null,null,null,null,null,null,null,null,null,null,null,null,null,null,null,null,null,null,null,null,null,null,null,null,null,null,null,null,null,null,null,null,null,null,null,null,null,null,null,null,null,null,null,null,null,null,null,null,null,null,null,null,null,null,null,null,null,null,null,null,null,null,null,null,null,null,null,null,null,null,null,null,null,null,null,null,null,null,null,null,null,null,null,null,null,null,null,null,null,null,null,null,null,null,null,null,null,null,null,null,null,null,null,null,null,null,null,null,null,null,null,null,null,null,null,null,null,null,null,null,null,null,null,null,null,90,"Franche-Comté","Centre de Gestion du Territoire-de-Belfort",null,null,"Auxiliaires de puériculture",{"$f":"'IND 1.1.1'!I259","v":0},{"$f":"'IND 1.2.1'!K63","v":0},0,{"$f":"RANK(GR41,$GR$1:$GR$58,0)+COUNTIF(GR$1:GR41,GR41)-1","v":39},39,{"$error":"#DIV/0!"},"Auxiliaires de puériculture","C",0,0,0]
["Médico-sociale",null,null,{"$f":"IFERROR(('IND 1.1.1'!$I$266+'IND 1.1.1'!$I$280+'IND 1.1.1'!$I$204)/$D$69,\"\")","v":""},{"$f":"IFERROR(('IND 1.2.1'!K52+'IND 1.2.1'!K65+'IND 1.2.1'!K69)/$D$70,\"\")","v":""},{"$f":"IFERROR(('IND 1.1.1'!$I$266+'IND 1.1.1'!$I$280+'IND 1.1.1'!$I$204+('IND 1.2.1'!K52+'IND 1.2.1'!K65+'IND 1.2.1'!K69))/(synthese!$D$69+synthese!$D$70),\"\")","v":""},null,null,null,null,null,null,null,null,null,null,null,null,null,null,null,null,null,null,null,null,null,null,null,null,null,null,null,null,null,{"$f":"IF(AR72=0,\" \",\"Contractuels sur emplois permanents\")","v":" "},null,null,null,{"$f":"IF(AR72=0,\" \",AT72)","v":" "},null,null,null,null,null,null,null,null,null,null,null,null,null,null,null,null,null,null,null,null,null,null,null,null,null,null,null,null,null,null,null,null,null,null,null,null,null,null,null,null,null,null,null,null,null,null,null,null,null,null,null,null,null,null,null,null,null,null,null,null,null,null,null,null,null,null,null,null,null,null,null,null,null,null,null,null,null,null,null,null,null,null,null,null,null,null,null,null,null,null,null,null,null,null,null,null,null,null,null,null,null,null,null,null,null,null,null,null,null,null,null,null,null,null,null,null,null,null,null,null,null,null,null,null,null,null,null,null,null,null,null,null,null,null,null,null,null,null,null,null,null,null,null,null,null,null,null,null,null,null,null,27,"Haute-Normandie","Centre de Gestion de l'Eure",null,null,"Auxiliaires de soins",{"$f":"'IND 1.1.1'!I264","v":0},{"$f":"'IND 1.2.1'!K64","v":0},0,{"$f":"RANK(GR42,$GR$1:$GR$58,0)+COUNTIF(GR$1:GR42,GR42)-1","v":40},40,{"$error":"#DIV/0!"},"Auxiliaires de soins","C",0,0,0]
["Police",null,null,{"$f":"IFERROR('IND 1.1.1'!$I$305/$D$69,\"\")","v":""},{"$f":"IFERROR('IND 1.2.1'!K75/$D$70,\"\")","v":""},{"$f":"IFERROR(('IND 1.1.1'!I305+'IND 1.2.1'!K75)/(synthese!$D$69+synthese!$D$70),\"\")","v":""},null,null,null,null,null,"Æ",{"$f":"TEXT('IND 1.1.4'!$C$72+'IND 1.1.4'!$D$72+'IND 1.2.4'!$C$71+'IND 1.2.4'!$D$71+'IND 1.3.1'!$F$83,\"# ##0,00\")&IF('IND 1.1.4'!$C$72+'IND 1.1.4'!$D$72+'IND 1.2.4'!$C$71+'IND 1.2.4'!$D$71+'IND 1.3.1'!$F$83<2,\" agent en Equivalent Temps Plein Rémunéré (ETPR) sur l'année 2019\",\" agents en Equivalent Temps Plein Rémunéré (ETPR) sur l'année 2019\")","v":"0,00 agent en Equivalent Temps Plein Rémunéré (ETPR) sur l'année 2019"},null,null,null,null,null,null,null,null,null,null,"Æ",{"$f":"IF(SUM('IND 6.1.4'!$B$11:$C$11,'IND 6.1.4'!$B$15:$C$15,'IND 6.1.4'!$B$19:$C$19,'IND 6.1.4'!$B$22:$C$22,'IND 6.1.4'!$B$29:$B$33,'IND 6.1.4'!$C$29:$C$33,'IND 6.1.4'!$B$38:$C$41)=0,\"Aucune sanction disciplinaire prononcée en 2019\",IF(SUM('IND 6.1.4'!$B$11:$C$11,'IND 6.1.4'!$B$15:$C$15,'IND 6.1.4'!$B$19:$C$19,'IND 6.1.4'!$B$22:$C$22,'IND 6.1.4'!$B$29:$B$33,'IND 6.1.4'!$C$29:$C$33,'IND 6.1.4'!$B$38:$C$41)=1,\"Une sanction disciplinaire prononcée en 2019\",SUM('IND 6.1.4'!$B$11:$C$11,'IND 6.1.4'!$B$15:$C$15,'IND 6.1.4'!$B$19:$C$19,'IND 6.1.4'!$B$22:$C$22,'IND 6.1.4'!$B$29:$B$33,'IND 6.1.4'!$C$29:$C$33,'IND 6.1.4'!$B$38:$C$41)&\" sanctions disciplinaires prononcées en 2019\"))","v":"Aucune sanction disciplinaire prononcée en 2019"},null,null,null,null,null,null,null,null,null,null,null,null,null,null,null,null,null,null,null,null,null,null,null,"Seules les collectivités de plus de 20 agents équivalent temps plein sont soumises à l'obligation d'emploi de travailleurs handicapés à hauteur de 6 % des effectifs.",null,null,null,null,null,"Æ","DÉPENSES ",null,null,null,null,null,null,null,null,null,null,null,null,null,null,null,null,null,null,null,null,"L'outil automatisé permettant la réalisation de cette synthèse a été développé par l'Observatoire de l'emploi et de la FPT de Nouvelle-Aquitaine en partenariat avec le Comité Technique des Chargés d'études des Observatoires Régionaux des Centres de Gestion.",null,null,null,null,null,null,null,null,null,null,null,null,null,null,null,null,null,null,null,null,null,null,null,null,null,null,null,null,null,null,null,null,null,null,null,null,null,null,null,null,null,null,null,null,null,null,null,null,null,null,null,null,null,null,null,null,null,null,null,null,null,null,null,null,null,null,null,null,null,null,null,null,null,null,null,null,null,null,null,null,null,null,null,null,null,null,null,null,null,null,null,null,null,null,null,null,null,null,null,null,null,null,null,null,null,null,null,null,null,null,null,null,null,null,76,"Haute-Normandie","Centre de Gestion de la Seine-Maritime",null,null,"Biologistes-vétérinaires-pharmaciens",{"$f":"'IND 1.1.1'!I273","v":0},{"$f":"'IND 1.2.1'!K67","v":0},0,{"$f":"RANK(GR43,$GR$1:$GR$58,0)+COUNTIF(GR$1:GR43,GR43)-1","v":41},41,{"$error":"#DIV/0!"},"Biologistes-vétérinaires-pharmaciens","A",0,0,0]
["Incendie",null,null,{"$f":"IFERROR('IND 1.1.1'!$I$357/$D$69,\"\")","v":""},{"$f":"IFERROR('IND 1.2.1'!K85/$D$70,\"\")","v":""},{"$f":"IFERROR(('IND 1.1.1'!I357+'IND 1.2.1'!K85)/(synthese!$D$69+synthese!$D$70),\"\")","v":""},null,null,null,null,null,null,null,null,null,null,null,null,null,null,null,null,null,null,null,null,null,null,null,null,null,null,null,null,null,{"$f":"IF($B$21+$B$20=0,\" \",\"Ensemble\")","v":" "},null,null,null,{"$f":"IF($B$21+$B$20=0,\" \",AU72)","v":" "},null,null,null,null,null,null,null,null,null,null,null,null,null,null,null,{"$f":"IF(SUM('IND 4.1.1-4.1.2'!B29:B30)=0, \"Aucune dépense en faveur de la prévention, de la sécurité et de l’amélioration des conditions de travail n'a été effectuée\",\"La collectivité a effectué des dépenses en faveur de la prévention, de la sécurité et de l’amélioration des conditions de travail\")","v":"Aucune dépense en faveur de la prévention, de la sécurité et de l’amélioration des conditions de travail n'a été effectuée"},null,null,null,null,null,null,null,null,null,null,null,null,null,null,null,null,null,null,null,null,null,null,null,null,null,null,null,null,null,null,null,null,null,null,null,null,null,null,null,null,null,null,null,null,null,null,null,null,null,null,null,null,null,null,null,null,null,null,null,null,null,null,null,null,null,null,null,null,null,null,null,null,null,null,null,null,null,null,null,null,null,null,null,null,null,null,null,null,null,null,null,null,null,null,null,null,null,null,null,null,null,null,null,null,null,null,null,null,null,null,null,null,null,null,null,null,null,null,null,null,null,null,null,null,null,null,null,null,null,null,null,null,null,null,null,75,"Ile-de-France","Centre Interdépartemental de Gestion de la Grande Couronne de la Région d'Ile-de-France",null,null,"Techniciens paramédicaux ",{"$f":"'IND 1.1.1'!I278","v":0},{"$f":"'IND 1.2.1'!K68","v":0},0,{"$f":"RANK(GR44,$GR$1:$GR$58,0)+COUNTIF(GR$1:GR44,GR44)-1","v":42},42,{"$error":"#DIV/0!"},"Techniciens paramédicaux ","B",0,0,0]
["Animation",null,null,{"$f":"IFERROR('IND 1.1.1'!$I$374/$D$69,\"\")","v":""},{"$f":"IFERROR('IND 1.2.1'!K89/$D$70,\"\")","v":""},{"$f":"IFERROR(('IND 1.1.1'!I374+'IND 1.2.1'!K89)/(synthese!$D$69+synthese!$D$70),\"\")","v":""},null,null,null,null,null,null,{"$f":"\"> \" & TEXT('IND 1.1.4'!C72+'IND 1.1.4'!D72,\"# ##0,00\")","v":"> 0,00"},null,{"$f":"IF('IND 1.1.4'!$C$72+'IND 1.1.4'!$D$72<2,\"fonctionnaire\",\"fonctionnaires\")","v":"fonctionnaire"},null,null,null,"Répartition des ETPR permanents par catégorie",null,null,null,null,null,"Nombre de sanctions prononcées concernant les fonctionnaires en 2019",null,null,null,null,null,null,null,null,null,null,null,null,null,null,null,null,null,null,null,null,null,null,null,null,null,null,null,null,null,null,null,null,null,null,null,{"$f":"\"Æ\"","v":"Æ"},"Jours de grève ",null,null,null,{"$f":"IF(BO45=\" \",\" \",\"Æ\")","v":" "},{"$f":"IF('IND 6.1.1-6.1.3'!B7=0,\" \",\"Comité Technique Local \")","v":" "},null,null,null,null,null,null,null,null,null,null,null,null,null,null,null,null,null,null,null,null,null,null,null,null,null,null,null,null,null,null,null,null,null,null,null,null,null,null,null,null,null,null,null,null,null,null,null,null,null,null,null,null,null,null,null,null,null,null,null,null,null,null,null,null,null,null,null,null,null,null,null,null,null,null,null,null,null,null,null,null,null,null,null,null,null,null,null,null,null,null,null,null,null,null,null,null,null,null,null,null,null,null,null,null,null,null,null,null,null,null,null,null,null,null,null,null,null,null,null,null,null,null,null,null,77,"Ile-de-France","Centre de Gestion de Seine-et-Marne",null,null,"Directeurs de police municipale",{"$f":"'IND 1.1.1'!I286","v":0},{"$f":"'IND 1.2.1'!K71","v":0},0,{"$f":"RANK(GR45,$GR$1:$GR$58,0)+COUNTIF(GR$1:GR45,GR45)-1","v":43},43,{"$error":"#DIV/0!"},"Directeurs de police municipale","A",0,0,0]
["Total",null,null,{"$f":"SUM($D$38:$D$45)","v":0},{"$f":"SUM($E$38:$E$45)","v":0},{"$f":"SUM($F$38:$F$45)","v":0},null,null,null,null,null,null,{"$f":"\"> \" &TEXT('IND 1.2.4'!C71+'IND 1.2.4'!D71,\"# ##0,00\")","v":"> 0,00"},null,{"$f":"IF('IND 1.2.4'!$C$71+'IND 1.2.4'!$D$71<2,\"contractuel permanent\",\"contractuels permanents\")","v":"contractuel permanent"},null,null,null,null,null,null,null,null,null,null,null,null,null,null,null,{"$f":"IF(SUM('IND 6.1.4'!$B$11:$C$11,'IND 6.1.4'!$B$15:$C$15,'IND 6.1.4'!$B$19:$C$19,'IND 6.1.4'!$B$22:$C$22,'IND 6.1.4'!$B$29:$B$33,'IND 6.1.4'!$C$29:$C$33,'IND 6.1.4'!$B$38:$C$41)=0,\"\",IF(SUM('IND 6.1.4'!$B$29:$C$33)=0,\"Aucune sanction prononcée à l'encontre de fonctionnaires stagiaires \",IF(SUM('IND 6.1.4'!$B$29:$C$33)=1,\"Une sanction prononcée  à l'encontre d'un fonctionnaire stagiaire\",SUM('IND 6.1.4'!$B$29:$C$33)&\" sanctions prononcées  à l'encontre de fonctionnaires stagiaires\")))","v":""},null,null,null,null,null,null,null,null,null,null,null,null,null,null,null,null,null,null,null,null,null,null,null,null,null,null,null,null,null,null,null,null,null,null,null,null,null,null,null,null,null,null,null,null,null,null,null,null,null,null,null,null,null,null,null,null,null,null,null,null,null,null,null,null,null,null,null,null,null,null,null,null,null,null,null,null,null,null,null,null,null,null,null,null,null,null,null,null,null,null,null,null,null,null,null,null,null,null,null,null,null,null,null,null,null,null,null,null,null,null,null,null,null,null,null,null,null,null,null,null,null,null,null,null,null,null,null,null,null,null,null,null,null,null,null,null,null,null,null,null,null,null,null,null,null,null,null,null,null,null,null,null,null,null,null,null,null,null,null,null,78,"Ile-de-France","Centre Interdépartemental de Gestion de la Grande Couronne de la Région d'Ile-de-France",null,null,"Chefs de service de police municipale",{"$f":"'IND 1.1.1'!I292","v":0},{"$f":"'IND 1.2.1'!K72","v":0},0,{"$f":"RANK(GR46,$GR$1:$GR$58,0)+COUNTIF(GR$1:GR46,GR46)-1","v":44},44,{"$error":"#DIV/0!"},"Chefs de service de police municipale","B",0,0,0]
[null,null,null,null,null,null,null,null,null,null,null,null,{"$f":"\"> \" &TEXT('IND 1.3.1'!F83,\"# ##0,00\")","v":"> 0,00"},null,{"$f":"IF('IND 1.3.1'!$F$83<2,\"contractuel non permanent\",\"contractuels non permanents\")","v":"contractuel non permanent"},null,null,null,null,null,null,null,null,null,null,null,"Hommes","Femmes",null,null,null,null,null,null,null,null,null,null,null,null,null,null,null,null,null,null,null,null,{"$f":"IF(SUM('IND 1.6.1'!B17:E19)=0,\"Aucun travailleur handicapé employé sur emploi permanent \",\n\nIF(SUM('IND 1.6.1'!B17:E19)<2,SUM('IND 1.6.1'!B17:E19) &\" travailleur handicapé employé sur emploi permanent \",\nSUM('IND 1.6.1'!B17:E19) &\" travailleurs handicapés employés sur emploi permanent \"))","v":"Aucun travailleur handicapé employé sur emploi permanent "},null,null,null,null,null,null,null,null,null,null,null,null,{"$f":"IF('IND 6.1.1-6.1.3'!B59=0,\"Aucun jour de grève recensé en 2019\",IF('IND 6.1.1-6.1.3'!B59<2,'IND 6.1.1-6.1.3'!B59&\" jour de grève recensé en 2019\",'IND 6.1.1-6.1.3'!B59&\" jours de grève recensés en 2019\"))","v":"Aucun jour de grève recensé en 2019"},null,null,null,null,{"$f":"IF('IND 6.1.1-6.1.3'!B7=0,\" \",IF('IND 6.1.1-6.1.3'!B7<2,'IND 6.1.1-6.1.3'!B7&\" réunion en 2019 dans la collectivité\",'IND 6.1.1-6.1.3'!B7&\" réunions en 2019 dans la collectivité\"))","v":" "},null,null,null,null,null,null,null,null,null,null,null,null,null,null,null,null,null,null,null,null,null,null,null,null,null,null,null,null,null,null,null,null,null,null,null,null,null,null,null,null,null,null,null,null,null,null,null,null,null,null,null,null,null,null,null,null,null,null,null,null,null,null,null,null,null,null,null,null,null,null,null,null,null,null,null,null,null,null,null,null,null,null,null,null,null,null,null,null,null,null,null,null,null,null,null,null,null,null,null,null,null,null,null,null,null,null,null,null,null,null,null,null,null,null,null,null,null,null,null,null,null,null,null,null,91,"Ile-de-France","Centre Interdépartemental de Gestion de la Grande Couronne de la Région d'Ile-de-France",null,null,"Agents de police municipale",{"$f":"'IND 1.1.1'!I298","v":0},{"$f":"'IND 1.2.1'!K73","v":0},0,{"$f":"RANK(GR47,$GR$1:$GR$58,0)+COUNTIF(GR$1:GR47,GR47)-1","v":45},45,{"$error":"#DIV/0!"},"Agents de police municipale","C",0,0,0]
["Æ","Répartition par genre et par statut",null,null,null,null,"Æ",{"$f":"IF(H52=\"\",\"Cadre d'emplois\",\"Les principaux cadres d’emplois\")","v":"Cadre d'emplois"},null,null,null,null,{"$f":"TEXT('IND 4.2.1'!$C$10,\"# ##0\") & IF('IND 4.2.1'!$C$10<2,\" heure travaillée rémunérée en 2019\",\" heures travaillées rémunérées en 2019\")","v":"0 heure travaillée rémunérée en 2019"},null,null,null,null,null,null,null,null,null,null,null,"Sanctions 1er groupe",null,{"$f":"'IND 6.1.4'!$B$11","v":0},{"$f":"'IND 6.1.4'!$C$11","v":0},null,null,null,null,null,null,{"$f":"IF($C$30=\" \",\" \",\"a\")","v":" "},{"$f":"IF(OR('IND 3.1.1-3.4.3'!$F$13=\"(vide)\",'IND 3.1.1-3.4.3'!$F$13=\"Ne sait pas\"),\"Aucune information concernant la mise en place du RIFSEEP\",IF('IND 3.1.1-3.4.3'!$F$13=\"Oui\",\"Le RIFSEEP a été mis en place pour les fonctionnaires\"&IF('IND 3.1.1-3.4.3'!$F$62=\"Oui\",\" et pour les contractuels\"&IF('IND 3.1.1-3.4.3'!$F$14=\"Oui\",\" ainsi que le CIA\",\"\"),\"\"),IF('IND 3.1.1-3.4.3'!$F$13=\"Non\",\"Le RIFSEEP n'a pas été mis en place\")))","v":"Aucune information concernant la mise en place du RIFSEEP"},null,null,null,null,null,{"$f":"IF($C$30=\" \",\" \",\"a\")","v":" "},{"$f":"IF(SUM('IND 3.4.4'!$B$86:$C$86,'IND 3.4.4'!$F$86:$G$86,'IND 3.4.4'!$H$86:$I$86,'IND 3.4.4'!$L$86:$M$86)=0,\"Aucune heure supplémentaire réalisée et rémunérée en 2019\",IF(SUM('IND 3.4.4'!$B$86:$C$86,'IND 3.4.4'!$F$86:$G$86,'IND 3.4.4'!$H$86:$I$86,'IND 3.4.4'!$L$86:$M$86)=1,\"Une heure supplémentaire réalisée et rémunérée en 2019\",SUM('IND 3.4.4'!$B$86:$C$86,'IND 3.4.4'!$F$86:$G$86,'IND 3.4.4'!$H$86:$I$86,'IND 3.4.4'!$L$86:$M$86)&\" heures supplémentaires réalisées et rémunérées en 2019\"))","v":"Aucune heure supplémentaire réalisée et rémunérée en 2019"},null,null,null,null,null,null,null,null,null,null,null,null,null,null,null,null,null,null,null,null,null,null,null,{"$f":"IF('IND 6.1.1-6.1.3'!B18=0,\"  \",IF('IND 6.1.1-6.1.3'!B18<2,'IND 6.1.1-6.1.3'!B18&\" réunion du CHSCT\",'IND 6.1.1-6.1.3'!B18&\" réunions du CHSCT\"))","v":"  "},null,null,null,null,null,null,null,null,null,null,null,null,null,null,null,null,null,null,null,null,null,null,null,null,null,null,null,null,null,null,null,null,null,null,null,null,null,null,null,null,null,null,null,null,null,null,null,null,null,null,null,null,null,null,null,null,null,null,null,null,null,null,null,null,null,null,null,null,null,null,null,null,null,null,null,null,null,null,null,null,null,null,null,null,null,null,null,null,null,null,null,null,null,null,null,null,null,null,null,null,null,null,null,null,null,null,null,null,null,null,null,null,null,null,null,null,null,null,null,null,null,null,null,null,92,"Ile-de-France","Centre Interdépartemental de Gestion de la Petite Couronne de la Région d'Ile-de-France",null,null,"Gardes-champêtres",{"$f":"'IND 1.1.1'!I303","v":0},{"$f":"'IND 1.2.1'!K74","v":0},0,{"$f":"RANK(GR48,$GR$1:$GR$58,0)+COUNTIF(GR$1:GR48,GR48)-1","v":46},46,{"$error":"#DIV/0!"},"Gardes-champêtres","C",0,0,0]
[null,null,null,null,null,null,null,null,null,null,null,null,null,null,null,null,null,null,null,null,null,null,null,null,"Sanctions 2ème groupe",null,{"$f":"'IND 6.1.4'!$B$15","v":0},{"$f":"'IND 6.1.4'!$C$15","v":0},null,null,{"$f":"IF(SUM('IND 6.1.4'!$B$11:$C$11,'IND 6.1.4'!$B$15:$C$15,'IND 6.1.4'!$B$19:$C$19,'IND 6.1.4'!$B$22:$C$22,'IND 6.1.4'!$B$29:$B$33,'IND 6.1.4'!$C$29:$C$33,'IND 6.1.4'!$B$38:$C$41)=0,\"\",IF(SUM('IND 6.1.4'!$B$38:$C$41)=0,\"Aucune sanction prononcée  à l'encontre d'agents contractuels\",IF(SUM('IND 6.1.4'!$B$38:$C$41)=1,\"Une sanction prononcée à l'encontre d'un agent contractuel \",SUM('IND 6.1.4'!$B$38:$C$41)&\" sanctions prononcées à l'encontre d'agents contractuels\")))","v":""},null,null,null,null,null,null,null,null,null,null,null,null,null,null,null,null,null,null,null,null,null,null,null,null,{"$f":"IF(SUM('IND 4.1.1-4.1.2'!B29:B30) = 0, \"  \",\"Total des dépenses : \")","v":"  "},null,null,{"$f":"IF(SUM('IND 4.1.1-4.1.2'!B29:B30)= 0, \"    \",SUM('IND 4.1.1-4.1.2'!B29:B30))","v":"    "},null,{"$f":"IF(BJ49=\" \",\" \",\"Æ\")","v":" "},{"$f":"IF('IND 6.1.1-6.1.3'!B8=0, \" \", \"Commissions Administratives Paritaires \")","v":" "},null,null,null,null,null,null,null,null,null,null,null,null,null,null,null,null,null,null,null,null,null,null,null,null,null,null,null,null,null,null,null,null,null,null,null,null,null,null,null,null,null,null,null,null,null,null,null,null,null,null,null,null,null,null,null,null,null,null,null,null,null,null,null,null,null,null,null,null,null,null,null,null,null,null,null,null,null,null,null,null,null,null,null,null,null,null,null,null,null,null,null,null,null,null,null,null,null,null,null,null,null,null,null,null,null,null,null,null,null,null,null,null,null,null,null,null,null,null,null,null,null,null,null,null,null,null,null,null,null,93,"Ile-de-France","Centre Interdépartemental de Gestion de la Petite Couronne de la Région d'Ile-de-France",null,null,"CONTRÔLEURS, COLONELS",{"$f":"'IND 1.1.1'!I312","v":0},{"$f":"'IND 1.2.1'!K77","v":0},0,{"$f":"RANK(GR49,$GR$1:$GR$58,0)+COUNTIF(GR$1:GR49,GR49)-1","v":47},47,{"$error":"#DIV/0!"},"CONTRÔLEURS, COLONELS","A",0,0,0]
[null,null,null,null,null,null,null,"Cadres d'emplois",null,null,"% d'agents",null,null,null,null,null,null,null,null,null,null,null,null,null,"Sanctions 3ème groupe",null,{"$f":"'IND 6.1.4'!$B$19","v":0},{"$f":"'IND 6.1.4'!$C$19","v":0},null,null,null,null,null,null,{"$f":"IF($C$30=\" \",\" \",\"a\")","v":" "},{"$f":"IF('IND 3.1.1-3.4.3'!$F$145=\"Oui\",\"Les primes sont maintenues en cas de congé de maladie ordinaire\",IF('IND 3.1.1-3.4.3'!$F$145=\"Non\",\"Les primes ne pas sont maintenues en cas de congé de maladie ordinaire\",\"Aucune information sur le maintien des primes en cas de congé de maladie ordinaire\"))","v":"Aucune information sur le maintien des primes en cas de congé de maladie ordinaire"},null,null,null,null,null,{"$f":"IF($C$30=\" \",\" \",\"a\")","v":" "},{"$f":"IF(SUM('IND 3.4.4'!$D$86:$E$86,'IND 3.4.4'!$J$86:$K$86)=0,\"Aucune heure complémentaire réalisée et rémunérée en 2019\",IF(SUM('IND 3.4.4'!$D$86:$E$86,'IND 3.4.4'!$J$86:$K$86)=1,\"Une heure complémentaire réalisée et rémunérée en 2019\",SUM('IND 3.4.4'!$D$86:$E$86,'IND 3.4.4'!$J$86:$K$86)&\" heures complémentaires réalisées et rémunérées en 2019\"))","v":"Aucune heure complémentaire réalisée et rémunérée en 2019"},null,null,null,null,null,{"$f":"IF(AX50=\" \",\" \",\"a\")","v":"a"},{"$f":"IF(SUM('IND 1.6.1'!B27:C27)=0, \"Aucun travailleur handicapé recruté sur emploi non permanent\",IF(SUM('IND 1.6.1'!B27:C27)<2,SUM('IND 1.6.1'!B27:C27)& \" travailleur handicapé recruté sur emploi non permanent\",SUM('IND 1.6.1'!B27:C27) & \" travailleurs handicapés recrutés sur emploi non permanent\"))","v":"Aucun travailleur handicapé recruté sur emploi non permanent"},null,null,null,null,null,null,null,null,null,null,null,null,null,null,null,null,null,null,null,null,null,null,null,null,null,"Date de publication :",null,{"$f":"TODAY()","v":"2020-10-14"},null,null,null,"Version 16",null,null,null,null,null,null,null,null,null,null,null,null,null,null,null,null,null,null,null,null,null,null,null,null,null,null,null,null,null,null,null,null,null,null,null,null,null,null,null,null,null,null,null,null,null,null,null,null,null,null,null,null,null,null,null,null,null,null,null,null,null,null,null,null,null,null,null,null,null,null,null,null,null,null,null,null,null,null,null,null,null,null,null,null,null,null,null,null,null,null,null,null,null,null,null,null,null,null,null,null,null,null,null,null,null,null,null,null,null,94,"Ile-de-France","Centre Interdépartemental de Gestion de la Petite Couronne de la Région d'Ile-de-France",null,null,"Capitaines, commandants, lieutenants-colonels, colonels",{"$f":"'IND 1.1.1'!I318","v":0},{"$f":"'IND 1.2.1'!K78","v":0},0,{"$f":"RANK(GR50,$GR$1:$GR$58,0)+COUNTIF(GR$1:GR50,GR50)-1","v":48},48,{"$error":"#DIV/0!"},"Capitaines, commandants, lieutenants-colonels, colonels","A",0,0,0]
[null,null,null,null,null,null,null,{"$f":"IF(OR(K51=0,K51=\"\"),\"\",VLOOKUP(1,$GT$2:$GV$60,3,FALSE))","v":""},null,null,{"$f":"IF(D69+D70=0,\"\",VLOOKUP(1,$GT$2:$GU$60,2,FALSE))","v":""},null,null,null,null,null,null,{"$f":"U134&U120&U112&U108","v":""},null,null,null,null,null,null,"Sanctions 4ème groupe",null,{"$f":"'IND 6.1.4'!$B$22","v":0},{"$f":"'IND 6.1.4'!$C$22","v":0},null,null,null,null,null,null,null,null,null,null,null,null,null,null,null,null,null,null,null,null,null,null,null,null,null,null,{"$f":"IF(BD52=\" \",\" \",\"Æ\")","v":" "},{"$f":"IF(BD52=\" \",\" \",\"DOCUMENT DE PRÉVENTION\")","v":" "},null,null,null,null,{"$f":"IF(BJ53=\" \",\" \",\"Æ\")","v":" "},{"$f":"IF('IND 6.1.1-6.1.3'!B8=0,\" \",IF('IND 6.1.1-6.1.3'!B8<2,'IND 6.1.1-6.1.3'!B8&\" réunion en 2019 dans la collectivité\",'IND 6.1.1-6.1.3'!B8&\" réunions en 2019 dans la collectivité\"))","v":" "},null,null,null,null,null,null,null,null,null,null,null,null,null,null,null,null,null,null,null,null,null,null,null,null,null,null,null,null,null,null,null,null,null,null,null,null,null,null,null,null,null,null,null,null,null,null,null,null,null,null,null,null,null,null,null,null,null,null,null,null,null,null,null,null,null,null,null,null,null,null,null,null,null,null,null,null,null,null,null,null,null,null,null,null,null,null,null,null,null,null,null,null,null,null,null,null,null,null,null,null,null,null,null,null,null,null,null,null,null,null,null,null,null,null,null,null,null,null,null,null,null,null,null,null,null,null,null,null,null,95,"Ile-de-France","Centre Interdépartemental de Gestion de la Grande Couronne de la Région d'Ile-de-France",null,null,"Médecins, pharmaciens",{"$f":"'IND 1.1.1'!I324","v":0},{"$f":"'IND 1.2.1'!K79","v":0},0,{"$f":"RANK(GR51,$GR$1:$GR$58,0)+COUNTIF(GR$1:GR51,GR51)-1","v":49},49,{"$error":"#DIV/0!"},"Médecins, pharmaciens","A",0,0,0]
[null,null,null,null,null,null,null,{"$f":"IF(OR(K52=0,K52=\"\"),\"\",VLOOKUP(2,$GT$2:$GV$60,3,FALSE))","v":""},null,null,{"$f":"IF(D69+D70=0,\"\",VLOOKUP(2,$GT$2:$GU$60,2,FALSE))","v":""},null,{"$f":"IF(U147&U126&U105&U106=\"\",\"Aucune position particulière\",U147&U126&U105&U106)","v":"Aucune position particulière"},null,null,null,null,null,null,null,null,null,null,null,null,null,null,null,null,null,null,null,null,null,null,null,null,null,null,null,null,null,null,null,null,null,null,null,{"$f":"IF(AX52=\" \",\" \",\"a\")","v":" "},{"$f":"IF(AZ63=0,\" \",\n(IF(AZ63>5,ROUND(((AZ63)/(AZ66))*100,0)&\" % sont fonctionnaires*\",IF(AZ63<2,AZ63&\" travailleur handicapé fonctionnaire \",AZ63&\" travailleurs handicapés fonctionnaires \"))))","v":" "},null,null,null,null,null,{"$f":"IF('IND 4.1.4-4.1.7'!$F$9=\"(Vide)\",\" \",(IF('IND 4.1.4-4.1.7'!$F$9=\"Non\",\"La collectivité ne dispose pas d'un document unique d'évaluation des risques professionnels\",IF('IND 4.1.4-4.1.7'!$F$9=\"En cours\",\"Le document unique d'évaluation des risques professionnels est en cours d'élaboration\",\"La collectivité dispose d'un document unique d'évaluation des risques professionnels\"))))","v":" "},null,null,null,null,null,null,null,null,null,null,null,null,null,null,null,null,null,null,null,null,null,null,null,null,null,null,null,null,null,null,null,null,null,null,null,null,null,null,null,null,null,null,null,null,null,null,null,null,null,null,null,null,null,null,null,null,null,null,null,null,null,null,null,null,null,null,null,null,null,null,null,null,null,null,null,null,null,null,null,null,null,null,null,null,null,null,null,null,null,null,null,null,null,null,null,null,null,null,null,null,null,null,null,null,null,null,null,null,null,null,null,null,null,null,null,null,null,null,null,null,null,null,null,null,null,null,null,null,null,null,null,null,null,null,null,11,"Languedoc","Centre de Gestion de l'Aude",null,null,"Lieutenants de sapeurs-pompiers professionnels",{"$f":"'IND 1.1.1'!I331","v":0},{"$f":"'IND 1.2.1'!K80","v":0},0,{"$f":"RANK(GR52,$GR$1:$GR$58,0)+COUNTIF(GR$1:GR52,GR52)-1","v":50},50,{"$error":"#DIV/0!"},"Lieutenants de sapeurs-pompiers professionnels","B",0,0,0]
[null,null,null,null,null,null,null,{"$f":"IF(OR(K53=0,K53=\"\"),\"\",VLOOKUP(3,$GT$2:$GV$60,3,FALSE))","v":""},null,null,{"$f":"IF(D69+D70=0,\"\",VLOOKUP(3,$GT$2:$GU$60,2,FALSE))","v":""},null,null,null,null,null,null,null,null,null,null,null,null,{"$f":"IF(Y53=\"\",\"\",\"Æ\")","v":""},{"$f":"IF(SUM('IND 6.1.4'!$B$46:$C$56)=0,\"\",IF(Y56=\"\",\"Motif de la sanction prononcée (fonctionnaires et contractuels en 2019)\",\"Principaux motifs des sanctions prononcées (fonctionnaires et contractuels en 2019)\"))","v":""},null,null,null,null,null,null,null,null,null,null,{"$f":"IF($D$70=0,\" \",AL76)","v":" "},null,null,null,null,null,null,{"$f":"IF(AR53=\" \",\" \",\"> \")","v":" "},{"$f":"IF($D$70=0,\" \",AL81)","v":" "},null,null,null,null,{"$f":"IF(AX53=\" \",\" \",\"a\")","v":" "},{"$f":"IF((AY72)=0,\" \",\nIF(AY71>5,ROUND((AY71/(AY72))*100,0) &\" % sont en catégorie C*\", IF(AY69<2,AY69& \" travailleur handicapé en catégorie A, \" & AY70 & \" en catégorie B, \" & AY71 &\" en catégorie C\", AY69 & \" travailleurs handicapés en catégorie A, \" & AY70 & \" en catégorie B, \" & AY71 &\" en catégorie C\")))","v":" "},null,null,null,null,null,null,null,null,null,null,null,{"$f":"IF('IND 6.1.1-6.1.3'!B9=0, \" \", \"Commissions Consultatives Paritaires \")","v":" "},null,null,null,null,null,null,null,null,null,null,null,null,null,null,null,null,null,null,null,null,null,null,null,null,null,null,null,null,null,null,null,null,null,null,null,null,null,null,null,null,null,null,null,null,null,null,null,null,null,null,null,null,null,null,null,null,null,null,null,null,null,null,null,null,null,null,null,null,null,null,null,null,null,null,null,null,null,null,null,null,null,null,null,null,null,null,null,null,null,null,null,null,null,null,null,null,null,null,null,null,null,null,null,null,null,null,null,null,null,null,null,null,null,null,null,null,null,null,null,null,null,null,null,null,null,null,null,null,null,30,"Languedoc","Centre de Gestion du Gard",null,null,"CADRES DE SANTE DES SAPEURS POMPIERS PROFESSIONNELS",{"$f":"'IND 1.1.1'!I337","v":0},{"$f":"'IND 1.2.1'!K81","v":0},0,{"$f":"RANK(GR53,$GR$1:$GR$58,0)+COUNTIF(GR$1:GR53,GR53)-1","v":51},51,{"$error":"#DIV/0!"},"CADRES DE SANTE DES SAPEURS POMPIERS PROFESSIONNELS","A",0,0,0]
[null,null,null,null,null,null,null,{"$f":"IF(OR(K54=0,K54=\"\"),\"\",VLOOKUP(4,$GT$2:$GV$60,3,FALSE))","v":""},null,null,{"$f":"IF(D69+D70=0,\"\",VLOOKUP(4,$GT$2:$GU$60,2,FALSE))","v":""},null,null,null,null,null,null,null,null,null,null,null,null,null,null,null,null,null,null,null,null,null,null,null,{"$f":"IF(AJ53=\" \",\" \", \"Æ\")","v":" "},null,null,null,null,null,null,null,null,null,null,null,null,null,null,null,null,null,null,null,null,null,null,null,null,null,null,null,null,null,null,null,null,null,null,null,null,null,null,null,null,null,null,null,null,null,null,null,null,null,null,null,null,null,null,null,null,null,null,null,null,null,null,null,null,null,null,null,null,null,null,null,null,null,null,null,null,null,null,null,null,null,null,null,null,null,null,null,null,null,null,null,null,null,null,null,null,null,null,null,null,null,null,null,null,null,null,null,null,null,null,null,null,null,null,null,null,null,null,null,null,null,null,null,null,null,null,null,null,null,null,null,null,null,null,null,null,null,null,null,null,null,null,null,null,null,null,null,null,null,null,null,null,null,null,null,null,34,"Languedoc","Centre de Gestion de l'Hérault",null,null,"Infirmiers de sapeurs-pompiers professionnels",{"$f":"'IND 1.1.1'!I343","v":0},{"$f":"'IND 1.2.1'!K82","v":0},0,{"$f":"RANK(GR54,$GR$1:$GR$58,0)+COUNTIF(GR$1:GR54,GR54)-1","v":52},52,{"$error":"#DIV/0!"},"Infirmiers de sapeurs-pompiers professionnels","A",0,0,0]
[null,null,null,null,null,null,null,{"$f":"IF(OR(K55=0,K55=\"\"),\"\",VLOOKUP(5,$GT$2:$GV$60,3,FALSE))","v":""},null,null,{"$f":"IF(D69+D70=0,\"\",VLOOKUP(5,$GT$2:$GU$60,2,FALSE))","v":""},null,null,null,null,null,null,null,null,null,null,null,null,null,{"$f":"IF(ISNA(VLOOKUP(1,$BJ$115:$BM$125,2,FALSE))=TRUE,\"\",VLOOKUP(1,$BJ$115:$BM$125,2,FALSE))","v":""},null,null,null,null,null,null,null,null,{"$f":"IF(ISNA(VLOOKUP(1,$BJ$115:$BM$125,4,FALSE))=TRUE,\"\",VLOOKUP(1,$BJ$115:$BM$125,4,FALSE))","v":""},null,null,null,null,null,null,null,null,null,null,null,null,null,null,null,null,null,null,null,null,null,null,null,null,null,null,null,{"$f":"IF('IND 6.1.1-6.1.3'!B9=0,\" \",IF('IND 6.1.1-6.1.3'!B9<2,'IND 6.1.1-6.1.3'!B9&\" réunion en 2019 dans la collectivité\",'IND 6.1.1-6.1.3'!B9&\" réunions en 2019 dans la collectivité\"))","v":" "},null,null,null,null,null,null,null,null,null,null,null,null,null,null,null,null,null,null,null,null,null,null,null,null,null,null,null,null,null,null,null,null,null,null,null,null,null,null,null,null,null,null,null,null,null,null,null,null,null,null,null,null,null,null,null,null,null,null,null,null,null,null,null,null,null,null,null,null,null,null,null,null,null,null,null,null,null,null,null,null,null,null,null,null,null,null,null,null,null,null,null,null,null,null,null,null,null,null,null,null,null,null,null,null,null,null,null,null,null,null,null,null,null,null,null,null,null,null,null,null,null,null,null,null,null,null,null,null,null,48,"Languedoc","Centre de Gestion de la Lozère",null,null,"Sous officiers de sapeurs-pompiers professionnels",{"$f":"'IND 1.1.1'!I348","v":0},{"$f":"'IND 1.2.1'!K83","v":0},0,{"$f":"RANK(GR55,$GR$1:$GR$58,0)+COUNTIF(GR$1:GR55,GR55)-1","v":53},53,{"$error":"#DIV/0!"},"Sous officiers de sapeurs-pompiers professionnels","C",0,0,0]
[null,null,null,null,null,null,null,null,null,null,null,null,null,null,null,null,null,null,null,null,null,null,null,null,{"$f":"IF(ISNA(VLOOKUP(2,$BJ$115:$BM$125,2,FALSE))=TRUE,\"\",VLOOKUP(2,$BJ$115:$BM$125,2,FALSE))","v":""},null,null,null,null,null,null,null,null,{"$f":"IF(ISNA(VLOOKUP(2,$BJ$115:$BM$125,4,FALSE))=TRUE,\"\",VLOOKUP(2,$BJ$115:$BM$125,4,FALSE))","v":""},null,null,null,null,null,null,null,null,null,null,null,null,null,null,{"$f":"IF(AX56=\" \",\" \",\"a\")","v":" "},{"$f":"IF(SUM('IND 1.6.2'!B12:B15)=0,\" \",TEXT(SUM('IND 1.6.2'!B12:B15),\"# ##\")& \"  € de dépenses en matière de handicap\")","v":" "},null,null,null,null,null,{"$f":"IF(BG56=\"\",\"\",\"Dernière mise à jour :\")","v":""},null,null,{"$f":"IF('IND 4.1.4-4.1.7'!$F$12=0,\"\",'IND 4.1.4-4.1.7'!$F$12)","v":""},null,null,null,null,null,null,null,null,null,null,null,null,null,null,null,null,null,null,null,null,null,null,null,null,null,null,null,null,null,null,null,null,null,null,null,null,null,null,null,null,null,null,null,null,null,null,null,null,null,null,null,null,null,null,null,null,null,null,null,null,null,null,null,null,null,null,null,null,null,null,null,null,null,null,null,null,null,null,null,null,null,null,null,null,null,null,null,null,null,null,null,null,null,null,null,null,null,null,null,null,null,null,null,null,null,null,null,null,null,null,null,null,null,null,null,null,null,null,null,null,null,null,null,null,null,null,null,null,null,null,null,null,66,"Languedoc","Centre de Gestion des Pyrénées-Orientales",null,null,"Sapeurs et caporaux de sapeurs-pompiers professionnels",{"$f":"'IND 1.1.1'!I355","v":0},{"$f":"'IND 1.2.1'!K84","v":0},0,{"$f":"RANK(GR56,$GR$1:$GR$58,0)+COUNTIF(GR$1:GR56,GR56)-1","v":54},54,{"$error":"#DIV/0!"},"Sapeurs et caporaux de sapeurs-pompiers professionnels","C",0,0,0]
["Synthèse des principaux indicateurs du Bilan Social 2019",null,null,null,null,null,null,null,null,null,null,null,null,null,null,null,null,null,null,null,null,null,null,null,{"$f":"IF(ISNA(VLOOKUP(3,$BJ$115:$BM$125,2,FALSE))=TRUE,\"\",VLOOKUP(3,$BJ$115:$BM$125,2,FALSE))","v":""},null,null,null,null,null,null,null,null,{"$f":"IF(ISNA(VLOOKUP(3,$BJ$115:$BM$125,4,FALSE))=TRUE,\"\",VLOOKUP(3,$BJ$115:$BM$125,4,FALSE))","v":""},null,{"$f":"IF($D$70=0,\" \",AL86)","v":" "},null,null,null,null,null,null,null,null,null,null,null,null,null,null,{"$f":"IF(OR(AZ63>5,AY71>5),\"* sur les emplois permanents\",\"\")","v":""},null,null,null,null,null,null,null,null,null,null,null,null,null,null,null,null,null,null,null,null,null,null,null,null,null,null,null,null,null,null,null,null,null,null,null,null,null,null,null,null,null,null,null,null,null,null,null,null,null,null,null,null,null,null,null,null,null,null,null,null,null,null,null,null,null,null,null,null,null,null,null,null,null,null,null,null,null,null,null,null,null,null,null,null,null,null,null,null,null,null,null,null,null,null,null,null,null,null,null,null,null,null,null,null,null,null,null,null,null,null,null,null,null,null,null,null,null,null,null,null,null,null,null,null,null,null,null,null,null,null,null,null,null,null,null,null,null,null,null,null,19,"Limousin","Centre de Gestion de la Corrèze",null,null,"Animateurs",{"$f":"'IND 1.1.1'!I365","v":0},{"$f":"'IND 1.2.1'!K87","v":0},0,{"$f":"RANK(GR57,$GR$1:$GR$58,0)+COUNTIF(GR$1:GR57,GR57)-1","v":55},55,{"$error":"#DIV/0!"},"Animateurs","B",0,0,0]
[null,null,null,null,null,null,null,null,null,null,null,null,null,null,null,null,null,null,null,null,null,null,null,null,null,null,null,null,null,null,null,null,null,null,null,null,null,null,null,null,null,null,null,null,null,null,null,null,null,null,null,null,null,null,null,null,null,null,null,null,null,null,null,null,null,null,null,null,null,null,null,null,null,null,null,null,null,null,null,null,null,null,null,null,null,null,null,null,null,null,null,null,null,null,null,null,null,null,null,null,null,null,null,null,null,null,null,null,null,null,null,null,null,null,null,null,null,null,null,null,null,null,null,null,null,null,null,null,null,null,null,null,null,null,null,null,null,null,null,null,null,null,null,null,null,null,null,null,null,null,null,null,null,null,null,null,null,null,null,null,null,null,null,null,null,null,null,null,null,null,null,null,null,null,null,null,null,null,null,null,null,null,null,null,null,null,null,null,null,null,null,23,"Limousin","Centre de Gestion de la Creuse",null,null,"Adjoints d'animation",{"$f":"'IND 1.1.1'!I372","v":0},{"$f":"'IND 1.2.1'!K88","v":0},0,{"$f":"RANK(GR58,$GR$1:$GR$58,0)+COUNTIF(GR$1:GR58,GR58)-1","v":56},56,{"$error":"#DIV/0!"},"Adjoints d'animation","C",0,0,0]
[null,null,null,null,null,null,null,null,null,null,null,null,null,null,null,null,null,null,null,null,null,null,null,null,null,null,null,null,null,null,null,null,null,null,null,null,null,null,null,null,null,null,null,null,null,null,null,null,null,null,null,null,null,null,null,null,null,null,null,null,null,null,null,null,null,null,null,null,null,null,null,null,null,null,null,null,null,null,null,null,null,null,null,null,null,null,null,null,null,null,null,null,null,null,null,null,null,null,null,null,null,null,null,null,null,null,null,null,null,null,null,null,null,null,null,null,null,null,null,null,null,null,null,null,null,null,null,null,null,null,null,null,null,null,null,null,null,null,null,null,null,null,null,null,null,null,null,null,null,null,null,null,null,null,null,null,null,null,null,null,null,null,null,null,null,null,null,null,null,null,null,null,null,null,null,null,null,null,null,null,null,null,null,null,null,null,null,null,null,null,null,87,"Limousin","Centre de Gestion de Haute-Vienne",null,null,"SOMME",{"$f":"SUM(GP2:GP58)","v":0},{"$f":"SUM(GQ2:GQ58)","v":0},0,null,null,{"$error":"#DIV/0!"},0,0,0,0,0]
[null,null,null,null,null,null,null,null,null,null,null,null,null,null,null,null,null,null,null,null,null,null,null,null,null,null,null,null,null,null,null,null,null,null,null,null,null,null,null,null,null,null,null,null,null,null,null,null,null,null,null,null,null,null,null,null,null,null,null,null,null,null,null,null,null,null,null,null,null,null,null,null,null,null,null,null,null,null,null,null,null,null,null,null,null,null,null,null,null,null,null,null,null,null,null,null,null,null,null,null,null,null,null,null,null,null,null,null,null,null,null,null,null,null,null,null,null,null,null,null,null,null,null,null,null,null,null,null,null,null,null,null,null,null,null,null,null,null,null,null,null,null,null,null,null,null,null,null,null,null,null,null,null,null,null,null,null,null,null,null,null,null,null,null,null,null,null,null,null,null,null,null,null,null,null,null,null,null,null,null,null,null,null,null,null,null,null,null,null,null,null,54,"Lorraine","Centre de Gestion de Meurthe-et-Moselle"]
[null,null,null,null,null,null,null,null,null,null,null,null,null,null,null,null,null,null,null,null,null,null,null,null,null,null,null,null,null,null,"Nombre de fonctionnaires ayant connu au cours de l'année un avancement de grade à la suite d'une :",{"$f":"'IND 1.5.4-1.5.5'!B29","v":"Hommes"},{"$f":"'IND 1.5.4-1.5.5'!C29","v":"Femmes"},null,null,null,null,null,null,null,null,null,null,null,null,null,null,null,null,null,null,null,null,null,null,null,null,null,null,null,null,null,null,null,null,null,null,null,null,null,null,null,null,"Participation Santé ou prévoyance",null,null,null,null,null,null,null,null,null,null,null,null,null,null,null,null,null,null,null,null,null,null,null,null,null,null,null,null,null,null,null,null,null,null,null,null,null,null,null,null,null,null,null,null,null,null,null,null,null,null,null,null,null,null,null,null,null,null,null,null,null,null,null,null,null,null,null,null,null,null,null,null,null,null,null,null,null,null,null,null,null,null,null,null,null,null,null,null,null,null,null,null,null,null,null,null,null,null,null,null,null,null,null,null,null,null,null,null,null,null,null,null,null,null,null,null,null,55,"Lorraine","Centre de Gestion de la Meuse"]
[null,null,null,null,null,null,null,"Permanent","%","Nombre",null,null,",","Hommes ","Femmes ",null,null,null,null,null,"Temps complet","Temps non complet",null,null,null,null,null,null,null,null,"promotion au choix",{"$f":"'IND 1.5.4-1.5.5'!B30","v":0},{"$f":"'IND 1.5.4-1.5.5'!C30","v":0},null,null,null,null,"% masse salariale sur dép de fonc",null,null,null,{"$f":" IF($AL$6=0,0,(AP6/$AL$6)*100)","v":{"$error":"#DIV/0!"}},null,null,null,null,null,null,null,"Travailleurs handicapés",null,null,null,null,null,null,null,null,null,null,null,null,null,null,null,null,null,null,null,null,null,null,null,"Santé",null,"Prévoyance",null,null,null,null,null,null,null,null,null,null,null,null,null,null,null,null,null,null,null,null,null,null,null,null,null,null,null,null,null,null,null,null,null,null,null,null,null,null,null,null,null,null,null,null,null,null,null,null,null,null,null,null,null,null,null,null,null,null,null,null,null,null,null,null,null,null,null,null,null,null,null,null,null,null,null,null,null,null,null,null,null,null,null,null,null,null,null,null,null,null,null,null,null,null,null,null,null,null,null,null,null,null,null,null,null,null,null,null,null,null,null,null,null,null,null,57,"Lorraine","Centre de Gestion de la Moselle"]
[null,"Catégorie A",null,{"$f":"SUMIF(GW2:GW58,\"A\",GX2:GX58)/GX59","v":{"$error":"#DIV/0!"}},null,null,null,"Hommes","Femmes","Hommes","Femmes","T","moins de 30 ans",{"$f":"-SUM('IND 1.7.1'!$C$13:$D$14)/('IND 1.7.1'!$D$47+'IND 1.7.1'!$C$47)","v":{"$error":"#DIV/0!"}},{"$f":"SUM('IND 1.7.1'!C25:D26)/('IND 1.7.1'!$D$47+'IND 1.7.1'!$C$47)","v":{"$error":"#DIV/0!"}},null,null,null,{"$f":"IF(D70=0,\" \",\"Contractuels\")","v":" "},null,{"$f":"'IND 1.2.1'!L91/$D$70","v":{"$error":"#DIV/0!"}},{"$f":"'IND 1.2.1'!M91/$D$70","v":{"$error":"#DIV/0!"}},null,null,null,null,null,null,null,null,"réussite à un examen professionnel de promotion interne :",{"$f":"'IND 1.5.4-1.5.5'!B31","v":0},{"$f":"'IND 1.5.4-1.5.5'!C31","v":0},null,null,null,null,null,null,null,null,null,null,null,null,null,null,null,null,"Fonctionnaires",null,{"$f":"SUM('IND 1.6.1'!B17:C19)","v":0},null,null,null,null,null,null,null,null,null,null,null,null,null,null,null,null,null,null,null,null,null,{"$f":"IF(SUM('IND 7.1.4'!$B$23:$B$26)>0,2,IF('IND 7.1.4'!$B$11=\"(vide)\",0,IF('IND 7.1.4'!$B$11=\"Ne sait pas\",0,IF('IND 7.1.4'!$B$11=\"Oui\",2,IF('IND 7.1.4'!$B$11=\"Non\",1)))))","v":0},null,{"$f":"IF(SUM('IND 7.1.4'!$C$23:$C$26)>0,2,IF('IND 7.1.4'!$C$11=\"(vide)\",0,IF('IND 7.1.4'!$C$11=\"Ne sait pas\",0,IF('IND 7.1.4'!$C$11=\"Oui\",2,IF('IND 7.1.4'!$C$11=\"Non\",1)))))","v":0},null,null,null,null,null,null,null,null,null,null,null,null,null,null,null,null,null,null,null,null,null,null,null,null,null,null,null,null,null,null,null,null,null,null,null,null,null,null,null,null,null,null,null,null,null,null,null,null,null,null,null,null,null,null,null,null,null,null,null,null,null,null,null,null,null,null,null,null,null,null,null,null,null,null,null,null,null,null,null,null,null,null,null,null,null,null,null,null,null,null,null,null,null,null,null,null,null,null,null,null,null,null,null,null,null,null,null,null,null,null,null,null,null,null,null,88,"Lorraine","Centre de Gestion des Vosges"]
[null,"Catégorie B",null,{"$f":"SUMIF(GW2:GW58,\"B\",GX2:GX58)/GX59","v":{"$error":"#DIV/0!"}},null,null,"Ensemble",{"$f":"(('IND 1.1.1'!G376+'IND 1.2.1'!Q91+'IND 1.2.1'!S91)/($D$69+$D$70))","v":{"$error":"#DIV/0!"}},{"$f":"(('IND 1.1.1'!H376+'IND 1.2.1'!R91+'IND 1.2.1'!T91)/($D$69+$D$70))","v":{"$error":"#DIV/0!"}},{"$f":"('IND 1.1.1'!G376+'IND 1.2.1'!Q91+'IND 1.2.1'!S91)","v":0},{"$f":"('IND 1.1.1'!H376+'IND 1.2.1'!R91+'IND 1.2.1'!T91)","v":0},null,"Entre 30 et 50 ans",{"$f":"-SUM('IND 1.7.1'!C15:D18)/('IND 1.7.1'!$D$47+'IND 1.7.1'!$C$47)","v":{"$error":"#DIV/0!"}},{"$f":"SUM('IND 1.7.1'!C27:D30)/('IND 1.7.1'!$D$47+'IND 1.7.1'!$C$47)","v":{"$error":"#DIV/0!"}},null,null,null,{"$f":"IF(D69=0,\" \",\"Fonctionnaires\")","v":" "},null,{"$f":"'IND 1.1.1'!$B$376/synthese!$D$69","v":{"$error":"#DIV/0!"}},{"$f":"'IND 1.1.1'!$F$376/synthese!$D$69","v":{"$error":"#DIV/0!"}},null,null,null,null,null,null,null,null,"  - ayant entrainé une \"nomination stagiaire\"",{"$f":"'IND 1.5.4-1.5.5'!B32","v":0},{"$f":"'IND 1.5.4-1.5.5'!C32","v":0},null,null,null,null,null,null,null,null,null,null,null,null,null,null,null,null,"Emploi permanent",null,{"$f":"SUM('IND 1.6.1'!D17:E19)","v":0},null,null,null,null,null,null,null,null,null,null,null,null,null,null,null,null,null,null,null,null,null,{"$f":"IF(SUM('IND 7.1.4'!$B$23:$B$26)>0,2,IF('IND 7.1.4'!$B$12=\"(vide)\",0,IF('IND 7.1.4'!$B$12=\"Ne sait pas\",0,IF('IND 7.1.4'!$B$12=\"Oui\",2,IF('IND 7.1.4'!$B$12=\"Non\",1)))))","v":0},null,{"$f":"IF(SUM('IND 7.1.4'!$C$23:$C$26)>0,2,IF('IND 7.1.4'!$C$12=\"(vide)\",0,IF('IND 7.1.4'!$C$12=\"Ne sait pas\",0,IF('IND 7.1.4'!$C$12=\"Oui\",2,IF('IND 7.1.4'!$C$12=\"Non\",1)))))","v":0},null,null,null,null,null,null,null,null,null,null,null,null,null,null,null,null,null,null,null,null,null,null,null,null,null,null,null,null,null,null,null,null,null,null,null,null,null,null,null,null,null,null,null,null,null,null,null,null,null,null,null,null,null,null,null,null,null,null,null,null,null,null,null,null,null,null,null,null,null,null,null,null,null,null,null,null,null,null,null,null,null,null,null,null,null,null,null,null,null,null,null,null,null,null,null,null,null,null,null,null,null,null,null,null,null,null,null,null,null,null,null,null,null,null,null,9,"Midi-Pyrénées","Centre de Gestion de l'Ariège"]
[null,"Catégorie C",null,{"$f":"SUMIF(GW2:GW58,\"C\",GX2:GX58)/GX59","v":{"$error":"#DIV/0!"}},null,null,"Contractuels",{"$f":"('IND 1.2.1'!Q91+'IND 1.2.1'!S91)/$D$70","v":{"$error":"#DIV/0!"}},{"$f":"('IND 1.2.1'!R91+'IND 1.2.1'!T91)/$D$70","v":{"$error":"#DIV/0!"}},{"$f":"('IND 1.2.1'!Q91+'IND 1.2.1'!S91)","v":0},{"$f":"('IND 1.2.1'!R91+'IND 1.2.1'!T91)","v":0},null,"Plus de 50 ans",{"$f":"-SUM('IND 1.7.1'!C19:D22)/('IND 1.7.1'!$D$47+'IND 1.7.1'!$C$47)","v":{"$error":"#DIV/0!"}},{"$f":"SUM('IND 1.7.1'!C31:D34)/('IND 1.7.1'!$D$47+'IND 1.7.1'!$C$47)","v":{"$error":"#DIV/0!"}},null,null,null,null,null,null,null,null,null,null,null,null,null,null,null,"  - n'ayant pas entrainé une \"nomination stagiaire\"",{"$f":"'IND 1.5.4-1.5.5'!B33","v":0},{"$f":"'IND 1.5.4-1.5.5'!C33","v":0},null,null,null,null,null,null,"Part des primes sur rémunérations annuelles butes",null,null,null,null,null,null,null,null,null,"Non permanent",null,{"$f":"SUM('IND 1.6.1'!B27:C27)","v":0},null,null,null,null,null,null,null,null,null,null,null,null,null,null,null,null,null,null,null,null,null,null,null,null,null,null,null,null,null,null,null,null,null,null,null,null,null,null,null,null,null,null,null,null,null,null,null,null,null,null,null,null,null,null,null,null,null,null,null,null,null,null,null,null,null,null,null,null,null,null,null,null,null,null,null,null,null,null,null,null,null,null,null,null,null,null,null,null,null,null,null,null,null,null,null,null,null,null,null,null,null,null,null,null,null,null,null,null,null,null,null,null,null,null,null,null,null,null,null,null,null,null,null,null,null,null,null,null,null,null,null,null,null,null,null,null,null,null,null,12,"Midi-Pyrénées","Centre de Gestion de l'Aveyron"]
[null,null,null,null,null,null,"Fonctionnaires",{"$f":"'IND 1.1.1'!$G$376/$D$69","v":{"$error":"#DIV/0!"}},{"$f":"'IND 1.1.1'!$H$376/$D$69","v":{"$error":"#DIV/0!"}},{"$f":"'IND 1.1.1'!$G$376","v":0},{"$f":"'IND 1.1.1'!$H$376","v":0},null,null,null,null,null,null,null,null,null,"Temps plein","Temps partiel",null,null,null,null,null,null,null,null,"réussite à un concours :",{"$f":"'IND 1.5.4-1.5.5'!B34","v":0},{"$f":"'IND 1.5.4-1.5.5'!C34","v":0},null,null,null,null,null,null,null,null,null,null,null,null,null,null,null,null,null,"Total",{"$f":"SUM(AZ63:AZ64)","v":0},null,null,null,null,null,null,null,null,null,null,null,null,null,null,null,null,null,null,null,null,null,null,null,null,null,null,null,null,null,null,null,null,null,null,null,null,null,null,null,null,null,null,null,null,null,null,null,null,null,null,null,null,null,null,null,null,null,null,null,null,null,null,null,null,null,null,null,null,null,null,null,null,null,null,null,null,null,null,null,null,null,null,null,null,null,null,null,null,null,null,null,null,null,null,null,null,null,null,null,null,null,null,null,null,null,null,null,null,null,null,null,null,null,null,null,null,null,null,null,null,null,null,null,null,null,null,null,null,null,null,null,null,null,null,null,null,null,null,null,31,"Midi-Pyrénées","Centre de Gestion de Haute-Garonne"]
[null,null,null,null,null,null,null,null,null,null,null,null,"Total départ de fonctionnaires",null,null,null,{"$f":"'IND 1.5.0'!F40+'IND 1.5.0'!J40","v":0},null,{"$f":"IF(D70=0,\" \",\"Contractuels\")","v":" "},null,{"$f":"SUM('IND 1.2.2'!B91:C91)/SUM('IND 1.2.2'!J91:K91)","v":{"$error":"#DIV/0!"}},{"$f":"SUM('IND 1.2.2'!D91:I91)/SUM('IND 1.2.2'!J91:K91)","v":{"$error":"#DIV/0!"}},null,null,null,null,null,null,null,null," - ayant entrainé \"une nomination stagiaire\"",{"$f":"'IND 1.5.4-1.5.5'!B35","v":0},{"$f":"'IND 1.5.4-1.5.5'!C35","v":0},null,null,null,null,null,null,"Prime",null,"Rémunération ann B",null,null,"%",null,null,null,null,null,null,null,null,null,null,null,null,null,null,null,null,null,null,null,null,null,null,null,null,null,null,null,null,"cotisation COS",null,null,null,null,null,null,null,null,null,null,null,null,null,null,null,null,null,null,null,null,null,null,null,null,null,null,null,null,null,null,null,null,null,null,null,null,null,null,null,null,null,null,null,null,null,null,null,null,null,null,null,null,null,null,null,null,null,null,null,null,null,null,null,null,null,null,null,null,null,null,null,null,null,null,null,null,null,null,null,null,null,null,null,null,null,null,null,null,null,null,null,null,null,null,null,null,null,null,null,null,null,null,null,null,null,null,null,null,null,null,null,null,null,null,null,null,null,32,"Midi-Pyrénées","Centre de Gestion du Gers"]
[null,"Total Agents au 31/12",null,null,null,null,null,null,null,null,null,null,"Total départ de contractuels",null,null,null,{"$f":"'IND 1.5.0'!F63+'IND 1.5.0'!J63","v":0},null,{"$f":"IF(D69=0,\" \",\"Fonctionnaires\")","v":" "},null,{"$f":"SUM('IND 1.1.2'!B90:C90)/SUM('IND 1.1.2'!J90:K90)","v":{"$error":"#DIV/0!"}},{"$f":"SUM('IND 1.1.2'!D90:I90)/SUM('IND 1.1.2'!J90:K90)","v":{"$error":"#DIV/0!"}},null,null,null,null,null,null,null,null," - n'ayant pas entrainé \"une nomination stagiaire\"",{"$f":"'IND 1.5.4-1.5.5'!B36","v":0},{"$f":"'IND 1.5.4-1.5.5'!C36","v":0},null,null,null,null,null,null,"Fonctionnaires","Contractuels","Fonctionnaires",null,"Contractuels","Fonctionnaires","Contractuels","Ensemble",null,null,"Travailleurs handicapés par catégorie",null,null,null,null,null,null,null,null,null,null,null,null,null,null,null,null,null,null,null,null,null,null,null,"Propre",{"$f":"IF(OR(BX68=\"Non\",BX68=\"(vide)\",BX68=\"Ne sait pas\"),0,1)","v":0},{"$f":"'IND 7.1.1-7.1.3'!$B$11","v":"(vide)"},null,null,null,null,null,null,null,null,null,null,null,null,null,null,null,null,null,null,null,null,null,null,null,null,null,null,null,null,null,null,null,null,null,null,null,null,null,null,null,null,null,null,null,null,null,null,null,null,null,null,null,null,null,null,null,null,null,null,null,null,null,null,null,null,null,null,null,null,null,null,null,null,null,null,null,null,null,null,null,null,null,null,null,null,null,null,null,null,null,null,null,null,null,null,null,null,null,null,null,null,null,null,null,null,null,null,null,null,null,null,null,null,null,null,null,46,"Midi-Pyrénées","Centre de Gestion du Lot"]
[null,"Fonct°",null,{"$f":"'IND 1.1.1'!$I$376","v":0},null,null,null,"Emploi aidé",{"$f":"'IND 1.3.1'!F26","v":0},null,null,null,null,null,null,null,null,null,null,null,null,null,null,null,null,null,null,null,null,null,null,null,null,null,null,null,null,"Catégorie A",null,{"$f":"'IND 3.1.1-3.4.3'!D20+'IND 3.1.1-3.4.3'!E20+'IND 3.1.1-3.4.3'!D24+'IND 3.1.1-3.4.3'!E24+'IND 3.1.1-3.4.3'!D28+'IND 3.1.1-3.4.3'!E28+'IND 3.1.1-3.4.3'!D32+'IND 3.1.1-3.4.3'!E32+'IND 3.1.1-3.4.3'!D36+'IND 3.1.1-3.4.3'!E36+'IND 3.1.1-3.4.3'!D40+'IND 3.1.1-3.4.3'!E40+'IND 3.1.1-3.4.3'!D44+'IND 3.1.1-3.4.3'!E44+'IND 3.1.1-3.4.3'!D48+'IND 3.1.1-3.4.3'!E48+'IND 3.1.1-3.4.3'!D52+'IND 3.1.1-3.4.3'!E52","v":0},{"$f":"'IND 3.1.1-3.4.3'!D68+'IND 3.1.1-3.4.3'!E68+'IND 3.1.1-3.4.3'!D72+'IND 3.1.1-3.4.3'!E72+'IND 3.1.1-3.4.3'!D76+'IND 3.1.1-3.4.3'!E76+'IND 3.1.1-3.4.3'!D80+'IND 3.1.1-3.4.3'!E80+'IND 3.1.1-3.4.3'!D84+'IND 3.1.1-3.4.3'!E84+'IND 3.1.1-3.4.3'!D88+'IND 3.1.1-3.4.3'!E88+'IND 3.1.1-3.4.3'!D92+'IND 3.1.1-3.4.3'!E92+'IND 3.1.1-3.4.3'!D96+'IND 3.1.1-3.4.3'!E96+'IND 3.1.1-3.4.3'!D100+'IND 3.1.1-3.4.3'!E100","v":0},{"$f":"'IND 3.1.1-3.4.3'!B20+'IND 3.1.1-3.4.3'!C20+'IND 3.1.1-3.4.3'!B24+'IND 3.1.1-3.4.3'!C24+'IND 3.1.1-3.4.3'!B28+'IND 3.1.1-3.4.3'!C28+'IND 3.1.1-3.4.3'!B32+'IND 3.1.1-3.4.3'!C32+'IND 3.1.1-3.4.3'!B36+'IND 3.1.1-3.4.3'!C36+'IND 3.1.1-3.4.3'!B40+'IND 3.1.1-3.4.3'!C40+'IND 3.1.1-3.4.3'!B44+'IND 3.1.1-3.4.3'!C44+'IND 3.1.1-3.4.3'!B48+'IND 3.1.1-3.4.3'!C48+'IND 3.1.1-3.4.3'!B52+'IND 3.1.1-3.4.3'!C52","v":0},null,{"$f":"'IND 3.1.1-3.4.3'!B68+'IND 3.1.1-3.4.3'!C68+'IND 3.1.1-3.4.3'!B72+'IND 3.1.1-3.4.3'!C72+'IND 3.1.1-3.4.3'!B76+'IND 3.1.1-3.4.3'!C76+'IND 3.1.1-3.4.3'!B80+'IND 3.1.1-3.4.3'!C80+'IND 3.1.1-3.4.3'!B84+'IND 3.1.1-3.4.3'!C84+'IND 3.1.1-3.4.3'!B88+'IND 3.1.1-3.4.3'!C88+'IND 3.1.1-3.4.3'!B92+'IND 3.1.1-3.4.3'!C92+'IND 3.1.1-3.4.3'!B96+'IND 3.1.1-3.4.3'!C96+'IND 3.1.1-3.4.3'!B100+'IND 3.1.1-3.4.3'!C100","v":0},{"$f":"IF(AP69=0,\"\",AN69/AP69)","v":""},{"$f":"IF(AR69=0,\"\",AO69/AR69)","v":""},{"$f":"IF((AP69+AR69)=0,\"\",(AN69+AO69)/(AP69+AR69))","v":""},null,null,"Catégorie A",{"$f":"SUM('IND 1.6.1'!B17:E17)","v":0},null,null,null,null,null,null,null,null,null,null,null,null,null,null,null,null,null,null,null,null,null,null,"Inter",{"$f":"IF(OR(BX69=\"Non\",BX69=\"(vide)\",BX69=\"Ne sait pas\"),0,1)","v":0},{"$f":"'IND 7.1.1-7.1.3'!$B$12","v":"(vide)"},null,null,null,null,null,null,null,null,null,null,null,null,null,null,null,null,null,null,null,null,null,null,null,null,null,null,null,null,null,null,null,null,null,null,null,null,null,null,null,null,null,null,null,null,null,null,null,null,null,null,null,null,null,null,null,null,null,null,null,null,null,null,null,null,null,null,null,null,null,null,null,null,null,null,null,null,null,null,null,null,null,null,null,null,null,null,null,null,null,null,null,null,null,null,null,null,null,null,null,null,null,null,null,null,null,null,null,null,null,null,null,null,null,null,null,65,"Midi-Pyrénées","Centre de Gestion des Hautes-Pyrénées"]
[null,"Cont Perm",null,{"$f":"'IND 1.2.1'!K91","v":0},null,null,null,"CDI",{"$f":"'IND 1.2.1'!Q91+'IND 1.2.1'!R91","v":0},null,null,null,"Graphique % de temps non complet par filières et  par statut",null,null,null,null,null,null,null,null,null,null,null,null,null,"H","F",null,null,null,null,null,null,null,null,null,"Catégorie B",null,{"$f":"'IND 3.1.1-3.4.3'!D21+'IND 3.1.1-3.4.3'!E21+'IND 3.1.1-3.4.3'!D25+'IND 3.1.1-3.4.3'!E25+'IND 3.1.1-3.4.3'!D29+'IND 3.1.1-3.4.3'!E29+'IND 3.1.1-3.4.3'!D33+'IND 3.1.1-3.4.3'!E33+'IND 3.1.1-3.4.3'!D37+'IND 3.1.1-3.4.3'!E37+'IND 3.1.1-3.4.3'!D41+'IND 3.1.1-3.4.3'!E41+'IND 3.1.1-3.4.3'!D45+'IND 3.1.1-3.4.3'!E45+'IND 3.1.1-3.4.3'!D49+'IND 3.1.1-3.4.3'!E49+'IND 3.1.1-3.4.3'!D53+'IND 3.1.1-3.4.3'!E53+'IND 3.1.1-3.4.3'!D56+'IND 3.1.1-3.4.3'!E56","v":0},{"$f":"'IND 3.1.1-3.4.3'!D69+'IND 3.1.1-3.4.3'!E69+'IND 3.1.1-3.4.3'!D73+'IND 3.1.1-3.4.3'!E73+'IND 3.1.1-3.4.3'!D77+'IND 3.1.1-3.4.3'!E77+'IND 3.1.1-3.4.3'!D81+'IND 3.1.1-3.4.3'!E81+'IND 3.1.1-3.4.3'!D85+'IND 3.1.1-3.4.3'!E85+'IND 3.1.1-3.4.3'!D89+'IND 3.1.1-3.4.3'!E89+'IND 3.1.1-3.4.3'!D93+'IND 3.1.1-3.4.3'!E93+'IND 3.1.1-3.4.3'!D97+'IND 3.1.1-3.4.3'!E97+'IND 3.1.1-3.4.3'!D101+'IND 3.1.1-3.4.3'!E101+'IND 3.1.1-3.4.3'!D104+'IND 3.1.1-3.4.3'!E104","v":0},{"$f":"'IND 3.1.1-3.4.3'!B21+'IND 3.1.1-3.4.3'!C21+'IND 3.1.1-3.4.3'!B25+'IND 3.1.1-3.4.3'!C25+'IND 3.1.1-3.4.3'!B29+'IND 3.1.1-3.4.3'!C29+'IND 3.1.1-3.4.3'!B33+'IND 3.1.1-3.4.3'!C33+'IND 3.1.1-3.4.3'!B37+'IND 3.1.1-3.4.3'!C37+'IND 3.1.1-3.4.3'!B41+'IND 3.1.1-3.4.3'!C41+'IND 3.1.1-3.4.3'!B45+'IND 3.1.1-3.4.3'!C45+'IND 3.1.1-3.4.3'!B49+'IND 3.1.1-3.4.3'!C49+'IND 3.1.1-3.4.3'!B53+'IND 3.1.1-3.4.3'!C53+'IND 3.1.1-3.4.3'!B56+'IND 3.1.1-3.4.3'!C56","v":0},null,{"$f":"'IND 3.1.1-3.4.3'!B69+'IND 3.1.1-3.4.3'!C69+'IND 3.1.1-3.4.3'!B73+'IND 3.1.1-3.4.3'!C73+'IND 3.1.1-3.4.3'!B77+'IND 3.1.1-3.4.3'!C77+'IND 3.1.1-3.4.3'!B81+'IND 3.1.1-3.4.3'!C81+'IND 3.1.1-3.4.3'!B85+'IND 3.1.1-3.4.3'!C85+'IND 3.1.1-3.4.3'!B89+'IND 3.1.1-3.4.3'!C89+'IND 3.1.1-3.4.3'!B93+'IND 3.1.1-3.4.3'!C93+'IND 3.1.1-3.4.3'!B97+'IND 3.1.1-3.4.3'!C97+'IND 3.1.1-3.4.3'!B101+'IND 3.1.1-3.4.3'!C101+'IND 3.1.1-3.4.3'!B104+'IND 3.1.1-3.4.3'!C104","v":0},{"$f":"IF(AP70=0,\"\",AN70/AP70)","v":""},{"$f":"IF(AR70=0,\"\",AO70/AR70)","v":""},{"$f":"IF((AP70+AR70)=0,\"\",(AN70+AO70)/(AP70+AR70))","v":""},null,null,"Catégorie B",{"$f":"SUM('IND 1.6.1'!B18:E18)","v":0},null,null,null,null,null,null,null,null,null,null,null,null,null,null,null,null,null,null,null,null,null,null,"Donc",{"$f":"BW69+BW68","v":0},null,null,null,null,null,null,null,null,null,null,null,null,null,null,null,null,null,null,null,null,null,null,null,null,null,null,null,null,null,null,null,null,null,null,null,null,null,null,null,null,null,null,null,null,null,null,null,null,null,null,null,null,null,null,null,null,null,null,null,null,null,null,null,null,null,null,null,null,null,null,null,null,null,null,null,null,null,null,null,null,null,null,null,null,null,null,null,null,null,null,null,null,null,null,null,null,null,null,null,null,null,null,null,null,null,null,null,null,null,null,null,null,null,null,null,null,81,"Midi-Pyrénées","Centre de Gestion du Tarn"]
[null,"Cont N Perm",null,{"$f":"'IND 1.3.1'!F38","v":0},null,null,null,"saisonniers",{"$f":"'IND 1.3.1'!F24","v":0},null,null,null,null,null,null,null,null,null,null,null,null,"Titulaire","Contractuel",null,null,null,null,null,null,null,null,"H","F",null,null,null,null,"Catégorie C",null,{"$f":"'IND 3.1.1-3.4.3'!D22+'IND 3.1.1-3.4.3'!E22+'IND 3.1.1-3.4.3'!D26+'IND 3.1.1-3.4.3'!E26+'IND 3.1.1-3.4.3'!D30+'IND 3.1.1-3.4.3'!E30+'IND 3.1.1-3.4.3'!D34+'IND 3.1.1-3.4.3'!E34+'IND 3.1.1-3.4.3'!D38+'IND 3.1.1-3.4.3'!E38+'IND 3.1.1-3.4.3'!D42+'IND 3.1.1-3.4.3'!E42+'IND 3.1.1-3.4.3'!D46+'IND 3.1.1-3.4.3'!E46+'IND 3.1.1-3.4.3'!D50+'IND 3.1.1-3.4.3'!E50+'IND 3.1.1-3.4.3'!D54+'IND 3.1.1-3.4.3'!E54+'IND 3.1.1-3.4.3'!D57+'IND 3.1.1-3.4.3'!E57","v":0},{"$f":"'IND 3.1.1-3.4.3'!D70+'IND 3.1.1-3.4.3'!E70+'IND 3.1.1-3.4.3'!D74+'IND 3.1.1-3.4.3'!E74+'IND 3.1.1-3.4.3'!D78+'IND 3.1.1-3.4.3'!E78+'IND 3.1.1-3.4.3'!D82+'IND 3.1.1-3.4.3'!E82+'IND 3.1.1-3.4.3'!E86+'IND 3.1.1-3.4.3'!D86+'IND 3.1.1-3.4.3'!D90+'IND 3.1.1-3.4.3'!E90+'IND 3.1.1-3.4.3'!D94+'IND 3.1.1-3.4.3'!E94+'IND 3.1.1-3.4.3'!D98+'IND 3.1.1-3.4.3'!E98+'IND 3.1.1-3.4.3'!D102+'IND 3.1.1-3.4.3'!E102+'IND 3.1.1-3.4.3'!D105+'IND 3.1.1-3.4.3'!E105","v":0},{"$f":"'IND 3.1.1-3.4.3'!B22+'IND 3.1.1-3.4.3'!C22+'IND 3.1.1-3.4.3'!B26+'IND 3.1.1-3.4.3'!C26+'IND 3.1.1-3.4.3'!B30+'IND 3.1.1-3.4.3'!C30+'IND 3.1.1-3.4.3'!B34+'IND 3.1.1-3.4.3'!C34+'IND 3.1.1-3.4.3'!B38+'IND 3.1.1-3.4.3'!C38+'IND 3.1.1-3.4.3'!B42+'IND 3.1.1-3.4.3'!C42+'IND 3.1.1-3.4.3'!B46+'IND 3.1.1-3.4.3'!C46+'IND 3.1.1-3.4.3'!B50+'IND 3.1.1-3.4.3'!C50+'IND 3.1.1-3.4.3'!B54+'IND 3.1.1-3.4.3'!C54+'IND 3.1.1-3.4.3'!B57+'IND 3.1.1-3.4.3'!C57","v":0},null,{"$f":"'IND 3.1.1-3.4.3'!B70+'IND 3.1.1-3.4.3'!C70+'IND 3.1.1-3.4.3'!B74+'IND 3.1.1-3.4.3'!C74+'IND 3.1.1-3.4.3'!B78+'IND 3.1.1-3.4.3'!C78+'IND 3.1.1-3.4.3'!B82+'IND 3.1.1-3.4.3'!C82+'IND 3.1.1-3.4.3'!B86+'IND 3.1.1-3.4.3'!C86+'IND 3.1.1-3.4.3'!B90+'IND 3.1.1-3.4.3'!C90+'IND 3.1.1-3.4.3'!B94+'IND 3.1.1-3.4.3'!C94+'IND 3.1.1-3.4.3'!B98+'IND 3.1.1-3.4.3'!C98+'IND 3.1.1-3.4.3'!B102+'IND 3.1.1-3.4.3'!C102+'IND 3.1.1-3.4.3'!B105+'IND 3.1.1-3.4.3'!C105","v":0},"","","",null,null,"Catégorie C",{"$f":"SUM('IND 1.6.1'!B19:E19)","v":0},null,null,null,null,null,null,null,null,null,null,null,null,null,null,null,null,null,null,null,null,null,null,null,null,null,null,null,null,null,null,null,null,null,null,null,null,null,null,null,null,null,null,null,null,null,null,null,null,null,null,null,null,null,null,null,null,null,null,null,null,null,null,null,null,null,null,null,null,null,null,null,null,null,null,null,null,null,null,null,null,null,null,null,null,null,null,null,null,null,null,null,null,null,null,null,null,null,null,null,null,null,null,null,null,null,null,null,null,null,null,null,null,null,null,null,null,null,null,null,null,null,null,null,null,null,null,null,null,null,null,null,null,null,null,null,null,null,null,null,null,82,"Midi-Pyrénées","Centre de Gestion du Tarn-et-Garonne"]
[null,null,null,null,null,null,null,null,null,null,null,"Rang","Filière","Titulaire","Contractuel",null,null,null,"Nb agent Temps non complet",null,null,{"$f":"'IND 1.1.1'!$F$376","v":0},{"$f":"'IND 1.2.1'!M91","v":0},null,null,null,null,null,null,null,"CEP",{"$f":"SUM('IND 1.5.7'!$B$8:$B$10)","v":0},{"$f":"SUM('IND 1.5.7'!$C$8:$C$10)","v":0},null,null,null,null,"Total",null,{"$f":"SUM(AN69:AN71)","v":0},{"$f":"SUM(AO69:AO71)","v":0},{"$f":"SUM(AP69:AQ71)","v":0},null,{"$f":"SUM(AR69:AR71)","v":0},"","","",null,null,"Total ",{"$f":"SUM(AY69:AY71)","v":0},null,null,null,null,null,null,null,null,null,null,null,null,null,null,null,null,null,null,null,null,null,null,"Prestation servies par coll",null,null,null,null,null,null,null,null,null,null,null,null,null,null,null,null,null,null,null,null,null,null,null,null,null,null,null,null,null,null,null,null,null,null,null,null,null,null,null,null,null,null,null,null,null,null,null,null,null,null,null,null,null,null,null,null,null,null,null,null,null,null,null,null,null,null,null,null,null,null,null,null,null,null,null,null,null,null,null,null,null,null,null,null,null,null,null,null,null,null,null,null,null,null,null,null,null,null,null,null,null,null,null,null,null,null,null,null,null,null,null,null,null,null,null,null,null,59,"Nord","Centre de Gestion du Nord"]
[null,null,null,null,null,null,null,"Ensemble",null,null,null,{"$f":"IF(N73>0,RANK(N73,$N$72:$N$80,0)+COUNTIF(N$73:N74,N73)-1,\"\")","v":{"$error":"#VALUE!"}},"Administrative",{"$f":"IFERROR('IND 1.1.1'!$F$49/('IND 1.1.1'!$F$49+'IND 1.1.1'!$B$49),\"\")","v":""},{"$f":"IFERROR('IND 1.2.1'!$M$20/('IND 1.2.1'!$L$20+'IND 1.2.1'!$M$20),\"\")","v":""},null,null,null,"Nb agent Temps partiel",null,null,{"$f":"SUM('IND 1.1.2'!$D$90:$I$90)","v":0},{"$f":"SUM('IND 1.2.2'!$D$91:$I$91)","v":0},null,"Promotion choix",null,{"$f":"'IND 1.5.4-1.5.5'!$B$30","v":0},{"$f":"'IND 1.5.4-1.5.5'!$C$30","v":0},null,null,"Permanent",{"$f":"('IND 1.1.1'!G376+'IND 1.2.1'!Q91+'IND 1.2.1'!S91)","v":0},{"$f":"('IND 1.1.1'!H376+'IND 1.2.1'!R91+'IND 1.2.1'!T91)","v":0},null,null,null,null,null,null,null,null,null,null,null,null,null,null,null,null,null,null,null,null,null,null,null,null,null,null,null,null,null,null,null,null,null,null,null,null,null,null,null,null,{"$f":"'IND 7.1.1-7.1.3'!$B$20","v":"(vide)"},null,null,null,null,null,null,null,null,null,null,null,null,null,null,null,null,null,null,null,null,null,null,null,null,null,null,null,null,null,null,null,null,null,null,null,null,null,null,null,null,null,null,null,null,null,null,null,null,null,null,null,null,null,null,null,null,null,null,null,null,null,null,null,null,null,null,null,null,null,null,null,null,null,null,null,null,null,null,null,null,null,null,null,null,null,null,null,null,null,null,null,null,null,null,null,null,null,null,null,null,null,null,null,null,null,null,null,null,null,null,null,null,null,null,null,null,null,62,"Nord","Centre de Gestion du Pas-de-Calais"]
[null,"Emploi fonctionnel",null,{"$f":"SUM('IND 1.1.0'!B21:K21,'IND 1.1.0'!B36:K36,'IND 1.1.0'!B51:C51)","v":0},null,null,"Tranche d'âge","Titulaires","Permanents","N-perma","Ensemble",{"$f":"IF(N74>0,RANK(N74,$N$72:$N$80,0)+COUNTIF(N$73:N75,N74)-1,\"\")","v":{"$error":"#VALUE!"}},"Technique",{"$f":"IFERROR('IND 1.1.1'!$F$90/('IND 1.1.1'!$F$90+'IND 1.1.1'!$B$90),\"\")","v":""},{"$f":"IFERROR('IND 1.2.1'!$M$28/('IND 1.2.1'!$L$28+'IND 1.2.1'!$M$28),\"\")","v":""},null,null,null,null,null,null,null,null,null,"%",null,{"$f":"IF($AA$79=0,0,AA73/$AA$79)","v":0},{"$f":"IF($AB$79=0,0,AB73/$AB$79)","v":0},null,null,"%",{"$f":"IF(AF73=0,0,AF72/AF73)","v":0},{"$f":"IF(AG73=0,0,AG72/AG73)","v":0},null,null,null,null,null,null,null,null,null,null,null,null,null,null,null,null,"Jours de carence",null,null,null,null,null,null,null,"N",null,null,null,null,null,null,null,null,null,null,null,null,null,null,null,null,null,null,null,null,null,null,null,null,null,null,null,null,null,null,null,null,null,null,null,null,null,null,null,null,null,null,null,null,null,null,null,null,null,null,null,null,null,null,null,null,null,null,null,null,null,null,null,null,null,null,null,null,null,null,null,null,null,null,null,null,null,null,null,null,null,null,null,null,null,null,null,null,null,null,null,null,null,null,null,null,null,null,null,null,null,null,null,null,null,null,null,null,null,null,null,null,null,null,null,null,null,null,null,null,null,null,null,null,null,null,null,null,null,null,null,null,null,50,"Normandie","Centre de Gestion de la Manche"]
[null,"dt cont",null,{"$f":"'IND 1.1.0'!B51+'IND 1.1.0'!C51","v":0},null,null,"moins de 25 ans",{"$f":"22.5*'IND 1.7.1'!$C$37","v":0},{"$f":"22.5*'IND 1.7.1'!$D$37","v":0},{"$f":"22.5*'IND 1.7.1'!$E$37","v":0},{"$f":"SUM($H75:$I75)","v":0},{"$f":"IF(N75>0,RANK(N75,$N$72:$N$80,0)+COUNTIF(N$73:N76,N75)-1,\"\")","v":{"$error":"#VALUE!"}},"Culturelle",{"$f":"IFERROR('IND 1.1.1'!$F$145/('IND 1.1.1'!$F$145+'IND 1.1.1'!$B$145),\"\")","v":""},{"$f":"IFERROR('IND 1.2.1'!$M$39/('IND 1.2.1'!$L$39+'IND 1.2.1'!$M$39),\"\")","v":""},null,null,null,null,null,null,null,null,null,"examen pro",null,{"$f":"'IND 1.5.4-1.5.5'!$B$32","v":0},{"$f":"'IND 1.5.4-1.5.5'!$C$32","v":0},null,null,null,null,null,null,null,null,null,null,null,null,null,null,null,null,null,null,null,null,null,"Nombre total d'agents rémunérés et potentiellement soumis au jour de carence",null,null,null,null,null,null,null,{"$f":"SUM('IND 2.2.6'!$B$12:$G$12,'IND 2.2.6'!$B$21:$G$21)","v":0},null,null,null,null,null,null,null,null,null,null,null,null,null,null,null,null,null,null,null,null,null,null,null,null,null,null,null,null,null,null,null,null,null,null,null,null,null,null,null,null,null,null,null,null,null,null,null,null,null,null,null,null,null,null,null,null,null,null,null,null,null,null,null,null,null,null,null,null,null,null,null,null,null,null,null,null,null,null,null,null,null,null,null,null,null,null,null,null,null,null,null,null,null,null,null,null,null,null,null,null,null,null,null,null,null,null,null,null,null,null,null,null,null,null,null,null,null,null,null,null,null,null,null,null,null,null,null,null,null,null,null,null,null,44,"Pays-de-la-Loire","Centre de Gestion de Loire-Atlantique"]
[null,"dt femme",null,{"$f":"'IND 1.1.0'!C21+'IND 1.1.0'!E21+'IND 1.1.0'!G21+'IND 1.1.0'!I21+'IND 1.1.0'!K21+'IND 1.1.0'!C35+'IND 1.1.0'!E36+'IND 1.1.0'!G36+'IND 1.1.0'!I36+'IND 1.1.0'!K36+'IND 1.1.0'!C51","v":0},null,null,"25 - 29 ans",{"$f":"27.5*'IND 1.7.1'!$C$38","v":0},{"$f":"27.5*'IND 1.7.1'!$D$38","v":0},{"$f":"27.5*'IND 1.7.1'!$E$38","v":0},0,{"$f":"IF(N76>0,RANK(N76,$N$72:$N$80,0)+COUNTIF(N$73:N77,N76)-1,\"\")","v":{"$error":"#VALUE!"}},"Sportive",{"$f":"IFERROR('IND 1.1.1'!$F$166/('IND 1.1.1'!$F$166+'IND 1.1.1'!$B$166),\"\")","v":""},{"$f":"IFERROR('IND 1.2.1'!$M$44/('IND 1.2.1'!$L$44+'IND 1.2.1'!$M$44),\"\")","v":""},null,null,null,null,null,null,null,null,null,"%",null,{"$f":"IF($AA$79=0,0,AA75/$AA$79)","v":0},{"$f":"IF($AB$79=0,0,AB75/$AB$79)","v":0},null,null,null,null,null,null,null,null,"Cotise ass chomage",{"$f":"IF('IND 3.1.1-3.4.3'!$A$138=\"Êtes en auto-assurance avec convention de gestion avec Pôle Emploi\",\"La collectivité est en auto-assurance avec convention de gestion avec Pôle Emploi pour l'assurance chômage de ses agents contractuels\",IF('IND 3.1.1-3.4.3'!$A$138=\"Êtes en auto-assurance sans convention de gestion avec Pôle Emploi\",\"La collectivité est en auto-assurance sans convention de gestion avec Pôle Emploi pour l'assurance chômage de ses agents contractuels\",IF('IND 3.1.1-3.4.3'!$A$138=\"Avez adhéré au régime d'assurance chômage\",\"La collectivité a adhéré au régime général d'assurance chômage pour l'assurance chômage de ses agents contractuels\",\" \")))","v":" "},null,null,null,null,null,null,null,null,null,null,null,"Nombre d'agents auxquels a été appliqué au moins un jour de carence",null,null,null,null,null,null,null,{"$f":"SUM('IND 2.2.6'!$B$13:$G$13,'IND 2.2.6'!$B$22:$G$22)","v":0},null,null,null,null,null,null,null,null,null,null,null,null,null,null,null,null,null,null,null,null,null,null,null,null,null,null,null,null,null,null,null,null,null,null,null,null,null,null,null,null,null,null,null,null,null,null,null,null,null,null,null,null,null,null,null,null,null,null,null,null,null,null,null,null,null,null,null,null,null,null,null,null,null,null,null,null,null,null,null,null,null,null,null,null,null,null,null,null,null,null,null,null,null,null,null,null,null,null,null,null,null,null,null,null,null,null,null,null,null,null,null,null,null,null,null,null,null,null,null,null,null,null,null,null,null,null,null,null,null,null,null,null,null,49,"Pays-de-la-Loire","Centre de Gestion de Maine-et-Loire"]
[null,null,null,null,null,null,"30 - 34 ans",{"$f":"32.5*'IND 1.7.1'!$C$39","v":0},{"$f":"32.5*'IND 1.7.1'!$D$39","v":0},{"$f":"32.5*'IND 1.7.1'!$E$39","v":0},0,{"$f":"IF(N77>0,RANK(N77,$N$72:$N$80,0)+COUNTIF(N$73:N78,N77)-1,\"\")","v":{"$error":"#VALUE!"}},"Médico-sociale",{"$f":"IFERROR(('IND 1.1.1'!$F$204+'IND 1.1.1'!$F$266+'IND 1.1.1'!$F$280)/('IND 1.1.1'!$F$204+'IND 1.1.1'!$F$266+'IND 1.1.1'!$F$280+'IND 1.1.1'!$B$204+'IND 1.1.1'!$B$266+'IND 1.1.1'!$B$280),\"\")","v":""},{"$f":"IFERROR(('IND 1.2.1'!$M$52+'IND 1.2.1'!$M$65+'IND 1.2.1'!$M$69)/('IND 1.2.1'!$M$52+'IND 1.2.1'!$M$65+'IND 1.2.1'!$M$69+'IND 1.2.1'!$L$52+'IND 1.2.1'!$L$65+'IND 1.2.1'!$L$69),\"\")","v":""},null,null,null,null,null,null,null,null,null,"Concours",null,{"$f":"'IND 1.5.4-1.5.5'!$B$35","v":0},{"$f":"'IND 1.5.4-1.5.5'!$C$35","v":0},null,null,null,"A","B","C",null,null,null,null,null,null,null,null,null,null,null,null,null,null,null,null,null,null,null,null,null,null,null,null,null,null,null,null,null,null,null,null,null,null,null,null,null,null,null,null,null,null,null,null,null,null,null,null,null,null,null,null,null,null,null,null,null,null,null,null,null,null,null,null,null,null,null,null,null,null,null,null,null,null,null,null,null,null,null,null,null,null,null,null,null,null,null,null,null,null,null,null,null,null,null,null,null,null,null,null,null,null,null,null,null,null,null,null,null,null,null,null,null,null,null,null,null,null,null,null,null,null,null,null,null,null,null,null,null,null,null,null,null,null,null,null,null,null,null,null,null,null,null,null,null,null,null,null,null,null,null,null,null,null,null,null,null,53,"Pays-de-la-Loire","Centre de Gestion de la Mayenne"]
[null,null,null,null,null,null,"35 - 39 ans",{"$f":"37.5*'IND 1.7.1'!$C$40","v":0},{"$f":"37.5*'IND 1.7.1'!$D$40","v":0},{"$f":"37.5*'IND 1.7.1'!$E$40","v":0},0,{"$f":"IF(N78>0,RANK(N78,$N$72:$N$80,0)+COUNTIF(N$73:N79,N78)-1,\"\")","v":{"$error":"#VALUE!"}},"Police",{"$f":"IFERROR('IND 1.1.1'!$F$305/('IND 1.1.1'!$F$305+'IND 1.1.1'!$B$305),\"\")","v":""},{"$f":"IFERROR('IND 1.2.1'!$M$75/('IND 1.2.1'!$L$75+'IND 1.2.1'!$M$75),\"\")","v":""},null,null,null,null,null,null,null,null,null,"%",null,{"$f":"IF($AA$79=0,0,AA77/$AA$79)","v":0},{"$f":"IF($AB$79=0,0,AB77/$AB$79)","v":0},null,null,"CEP",{"$f":"SUM('IND 1.5.7'!$B$8:$C$8)","v":0},{"$f":"SUM('IND 1.5.7'!$B$9:$C$9)","v":0},{"$f":"SUM('IND 1.5.7'!$B$10:$C$10)","v":0},null,null,null,null,null,null,null,null,null,null,null,null,null,null,null,null,null,null,null,null,null,null,null,null,null,null,null,null,null,null,null,null,null,null,null,null,null,null,null,null,null,null,null,null,null,null,null,null,null,null,null,null,null,null,null,null,null,null,null,null,null,null,null,null,null,null,null,null,null,null,null,null,null,null,null,null,null,null,null,null,null,null,null,null,null,null,null,null,null,null,null,null,null,null,null,null,null,null,null,null,null,null,null,null,null,null,null,null,null,null,null,null,null,null,null,null,null,null,null,null,null,null,null,null,null,null,null,null,null,null,null,null,null,null,null,null,null,null,null,null,null,null,null,null,null,null,null,null,null,null,null,null,null,null,null,null,null,72,"Pays-de-la-Loire","Centre de Gestion de la Sarthe"]
[null,null,null,null,null,null,"40 - 44 ans",{"$f":"42.5*'IND 1.7.1'!$C$41","v":0},{"$f":"42.5*'IND 1.7.1'!$D$41","v":0},{"$f":"42.5*'IND 1.7.1'!$E$41","v":0},0,{"$f":"IF(N79>0,RANK(N79,$N$72:$N$80,0)+COUNTIF(N$73:N80,N79)-1,\"\")","v":{"$error":"#VALUE!"}},"Incendie",{"$f":"IFERROR('IND 1.1.1'!$F$357/('IND 1.1.1'!$F$357+'IND 1.1.1'!$B$357),\"\")","v":""},{"$f":"IFERROR('IND 1.2.1'!$M$85/('IND 1.2.1'!$L$85+'IND 1.2.1'!$M$85),\"\")","v":""},null,null,null,null,null,null,null,null,null,"fonc",null,{"$f":"'IND 1.1.1'!$G$376","v":0},{"$f":"'IND 1.1.1'!$H$376","v":0},null,null,"Permanent",{"$f":"SUMIF(GW2:GW60,\"A\",GX2:GX60)","v":0},{"$f":"SUMIF(GW2:GW60,\"B\",GX2:GX60)","v":0},{"$f":"SUMIF(GW2:GW60,\"C\",GX2:GX60)","v":0},null,null,null,null,null,null,null,null,null,null,null,null,null,null,null,null,null,null,null,null,null,null,null,null,null,null,null,null,null,null,null,null,null,null,null,null,null,null,null,null,null,null,null,null,null,null,null,null,null,null,null,null,null,null,null,null,null,null,null,null,null,null,null,null,null,null,null,null,null,null,null,null,null,null,null,null,null,null,null,null,null,null,null,null,null,null,null,null,null,null,null,null,null,null,null,null,null,null,null,null,null,null,null,null,null,null,null,null,null,null,null,null,null,null,null,null,null,null,null,null,null,null,null,null,null,null,null,null,null,null,null,null,null,null,null,null,null,null,null,null,null,null,null,null,null,null,null,null,null,null,null,null,null,null,null,null,null,85,"Pays-de-la-Loire","Centre de Gestion de la Vendée"]
[null,"ETPR",null,null,null,null,"45 - 49 ans",{"$f":"47.5*'IND 1.7.1'!$C$42","v":0},{"$f":"47.5*'IND 1.7.1'!$D$42","v":0},{"$f":"47.5*'IND 1.7.1'!$E$42","v":0},0,{"$f":"IF(N80>0,RANK(N80,$N$72:$N$80,0)+COUNTIF(N$73:N81,N80)-1,\"\")","v":{"$error":"#VALUE!"}},"Animation",{"$f":"IFERROR('IND 1.1.1'!$F$374/('IND 1.1.1'!$F$374+'IND 1.1.1'!$B$374),\"\")","v":""},{"$f":"IFERROR('IND 1.2.1'!$M$89/('IND 1.2.1'!$L$89+'IND 1.2.1'!$M$89),\"\")","v":""},null,null,null,null,null,null,null,null,null,null,null,null,null,null,null,"%",{"$f":"IF(AF79=0,0,AF78/AF79)","v":0},{"$f":"IF(AG79=0,0,AG78/AG79)","v":0},0,null,null,null,null,null,null,null,null,null,null,null,null,null,null,null,null,null,null,null,null,null,null,null,null,null,null,null,null,null,null,null,null,null,null,null,null,null,null,null,null,null,null,null,null,null,null,null,null,null,null,null,null,null,null,null,null,null,null,null,null,null,null,null,null,null,null,null,null,null,null,null,null,null,null,null,null,null,null,null,null,null,null,null,null,null,null,null,null,null,null,null,null,null,null,null,null,null,null,null,null,null,null,null,null,null,null,null,null,null,null,null,null,null,null,null,null,null,null,null,null,null,null,null,null,null,null,null,null,null,null,null,null,null,null,null,null,null,null,null,null,null,null,null,null,null,null,null,null,null,null,null,null,null,null,null,null,null,2,"Picardie","Centre de Gestion de l'Aisne"]
[null,null,null,"H","F","T","50 - 54 ans",{"$f":"52.5*'IND 1.7.1'!$C$43","v":0},{"$f":"52.5*'IND 1.7.1'!$D$43","v":0},{"$f":"52.5*'IND 1.7.1'!$E$43","v":0},0,null,null,null,null,null,null,null,null,null,null,null,null,null,null,null,null,null,null,null,null,null,null,null,null,null,"Nbre d'allocataire (contractuels",{"$f":"IF('IND 3.1.1-3.4.3'!$B$141=0,\" \",\nIF('IND 3.1.1-3.4.3'!$B$141=1,\"En 2019, \"&'IND 3.1.1-3.4.3'!$B$141&\" allocataire a bénéficié de l'indemnisation du chômage (ancien contractuel)\",\nIF('IND 3.1.1-3.4.3'!$B$141>1,\"En 2019, \"&'IND 3.1.1-3.4.3'!$B$141&\" allocataires ont bénéficié de l'indemnisation du chômage (anciens contractuels)\")))","v":" "},null,null,null,null,null,null,null,null,null,null,null,null,null,null,null,null,null,null,null,null,null,null,null,null,null,null,null,null,null,null,null,null,null,null,null,null,null,null,null,null,null,null,null,null,null,null,null,null,null,null,null,null,null,null,null,null,null,null,null,null,null,null,null,null,null,null,null,null,null,null,null,null,null,null,null,null,null,null,null,null,null,null,null,null,null,null,null,null,null,null,null,null,null,null,null,null,null,null,null,null,null,null,null,null,null,null,null,null,null,null,null,null,null,null,null,null,null,null,null,null,null,null,null,null,null,null,null,null,null,null,null,null,null,null,null,null,null,null,null,null,null,null,null,null,null,null,null,null,null,null,null,null,null,60,"Picardie","Centre de Gestion de l'Oise"]
[null,"Catégorie C",null,{"$f":"'IND 1.1.4'!$C$35+'IND 1.1.4'!$C$39+'IND 1.1.4'!$C$43+'IND 1.1.4'!$C$47+'IND 1.1.4'!$C$51+'IND 1.1.4'!$C$55+'IND 1.1.4'!$C$59+'IND 1.1.4'!$C$63+'IND 1.1.4'!$C$67+'IND 1.1.4'!$C$70+'IND 1.2.4'!$C$34+'IND 1.2.4'!$C$38+'IND 1.2.4'!$C$42+'IND 1.2.4'!$C$46+'IND 1.2.4'!$C$50+'IND 1.2.4'!$C$54+'IND 1.2.4'!$C$58+'IND 1.2.4'!$C$62+'IND 1.2.4'!$C$66+'IND 1.2.4'!$C$69","v":0},{"$f":"'IND 1.1.4'!$D$35+'IND 1.1.4'!$D$39+'IND 1.1.4'!$D$43+'IND 1.1.4'!$D$47+'IND 1.1.4'!$D$51+'IND 1.1.4'!$D$55+'IND 1.1.4'!$D$59+'IND 1.1.4'!$D$63+'IND 1.1.4'!$D$67+'IND 1.1.4'!$D$70+'IND 1.2.4'!$D$34+'IND 1.2.4'!$D$38+'IND 1.2.4'!$D$42+'IND 1.2.4'!$D$46+'IND 1.2.4'!$D$50+'IND 1.2.4'!$D$54+'IND 1.2.4'!$D$58+'IND 1.2.4'!$D$62+'IND 1.2.4'!$D$66+'IND 1.2.4'!$D$69","v":0},{"$f":"SUM(D82:E82)","v":0},"55 - 59 ans",{"$f":"57.5*'IND 1.7.1'!$C$44","v":0},{"$f":"57.5*'IND 1.7.1'!$D$44","v":0},{"$f":"57.5*'IND 1.7.1'!$E$44","v":0},0,null,"Graphique % Temps partiel hommes / femmes",null,null,null,null,null,null,null,null,null,null,null,"Départs",null,null,null,null,null,null,null,null,null,null,null,null,null,null,null,null,null,null,null,null,null,null,null,null,null,null,null,null,null,null,null,null,null,null,null,null,null,null,null,null,null,null,null,null,null,null,null,null,null,null,null,null,null,null,null,null,null,null,null,null,null,null,null,null,null,null,null,null,null,null,null,null,null,null,null,null,null,null,null,null,null,null,null,null,null,null,null,null,null,null,null,null,null,null,null,null,null,null,null,null,null,null,null,null,null,null,null,null,null,null,null,null,null,null,null,null,null,null,null,null,null,null,null,null,null,null,null,null,null,null,null,null,null,null,null,null,null,null,null,null,null,null,null,null,null,null,null,null,null,null,null,null,null,null,null,null,null,null,null,null,null,null,null,null,null,null,80,"Picardie","Centre de Gestion de la Somme"]
[null,"Catégorie B",null,{"$f":"'IND 1.1.4'!$C$34+'IND 1.1.4'!$C$38+'IND 1.1.4'!$C$42+'IND 1.1.4'!$C$46+'IND 1.1.4'!$C$50+'IND 1.1.4'!$C$54+'IND 1.1.4'!$C$58+'IND 1.1.4'!$C$62+'IND 1.1.4'!$C$66+'IND 1.1.4'!$C$69+'IND 1.2.4'!$C$33+'IND 1.2.4'!$C$37+'IND 1.2.4'!$C$41+'IND 1.2.4'!$C$45+'IND 1.2.4'!$C$49+'IND 1.2.4'!$C$53+'IND 1.2.4'!$C$57+'IND 1.2.4'!$C$61+'IND 1.2.4'!$C$65+'IND 1.2.4'!$C$68","v":0},{"$f":"'IND 1.1.4'!$D$34+'IND 1.1.4'!$D$38+'IND 1.1.4'!$D$42+'IND 1.1.4'!$D$46+'IND 1.1.4'!$D$50+'IND 1.1.4'!$D$54+'IND 1.1.4'!$D$58+'IND 1.1.4'!$D$62+'IND 1.1.4'!$D$66+'IND 1.1.4'!$D$69+'IND 1.2.4'!$D$33+'IND 1.2.4'!$D$37+'IND 1.2.4'!$D$41+'IND 1.2.4'!$D$45+'IND 1.2.4'!$D$49+'IND 1.2.4'!$D$53+'IND 1.2.4'!$D$57+'IND 1.2.4'!$D$61+'IND 1.2.4'!$D$65+'IND 1.2.4'!$D$68","v":0},{"$f":"SUM(D83:E83)","v":0},"60 - 64 ans",{"$f":"62.5*'IND 1.7.1'!$C$45","v":0},{"$f":"62.5*'IND 1.7.1'!$D$45","v":0},{"$f":"62.5*'IND 1.7.1'!$E$45","v":0},0,null,null,null,null,null,null,null,null,null,null,null,null,null,null,null,"Rang",null,null,null,"% - FC +C","Fonctionnaires","Contractuels",null,null,null,null,null,null,null,null,null,null,null,null,null,null,null,null,null,null,null,null,null,null,null,null,null,null,null,null,null,null,null,null,null,null,null,null,null,null,null,null,null,null,null,null,null,null,null,null,null,null,null,null,null,null,null,null,null,null,null,null,null,null,null,null,null,null,null,null,null,null,null,null,null,null,null,null,null,null,null,null,null,null,null,null,null,null,null,null,null,null,null,null,null,null,null,null,null,null,null,null,null,null,null,null,null,null,null,null,null,null,null,null,null,null,null,null,null,null,null,null,null,null,null,null,null,null,null,null,null,null,null,null,null,null,null,null,null,null,null,null,null,null,null,null,null,null,null,null,null,null,null,null,null,null,null,null,null,null,16,"Poitou-Charente","Centre de Gestion de la Charente"]
[null,"Catégorie A",null,{"$f":"'IND 1.1.4'!$C$33+'IND 1.1.4'!$C$37+'IND 1.1.4'!$C$41+'IND 1.1.4'!$C$45+'IND 1.1.4'!$C$49+'IND 1.1.4'!$C$53+'IND 1.1.4'!$C$57+'IND 1.1.4'!$C$61+'IND 1.1.4'!$C$65+'IND 1.2.4'!$C$32+'IND 1.2.4'!$C$36+'IND 1.2.4'!$C$40+'IND 1.2.4'!$C$44+'IND 1.2.4'!$C$48+'IND 1.2.4'!$C$52+'IND 1.2.4'!$C$56+'IND 1.2.4'!$C$60+'IND 1.2.4'!$C$64","v":0},{"$f":"'IND 1.1.4'!$D$33+'IND 1.1.4'!$D$37+'IND 1.1.4'!$D$41+'IND 1.1.4'!$D$45+'IND 1.1.4'!$D$49+'IND 1.1.4'!$D$53+'IND 1.1.4'!$D$57+'IND 1.1.4'!$D$61+'IND 1.1.4'!$D$65+'IND 1.2.4'!$D$32+'IND 1.2.4'!$D$36+'IND 1.2.4'!$D$40+'IND 1.2.4'!$D$44+'IND 1.2.4'!$D$48+'IND 1.2.4'!$D$52+'IND 1.2.4'!$D$56+'IND 1.2.4'!$D$60+'IND 1.2.4'!$D$64","v":0},{"$f":"SUM(D84:E84)","v":0},"65 ans ou plus",{"$f":"67.5*'IND 1.7.1'!$C$46","v":0},{"$f":"67.5*'IND 1.7.1'!$D$46","v":0},{"$f":"67.5*'IND 1.7.1'!$E$46","v":0},0,null,null,"Temps plein","Temps partiel",null,null,null,null,null,null,null,null,null,"Départs \"temporaires\"","Rémunéré",null,"Mise à disposition",null,null,{"$f":"IF($D$69+$D$70>0,(AF84+AG84)/($AF$105+$AG$105),\"\")","v":""},null,null,null,null,null,null,null,null,null,null,null,null,null,null,null,null,null,null,null,null,null,null,null,null,null,null,null,null,null,null,null,null,null,null,null,null,null,null,null,null,null,null,null,null,null,null,null,null,null,null,null,null,null,null,null,null,null,null,null,null,null,null,null,null,null,null,null,null,null,null,null,null,null,null,null,null,null,null,null,null,null,null,null,null,null,null,null,null,null,null,null,null,null,null,null,null,null,null,null,null,null,null,null,null,null,null,null,null,null,null,null,null,null,null,null,null,null,null,null,null,null,null,null,null,null,null,null,null,null,null,null,null,null,null,null,null,null,null,null,null,null,null,null,null,null,null,null,null,null,null,null,null,null,null,null,null,null,null,null,null,17,"Poitou-Charente","Centre de Gestion de la Charente Maritime"]
[null,null,null,null,null,null,"TOTAL",{"$f":"SUM(H75:H84)","v":0},{"$f":"SUM(I75:I84)","v":0},{"$f":"SUM(J75:J84)","v":0},{"$f":"SUM(K75:K84)","v":0},null,"Hommes",{"$f":"('IND 1.1.2'!B90+'IND 1.2.2'!B91)/('IND 1.1.2'!J90+'IND 1.2.2'!J91)","v":{"$error":"#DIV/0!"}},{"$f":"1-N85","v":{"$error":"#DIV/0!"}},null,null,null,null,null,null,null,null,null,null,null,null,"Décharge de service",null,null,"",null,null,null,null,null,null,null,null,null,null,null,null,null,null,null,null,null,null,null,null,null,null,null,null,null,null,null,null,null,null,null,null,null,null,null,null,null,null,null,null,null,null,null,null,null,null,null,null,null,null,null,null,null,null,null,null,null,null,null,null,null,null,null,null,null,null,null,null,null,null,null,null,null,null,null,null,null,null,null,null,null,null,null,null,null,null,null,null,null,null,null,null,null,null,null,null,null,null,null,null,null,null,null,null,null,null,null,null,null,null,null,null,null,null,null,null,null,null,null,null,null,null,null,null,null,null,null,null,null,null,null,null,null,null,null,null,null,null,null,null,null,null,null,null,null,null,null,null,null,null,null,null,null,null,null,null,null,null,null,null,79,"Poitou-Charente","Centre de Gestion des Deux-Sèvres"]
[null,null,null,null,null,{"$f":"TEXT(F82,\"#,00\")&\" ETPR\"","v":",00 ETPR"},"MOYENNE",{"$f":"$H$85/'IND 1.7.1'!$C$47","v":{"$error":"#DIV/0!"}},{"$f":"$I$85/'IND 1.7.1'!$D$47","v":{"$error":"#DIV/0!"}},{"$f":"$J$85/'IND 1.7.1'!$E$47","v":{"$error":"#DIV/0!"}},{"$f":"$K$85/('IND 1.7.1'!$C$47+'IND 1.7.1'!$D$47)","v":{"$error":"#DIV/0!"}},null,"Femmes",{"$f":"('IND 1.1.2'!C90+'IND 1.2.2'!C91)/('IND 1.1.2'!K90+'IND 1.2.2'!K91)","v":{"$error":"#DIV/0!"}},{"$f":"1-N86","v":{"$error":"#DIV/0!"}},null,null,null,null,null,null,null,null,null,null,null,null,"Congé spécial",null,null,"",null,null,null,null,null,"Nbre d'allocataire (fonctionaires)",{"$f":"IF('IND 3.1.1-3.4.3'!$B$131+'IND 3.1.1-3.4.3'!$B$132=0,\" \",\nIF('IND 3.1.1-3.4.3'!$B$131+'IND 3.1.1-3.4.3'!$B$132=1,\"En 2019, \"&'IND 3.1.1-3.4.3'!$B$131+'IND 3.1.1-3.4.3'!$B$132&\" allocataire a bénéficié de l'indemnisation du chômage (ancien fonctionnaire)\",\nIF('IND 3.1.1-3.4.3'!$B$131+'IND 3.1.1-3.4.3'!$B$132>1,\"En 2019, \"&'IND 3.1.1-3.4.3'!$B$131+'IND 3.1.1-3.4.3'!$B$132&\" allocataires ont bénéficié de l'indemnisation du chômage (anciens fonctionNaires)\")))","v":" "},null,null,null,null,null,null,null,null,null,null,null,null,null,null,null,null,null,null,null,null,null,null,null,null,null,null,null,null,null,null,null,null,null,null,null,null,null,null,null,null,null,null,null,null,null,null,null,null,null,null,null,null,null,null,null,null,null,null,null,null,null,null,null,null,null,null,null,null,null,null,null,null,null,null,null,null,null,null,null,null,null,null,null,null,null,null,null,null,null,null,null,null,null,null,null,null,null,null,null,null,null,null,null,null,null,null,null,null,null,null,null,null,null,null,null,null,null,null,null,null,null,null,null,null,null,null,null,null,null,null,null,null,null,null,null,null,null,null,null,null,null,null,null,null,null,null,null,null,null,null,null,null,null,86,"Poitou-Charente","Centre de Gestion de la Vienne"]
[null,null,null,null,null,{"$f":"TEXT(F83,\"#,00\")&\" ETPR\"","v":",00 ETPR"},null,null,null,null,null,null,null,null,null,null,null,null,null,null,null,null,null,null,null,"Non rémunéré",{"$f":"IF(AE87=0,\"\",RANK(AE87,$AE$87:$AE$104,0)+COUNTIF($AE$87:AE87,AE87)-1)","v":{"$error":"#VALUE!"}},"Congé formation indemnisé",null,null,"",{"$f":"'IND 1.5.0'!F23+'IND 1.5.0'!J23","v":0},{"$f":"'IND 1.5.0'!F52+'IND 1.5.0'!J52","v":0},null,null,null,null,null,null,null,null,null,null,null,null,null,null,null,null,null,null,null,null,null,null,null,null,null,null,null,null,null,null,null,null,null,null,null,null,null,null,null,null,null,null,null,null,null,null,null,null,null,null,null,null,null,null,null,null,null,null,null,null,null,null,null,null,null,null,null,null,null,null,null,null,null,null,null,null,null,null,null,null,null,null,null,null,null,null,null,null,null,null,null,null,null,null,null,null,null,null,null,null,null,null,null,null,null,null,null,null,null,null,null,null,null,null,null,null,null,null,null,null,null,null,null,null,null,null,null,null,null,null,null,null,null,null,null,null,null,null,null,null,null,null,null,null,null,null,null,null,null,null,null,null,null,null,null,null,null,null,4,"Provence-Alpes-Côte d'Azur","Centre de Gestion des Alpes de Haute-Provence"]
[null,null,null,null,null,{"$f":"TEXT(F84,\"#,00\")&\" ETPR\"","v":",00 ETPR"},{"$f":"IF(O29<>\"\",O29,O31)","v":" "},null,null,null,null,null,null,null,null,null,null,null,null,null,null,null,null,null,null,null,{"$f":"IF(AE88=0,\"\",RANK(AE88,$AE$87:$AE$104,0)+COUNTIF($AE$87:AE88,AE88)-1)","v":{"$error":"#VALUE!"}},"Congé formation > à un an",null,null,"",{"$f":"'IND 1.5.0'!F24+'IND 1.5.0'!J24","v":0},{"$f":"'IND 1.5.0'!F53+'IND 1.5.0'!J53","v":0},null,null,null,null,null,null,null,null,null,null,null,null,null,null,null,null,null,null,null,null,null,null,null,null,null,null,null,null,null,null,null,null,null,null,null,null,null,null,null,null,null,null,null,null,null,null,null,null,null,null,null,null,null,null,null,null,null,null,null,null,null,null,null,null,null,null,null,null,null,null,null,null,null,null,null,null,null,null,null,null,null,null,null,null,null,null,null,null,null,null,null,null,null,null,null,null,null,null,null,null,null,null,null,null,null,null,null,null,null,null,null,null,null,null,null,null,null,null,null,null,null,null,null,null,null,null,null,null,null,null,null,null,null,null,null,null,null,null,null,null,null,null,null,null,null,null,null,null,null,null,null,null,null,null,null,null,null,null,5,"Provence-Alpes-Côte d'Azur","Centre de Gestion des Hautes-Alpes"]
[null,null,null,null,null,null,null,null,null,null,null,null,null,null,null,null,null,null,null,null,null,null,null,null,null,null,{"$f":"IF(AE89=0,\"\",RANK(AE89,$AE$87:$AE$104,0)+COUNTIF($AE$87:AE89,AE89)-1)","v":{"$error":"#VALUE!"}},"Détachement",null,null,"",{"$f":"'IND 1.5.0'!F25+'IND 1.5.0'!J25","v":0},null,null,null,null,null,null,null,null,null,null,null,null,null,null,null,null,null,null,null,null,null,null,null,null,null,null,null,null,null,null,null,null,null,null,null,null,null,"Répartition des jours de formation",null,null,null,null,null,null,null,null,null,null,null,null,null,null,null,null,null,null,null,null,null,null,null,null,null,null,null,null,null,null,null,null,null,null,null,null,null,null,null,null,null,null,null,null,null,null,null,null,null,null,null,null,null,null,null,null,null,null,null,null,null,null,null,null,null,null,null,null,null,null,null,null,null,null,null,null,null,null,null,null,null,null,null,null,null,null,null,null,null,null,null,null,null,null,null,null,null,null,null,null,null,null,null,null,null,null,null,null,null,null,null,null,null,null,null,null,null,null,null,null,null,6,"Provence-Alpes-Côte d'Azur","Centre de Gestion des Alpes-Maritimes"]
[null,null,null,null,null,null,null,null,null,null,null,null,null,null,null,null,null,null,null,null,null,null,null,null,null,null,{"$f":"IF(AE90=0,\"\",RANK(AE90,$AE$87:$AE$104,0)+COUNTIF($AE$87:AE90,AE90)-1)","v":{"$error":"#VALUE!"}},"Mise en disponibilité",null,null,"",{"$f":"'IND 1.5.0'!F26+'IND 1.5.0'!J26","v":0},null,null,null,null,null,null,null,null,null,null,null,null,null,null,null,null,null,null,null,null,null,null,null,null,null,null,null,null,null,null,null,null,null,null,null,null,null,"Catégorie A",{"$f":"IF($D$69+$D$70=0, \"  \",BS97/BS102)","v":"  "},null,null,null,null,null,null,null,null,null,null,null,null,null,null,null,null,null,null,null,null,null,null,null,null,null,null,null,null,null,null,null,null,null,null,null,null,null,null,null,null,null,null,null,null,null,null,null,null,null,null,null,null,null,null,null,null,null,null,null,null,null,null,null,null,null,null,null,null,null,null,null,null,null,null,null,null,null,null,null,null,null,null,null,null,null,null,null,null,null,null,null,null,null,null,null,null,null,null,null,null,null,null,null,null,null,null,null,null,null,null,null,null,null,null,null,null,null,null,null,null,13,"Provence-Alpes-Côte d'Azur","Centre de Gestion des Bouches du Rhône"]
[null,null,null,null,null,null,null,null,null,null,null,null,null,null,null,null,null,null,null,null,null,null,null,null,null,null,{"$f":"IF(AE91=0,\"\",RANK(AE91,$AE$87:$AE$104,0)+COUNTIF($AE$87:AE91,AE91)-1)","v":{"$error":"#VALUE!"}},"Congé parental",null,null,"",{"$f":"'IND 1.5.0'!F29+'IND 1.5.0'!J29","v":0},{"$f":"'IND 1.5.0'!F54+'IND 1.5.0'!J54","v":0},null,null,null,null,null,null,null,null,null,null,null,null,null,null,null,null,null,null,null,null,null,null,null,null,null,null,null,null,null,null,null,null,null,null,null,null,"Catégorie B",{"$f":"IF($D$69+$D$70=0, \"  \",BS98/BS102)","v":"  "},null,null,null,null,null,null,null,null,null,null,null,null,null,null,null,null,null,null,null,null,null,null,null,null,null,null,null,null,null,null,null,null,null,null,null,null,null,null,null,null,null,null,null,null,null,null,null,null,null,null,null,null,null,null,null,null,null,null,null,null,null,null,null,null,null,null,null,null,null,null,null,null,null,null,null,null,null,null,null,null,null,null,null,null,null,null,null,null,null,null,null,null,null,null,null,null,null,null,null,null,null,null,null,null,null,null,null,null,null,null,null,null,null,null,null,null,null,null,null,null,83,"Provence-Alpes-Côte d'Azur","Centre de Gestion du Var"]
[null,null,null,null,null,null,null,null,null,null,null,null,null,null,null,null,null,null,null,null,null,null,null,null,null,null,{"$f":"IF(AE92=0,\"\",RANK(AE92,$AE$87:$AE$104,0)+COUNTIF($AE$87:AE92,AE92)-1)","v":{"$error":"#VALUE!"}},"Congés sans traitement",null,null,"",null,{"$f":"'IND 1.5.0'!F55+'IND 1.5.0'!J55","v":0},null,null,null,null,null,null,null,null,null,null,null,null,null,null,null,null,null,null,null,null,null,null,null,null,null,null,null,null,"AJOUT RIFSEEP ?","CIA ?","HS / HC",null,null,null,null,null,"Catégorie C",{"$f":"IF($D$69+$D$70=0, \"  \",BS99/BS102)","v":"  "},null,null,null,null,null,null,null,null,null,null,null,null,null,null,null,null,null,null,null,null,null,null,null,null,null,null,null,null,null,null,null,null,null,null,null,null,null,null,null,null,null,null,null,null,null,null,null,null,null,null,null,null,null,null,null,null,null,null,null,null,null,null,null,null,null,null,null,null,null,null,null,null,null,null,null,null,null,null,null,null,null,null,null,null,null,null,null,null,null,null,null,null,null,null,null,null,null,null,null,null,null,null,null,null,null,null,null,null,null,null,null,null,null,null,null,null,null,null,null,null,84,"Provence-Alpes-Côte d'Azur","Centre de Gestion du Vaucluse"]
[null,null,null,null,null,null,null,null,null,null,null,null,null,null,null,null,null,null,null,null,null,null,null,null,"Départs  \"définitifs\"",null,{"$f":"IF(AE93=0,\"\",RANK(AE93,$AE$87:$AE$104,0)+COUNTIF($AE$87:AE93,AE93)-1)","v":{"$error":"#VALUE!"}},"Mutation",null,null,"",{"$f":"'IND 1.5.0'!F30+'IND 1.5.0'!J30","v":0},null,null,null,null,null,null,null,null,null,null,null,null,null,null,null,null,null,null,null,null,null,null,null,null,null,null,null,null,null,null,null,null,null,null,null,null,null,null,null,null,null,null,null,null,null,null,null,null,null,null,null,null,null,null,null,null,null,null,null,null,null,null,null,null,null,null,null,null,null,null,null,null,null,null,null,null,null,null,null,null,null,null,null,null,null,null,null,null,null,null,null,null,null,null,null,null,null,null,null,null,null,null,null,null,null,null,null,null,null,null,null,null,null,null,null,null,null,null,null,null,null,null,null,null,null,null,null,null,null,null,null,null,null,null,null,null,null,null,null,null,null,null,null,null,null,null,null,null,null,null,null,null,null,null,null,null,null,null,null,1,"Rhône-Alpes","Centre de Gestion de l'Ain"]
[null,null,null,null,null,null,null,null,null,null,null,null,null,null,null,null,null,null,null,null,null,null,null,null,null,null,{"$f":"IF(AE94=0,\"\",RANK(AE94,$AE$87:$AE$104,0)+COUNTIF($AE$87:AE94,AE94)-1)","v":{"$error":"#VALUE!"}},"Fin de détachement ",null,null,"",{"$f":"'IND 1.5.0'!F31+'IND 1.5.0'!J31","v":0},null,null,null,null,null,null,null,null,null,null,null,null,null,null,null,null,null,null,null,null,null,null,null,null,null,null,null,null,null,null,null,null,null,null,null,null,null,null,null,null,null,null,null,null,null,null,null,null,null,null,null,null,null,null,null,null,null,null,null,null,null,null,null,null,null,null,null,null,null,null,null,null,null,null,null,null,null,null,null,null,null,null,null,null,null,null,null,null,null,null,null,null,null,null,null,null,null,null,null,null,null,null,null,null,null,null,null,null,null,null,null,null,null,null,null,null,null,null,null,null,null,null,null,null,null,null,null,null,null,null,null,null,null,null,null,null,null,null,null,null,null,null,null,null,null,null,null,null,null,null,null,null,null,null,null,null,null,null,null,7,"Rhône-Alpes","Centre de Gestion de l'Ardèche"]
[null,null,null,null,null,null,null,null,null,null,null,null,null,null,null,null,null,null,null,null,null,null,null,null,null,null,{"$f":"IF(AE95=0,\"\",RANK(AE95,$AE$87:$AE$104,0)+COUNTIF($AE$87:AE95,AE95)-1)","v":{"$error":"#VALUE!"}},"Décharge d'emploi et de fonction",null,null,"",{"$f":"'IND 1.5.0'!F32+'IND 1.5.0'!J32","v":0},null,null,null,null,null,null,null,null,null,null,null,null,null,null,null,null,null,null,null,null,null,null,null,null,null,null,null,null,null,null,null,null,null,null,null,null,null,"Nombre de jours de formation",null,null,null,null,null,null,null,null,null,null,null,null,null,null,null,null,null,null,null,null,null,null,null,null,null,null,null,null,null,null,null,null,null,null,null,null,null,null,null,null,null,null,null,null,null,null,null,null,null,null,null,null,null,null,null,null,null,null,null,null,null,null,null,null,null,null,null,null,null,null,null,null,null,null,null,null,null,null,null,null,null,null,null,null,null,null,null,null,null,null,null,null,null,null,null,null,null,null,null,null,null,null,null,null,null,null,null,null,null,null,null,null,null,null,null,null,null,null,null,null,null,26,"Rhône-Alpes","Centre de Gestion de la Drôme"]
[null,null,null,null,null,null,null,null,null,null,null,null,null,null,null,null,null,null,null,null,null,null,null,null,null,null,{"$f":"IF(AE96=0,\"\",RANK(AE96,$AE$87:$AE$104,0)+COUNTIF($AE$87:AE96,AE96)-1)","v":{"$error":"#VALUE!"}},"Agent pris en charge par le CNFPT ou le CDG",null,null,"",{"$f":"'IND 1.5.0'!F33+'IND 1.5.0'!J33","v":0},null,null,null,null,null,null,null,null,null,null,null,null,null,null,null,null,null,null,null,null,null,null,null,null,null,null,null,null,null,"Agent sur emploi permanent ayant participé à au moins une formation ",null,null,null,null,null,null,null,"Emploi permanent",null,null,null,null,null,null,null,null,null,null,null,null,null,null,null,null,null,null,null,null,null,null,null,null,null,null,null,null,null,null,null,null,null,null,null,null,null,null,null,null,null,null,null,null,null,null,null,null,null,null,null,null,null,null,null,null,null,null,null,null,null,null,null,null,null,null,null,null,null,null,null,null,null,null,null,null,null,null,null,null,null,null,null,null,null,null,null,null,null,null,null,null,null,null,null,null,null,null,null,null,null,null,null,null,null,null,null,null,null,null,null,null,null,null,null,null,null,null,null,null,null,38,"Rhône-Alpes","Centre de Gestion de l'Isère"]
[null,null,null,null,null,null,null,null,null,null,null,null,null,null,null,null,null,null,null,null,null,null,null,null,null,null,{"$f":"IF(AE97=0,\"\",RANK(AE97,$AE$87:$AE$104,0)+COUNTIF($AE$87:AE97,AE97)-1)","v":{"$error":"#VALUE!"}},"Démission",null,null,"",{"$f":"'IND 1.5.0'!F34+'IND 1.5.0'!J34","v":0},{"$f":"'IND 1.5.0'!F56+'IND 1.5.0'!J56","v":0},null,null,null,null,null,null,null,null,null,null,null,null,null,null,null,null,null,null,null,null,null,null,null,null,null,null,null,null,null,null,null,null,null,null,null,"Catégorie A",null,{"$f":"IF($D$69+$D$70=0,0,('IND 5.1.1'!$F$35+'IND 5.1.1'!$F$69))","v":0},null,null,null,null,null,null,null,null,null,null,null,null,null,null,null,null,null,null,null,null,null,null,null,null,null,null,null,null,null,null,null,null,null,null,null,null,null,null,null,null,null,null,null,null,null,null,null,null,null,null,null,null,null,null,null,null,null,null,null,null,null,null,null,null,null,null,null,null,null,null,null,null,null,null,null,null,null,null,null,null,null,null,null,null,null,null,null,null,null,null,null,null,null,null,null,null,null,null,null,null,null,null,null,null,null,null,null,null,null,null,null,null,null,null,null,null,null,null,null,null,42,"Rhône-Alpes","Centre de Gestion de la Loire"]
[null,null,null,null,null,null,null,null,null,null,null,null,null,null,null,null,null,null,null,null,null,null,null,null,null,null,{"$f":"IF(AE98=0,\"\",RANK(AE98,$AE$87:$AE$104,0)+COUNTIF($AE$87:AE98,AE98)-1)","v":{"$error":"#VALUE!"}},"Fin de contrats remplacants",null,null,"",null,{"$f":"IF('IND 1.5.0'!F57=0,'IND 1.5.0'!F58,'IND 1.5.0'!F57)+IF('IND 1.5.0'!J57=0,'IND 1.5.0'!J58,'IND 1.5.0'!J57)","v":0},null,null,null,null,null,null,null,null,null,null,null,null,null,null,null,null,null,null,null,null,null,null,null,null,null,null,null,null,null,"Fonctionnaires","Contractuels",null,null,null,null,"Catégorie B",null,{"$f":"IF($D$69+$D$70=0,0,('IND 5.1.1'!$F$43+'IND 5.1.1'!$F$77))","v":0},null,null,null,null,null,null,null,null,null,null,null,null,null,null,null,null,null,null,null,null,null,null,null,null,null,null,null,null,null,null,null,null,null,null,null,null,null,null,null,null,null,null,null,null,null,null,null,null,null,null,null,null,null,null,null,null,null,null,null,null,null,null,null,null,null,null,null,null,null,null,null,null,null,null,null,null,null,null,null,null,null,null,null,null,null,null,null,null,null,null,null,null,null,null,null,null,null,null,null,null,null,null,null,null,null,null,null,null,null,null,null,null,null,null,null,null,null,null,null,null,69,"Rhône-Alpes","Centre de Gestion du Rhône"]
[null,null,null,null,null,null,null,null,null,null,null,null,null,null,null,null,null,null,null,null,null,null,null,null,null,null,{"$f":"IF(AE99=0,\"\",RANK(AE99,$AE$87:$AE$104,0)+COUNTIF($AE$87:AE99,AE99)-1)","v":""},null,null,null,null,null,null,null,null,null,null,null,null,null,null,null,null,null,null,null,null,null,null,null,null,null,null,null,null,null,null,null,null,null,null,"Catégorie A",{"$f":"IF($D$69=0,\" \",IF(('IND 5.1.1'!$B$12+'IND 5.1.1'!$C$12)/SUMIF(GW2:GW60,\"A\",GY2:GY60)>100%,100%,('IND 5.1.1'!$B$12+'IND 5.1.1'!$C$12)/SUMIF(GW2:GW60,\"A\",GY2:GY60)))","v":" "},{"$f":"IF($D$70=0,\" \",IF(('IND 5.1.1'!$D$12+'IND 5.1.1'!$E$12)/SUMIF(GW2:GW60,\"A\",GZ2:GZ60)>100%,100%,('IND 5.1.1'!$D$12+'IND 5.1.1'!$E$12)/SUMIF(GW2:GW60,\"A\",GZ2:GZ60)))","v":" "},null,null,null,null,"Catégorie C",null,{"$f":"IF($D$69+$D$70=0,0,('IND 5.1.1'!$F$51+'IND 5.1.1'!$F$85))","v":0},null,null,null,null,null,null,null,null,null,null,null,null,null,null,null,null,null,null,null,null,null,null,null,null,null,null,null,null,null,null,null,null,null,null,null,null,null,null,null,null,null,null,null,null,null,null,null,null,null,null,null,null,null,null,null,null,null,null,null,null,null,null,null,null,null,null,null,null,null,null,null,null,null,null,null,null,null,null,null,null,null,null,null,null,null,null,null,null,null,null,null,null,null,null,null,null,null,null,null,null,null,null,null,null,null,null,null,null,null,null,null,null,null,null,null,null,null,null,null,null,73,"Rhône-Alpes","Centre de Gestion de la Savoie"]
[null,null,null,null,null,null,null,null,null,null,null,null,null,null,null,null,null,null,null,null,null,null,null,null,null,null,{"$f":"IF(AE100=0,\"\",RANK(AE100,$AE$87:$AE$104,0)+COUNTIF($AE$87:AE100,AE100)-1)","v":{"$error":"#VALUE!"}},"Départ à la retraite",null,null,{"$f":"IF($D$69+$D$70>0,(AF100+AG100)/($AF$105+$AG$105),\"\")","v":""},{"$f":"'IND 1.5.0'!F35+'IND 1.5.0'!J35","v":0},{"$f":"'IND 1.5.0'!F59+'IND 1.5.0'!J59","v":0},null,null,null,null,null,null,null,null,null,null,null,null,null,null,null,null,null,null,null,null,null,null,null,null,null,null,null,null,"Catégorie B",{"$f":"IF($D$69=0,\" \",IF(('IND 5.1.1'!$B$13+'IND 5.1.1'!$C$13)/SUMIF(GW2:GW60,\"B\",GY2:GY60)>100%,100%,('IND 5.1.1'!$B$13+'IND 5.1.1'!$C$13)/SUMIF(GW2:GW60,\"B\",GY2:GY60)))","v":" "},{"$f":"IF($D$70=0,\" \",IF(('IND 5.1.1'!$D$13+'IND 5.1.1'!$E$13)/SUMIF(GW2:GW60,\"B\",GZ2:GZ60)>100%,100%,('IND 5.1.1'!$D$13+'IND 5.1.1'!$E$13)/SUMIF(GW2:GW60,\"B\",GZ2:GZ60)))","v":" "},null,null,null,null,"Total jours format° hors hors catégorie",null,{"$f":"SUM(BS97:BS99)","v":0},null,null,null,null,null,null,null,null,null,null,null,null,null,null,null,null,null,null,null,null,null,null,null,null,null,null,null,null,null,null,null,null,null,null,null,null,null,null,null,null,null,null,null,null,null,null,null,null,null,null,null,null,null,null,null,null,null,null,null,null,null,null,null,null,null,null,null,null,null,null,null,null,null,null,null,null,null,null,null,null,null,null,null,null,null,null,null,null,null,null,null,null,null,null,null,null,null,null,null,null,null,null,null,null,null,null,null,null,null,null,null,null,null,null,null,null,null,null,null,null,74,"Rhône-Alpes","Centre de Gestion de la Haute-Savoie"]
[null,null,null,null,null,null,null,null,null,null,null,null,null,null,null,null,null,null,null,null,null,null,null,null,null,null,{"$f":"IF(AE101=0,\"\",RANK(AE101,$AE$87:$AE$104,0)+COUNTIF($AE$87:AE101,AE101)-1)","v":{"$error":"#VALUE!"}},"Licenciement",null,null,{"$f":"IF($D$69+$D$70>0,(AF101+AG101)/($AF$105+$AG$105),\"\")","v":""},{"$f":"'IND 1.5.0'!F36+'IND 1.5.0'!J36","v":0},{"$f":"'IND 1.5.0'!F60+'IND 1.5.0'!J60","v":0},null,null,null,null,null,null,null,null,null,null,null,null,null,null,null,null,null,null,null,null,null,null,null,null,null,null,null,null,"Catégorie C",{"$f":"IF($D$69=0,\" \",IF(('IND 5.1.1'!$B$14+'IND 5.1.1'!$C$14)/SUMIF(GW2:GW60,\"c\",GY2:GY60)>100%,100%,('IND 5.1.1'!$B$14+'IND 5.1.1'!$C$14)/SUMIF(GW2:GW60,\"c\",GY2:GY60)))","v":" "},{"$f":"IF($D$70=0,\" \",IF(('IND 5.1.1'!$D$14+'IND 5.1.1'!$E$14)/SUMIF(GW2:GW60,\"C\",GZ2:GZ60)>100%,100%,('IND 5.1.1'!$D$14+'IND 5.1.1'!$E$14)/SUMIF(GW2:GW60,\"C\",GZ2:GZ60)))","v":" "},null,null,null,null,null,null,null,null,null,null,null,null,null,null,null,null,null,null,null,null,null,null,null,null,null,null,null,null,null,null,null,null,null,null,null,null,null,null,null,null,null,null,null,null,null,null,null,null,null,null,null,null,null,null,null,null,null,null,null,null,null,null,null,null,null,null,null,null,null,null,null,null,null,null,null,null,null,null,null,null,null,null,null,null,null,null,null,null,null,null,null,null,null,null,null,null,null,null,null,null,null,null,null,null,null,null,null,null,null,null,null,null,null,null,null,null,null,null,null,null,null,null,null,null,null,null,null,971,"Guadeloupe","Centre de Gestion de la Guadeloupe"]
[null,null,null,null,null,null,null,null,null,null,null,null,"1.4.1 Nombre d'agents originaires de la collectivité",null,null,null,null,null,null,null,null,null,null,null,null,null,{"$f":"IF(AE102=0,\"\",RANK(AE102,$AE$87:$AE$104,0)+COUNTIF($AE$87:AE102,AE102)-1)","v":{"$error":"#VALUE!"}},"Décès",null,null,{"$f":"IF($D$69+$D$70>0,(AF102+AG102)/($AF$105+$AG$105),\"\")","v":""},{"$f":"'IND 1.5.0'!F37+'IND 1.5.0'!J37","v":0},{"$f":"'IND 1.5.0'!F61+'IND 1.5.0'!J61","v":0},null,null,null,null,null,null,null,null,null,null,null,null,null,null,null,null,null,null,null,null,null,null,null,null,null,null,null,null,"Total",{"$f":"IF((D69+D70)=0,\"\",'IND 5.1.1'!$F$15/(D69+D70))","v":""},null,null,null,null,null,"Total toutes catégories",null,{"$f":"('IND 5.1.1'!$F$55+'IND 5.1.1'!$F$89)","v":0},null,null,null,null,null,null,null,null,null,null,null,null,null,null,null,null,null,null,null,null,null,null,null,null,null,null,null,null,null,null,null,null,null,null,null,null,null,null,null,null,null,null,null,null,null,null,null,null,null,null,null,null,null,null,null,null,null,null,null,null,null,null,null,null,null,null,null,null,null,null,null,null,null,null,null,null,null,null,null,null,null,null,null,null,null,null,null,null,null,null,null,null,null,null,null,null,null,null,null,null,null,null,null,null,null,null,null,null,null,null,null,null,null,null,null,null,null,null,null,null,972,"Martinique","Centre dee Gestion de la Martinique"]
[null,null,null,null,null,null,null,null,null,null,null,null,null,1,2,0,"sexe",null,null,null,null,null,null,null,null,null,{"$f":"IF(AE103=0,\"\",RANK(AE103,$AE$87:$AE$104,0)+COUNTIF($AE$87:AE103,AE103)-1)","v":{"$error":"#VALUE!"}},"Autres cas",null,null,{"$f":"IF($D$69+$D$70>0,(AF103+AG103)/($AF$105+$AG$105),\"\")","v":""},{"$f":"'IND 1.5.0'!F40+'IND 1.5.0'!J40","v":0},{"$f":"'IND 1.5.0'!F64+'IND 1.5.0'!J64","v":0},null,null,null,null,null,null,null,null,null,null,null,null,null,null,null,null,null,null,null,null,null,null,null,null,null,null,null,null,null,null,null,null,null,null,null,null,null,null,null,null,null,null,null,null,null,null,null,null,null,null,null,null,null,null,null,null,null,null,null,null,null,null,null,null,null,null,null,null,null,null,null,null,null,null,null,null,null,null,null,null,null,null,null,null,null,null,null,null,null,null,null,null,null,null,null,null,null,null,null,null,null,null,null,null,null,null,null,null,null,null,null,null,null,null,null,null,null,null,null,null,null,null,null,null,null,null,null,null,null,null,null,null,null,null,null,null,null,null,null,null,null,null,null,null,null,null,null,null,null,null,null,null,null,null,null,null,null,null,973,"Guyane","Centre de Gestion de la Guyane"]
[null,null,null,null,null,null,null,null,null,null,null,null,"au 31/12/2019","Hommes","Femmes","Total","position1",null,null,"7 lignes",null,null,null,null,null,null,{"$f":"IF(AE104=0,\"\",RANK(AE104,$AE$87:$AE$104,0)+COUNTIF($AE$87:AE104,AE104)-1)","v":{"$error":"#VALUE!"}},"Transfert de compétence",null,null,{"$f":"IF($D$69+$D$70>0,(AF104+AG104)/($AF$105+$AG$105),\"\")","v":""},{"$f":"'IND 1.5.0'!F38+'IND 1.5.0'!J38","v":0},{"$f":"'IND 1.5.0'!F62+'IND 1.5.0'!J62","v":0},null,null,null,null,null,null,null,null,null,null,null,null,null,null,null,null,null,null,null,null,null,null,null,null,null,null,null,null,"VAE",null,null,null,null,null,null,null,null,null,null,null,null,null,null,null,null,null,null,null,null,null,null,null,null,null,null,null,null,null,null,null,null,null,null,null,null,null,null,null,null,null,null,null,null,null,null,null,null,null,null,null,null,null,null,null,null,null,null,null,null,null,null,null,null,null,null,null,null,null,null,null,null,null,null,null,null,null,null,null,null,null,null,null,null,null,null,null,null,null,null,null,null,null,null,null,null,null,null,null,null,null,null,null,null,null,null,null,null,null,null,null,null,null,null,null,null,null,null,null,null,null,null,null,null,null,null,null,null,null,974,"Réunion","Centre de Gestion de la Réunion"]
[null,null,null,null,null,null,null,null,null,null,null,null,"En congé parental (article 75)\nFonctionnaires et contractuels",null,null,null,10,null,null,3,{"$f":"IF(SUM('IND 1.4.1-1.4.4'!$B$10:$C$10)=0,\"\",IF(SUM('IND 1.4.1-1.4.4'!$B$10:$C$10)=1,\"> Un agent en congés parental\"&CHAR(10),\"> \"&SUM('IND 1.4.1-1.4.4'!$B$10:$C$10)&\" agents en congés parental\"&CHAR(10)))","v":""},null,null,null,null,null,null,"Totaux",null,null,null,{"$f":"SUM(AF86:AF104)","v":0},{"$f":"SUM(AG86:AG104)","v":0},null,null,null,null,null,null,null,null,null,null,null,null,null,null,null,null,null,null,null,null,null,null,null,null,null,null,null,null,null,null,null,null,null,null,null,null,null,null,null,null,null,null,null,null,null,null,null,null,null,null,null,null,null,null,null,null,null,null,null,null,null,null,null,null,null,null,null,null,null,null,null,null,null,null,null,null,null,null,null,null,null,null,null,null,null,null,null,null,null,null,null,null,null,null,null,null,null,null,null,null,null,null,null,null,null,null,null,null,null,null,null,null,null,null,null,null,null,null,null,null,null,null,null,null,null,null,null,null,null,null,null,null,null,null,null,null,null,null,null,null,null,null,null,null,null,null,null,null,null,null,null,null,null,null,null,null,null,null,976,"Mayotte","Centre de Gestion de Mayotte"]
[null,null,null,null,null,null,null,null,null,null,null,null,"En disponibilité (article 72) hors ceux mis en disponibilité d'office ou bénéficiaires d'un congé équivalent pour les contractuels\nFonctionnaires et contractuels",null,null,null,20,null,null,4,{"$f":"IF(SUM('IND 1.4.1-1.4.4'!$B$11:$C$11)=0,\"\",IF(SUM('IND 1.4.1-1.4.4'!$B$11:$C$11)=1,\"> Un agent en disponibilité\"&CHAR(10),\"> \"&SUM('IND 1.4.1-1.4.4'!$B$11:$C$11)&\" agents en disponibilité\"&CHAR(10)))","v":""},null,null,null,null,null,null,null,null,null,null,null,null,null,null,null,null,null,null,null,null,null,null,null,null,null,null,null,null,null,null,null,null,null,null,null,null,null,null,null,null,null,null,null,null,null,null,null,null,"Répartition des jours de formations "]
[null,null,null,null,null,null,null,null,null,null,null,null,"dont disponibilité de droit                                      ",null,null,{"$f":"N107+O107","v":0},21,null,null,null,null,null,null,null,null,null,null,"Légende",3,"Départs fonctionnaire",null,null,null,null,null,null,null,null,null,null,null,null,null,null,null,null,null,null,null,null,null,null,null,null,null,null,null,null,null,null,null,null,null,"Coûts de formation",null,null,null,null,"CNFPT",null,{"$f":"IF(BS102=0,\"\",('IND 5.1.1'!$B$55+'IND 5.1.1'!$C$55+'IND 5.1.1'!$B$89+'IND 5.1.1'!$C$89)/('IND 5.1.1'!$F$55+'IND 5.1.1'!$F$89))","v":""}]
[null,null,null,null,null,null,null,null,null,null,null,null,"En disponibilité d'office ou bénéficiaires d'un congé équivalent\nFonctionnaires et contractuels",null,null,0,22,null,null,8,{"$f":"IF(SUM('IND 1.4.1-1.4.4'!$B$13:$C$15)=0,\"\",IF(SUM('IND 1.4.1-1.4.4'!$B$13:$C$15)=1,\"> Un agent dans une autre situation (disponibilité d'office, congés spécial ou hors cadre)\"&CHAR(10),\"> \"&SUM(SUM('IND 1.4.1-1.4.4'!$B$13:$C$15))&\" agents dans d'autres situations (disponibilité d'office, congés spécial et hors cadre)\"&CHAR(10)))","v":""},null,null,null,null,null,null,"Légende",4,"Départs de contractuels",null,null,null,null,null,null,null,null,null,null,null,null,null,null,null,null,null,null,null,null,null,null,null,null,null,null,null,null,null,null,null,null,"CNFPT",null,{"$f":"'IND 5.1.4'!$C$11+'IND 5.1.4'!$C$12","v":0},null,null,null,"Autres organismes",null,{"$f":"IF(BS102=0,\"\",('IND 5.1.1'!$E$55+'IND 5.1.1'!$E$89)/('IND 5.1.1'!$F$55+'IND 5.1.1'!$F$89))","v":""}]
[null,null,null,null,null,null,null,null,null,null,null,null,"En position hors cadres (article 70)\nFonctionnaires uniquement",null,null,0,79,null,null,null,null,null,null,null,null,null,null,null,null,null,null,null,null,null,null,null,null,null,null,null,null,null,null,null,null,null,null,null,null,null,null,null,null,null,null,null,null,null,null,null,null,null,"Autres organismes",null,{"$f":"'IND 5.1.4'!$C$13","v":0},null,null,null,"Interne",null,{"$f":"IF(BS102=0,\"\",('IND 5.1.1'!$D$55+'IND 5.1.1'!$D$89)/('IND 5.1.1'!$F$55+'IND 5.1.1'!$F$89))","v":""}]
[null,null,null,null,null,null,null,null,null,null,null,null,"En congé spécial (article 99)\nFonctionnaires uniquement",null,null,0,80,null,null,null,null,null,null,null,"1.5.4","Nomimation stagiaire au sein de la collectivité (Contractuel permanent)",null,null,null,null,null,null,{"$f":"'IND 1.5.4-1.5.5'!B17+'IND 1.5.4-1.5.5'!C17","v":0},null,null,null,null,null,null,null,null,null,null,null,null,null,null,null,null,null,null,null,null,null,null,null,null,null,null,null,null,null,"Collectivité",null,{"$f":"'IND 5.1.4'!$C$14","v":0}]
[null,null,null,null,null,null,null,null,null,null,null,null,null,null,null,null,null,null,null,null,null,null,null,null,null,"Nomimation stagiaire au sein de la collectivité (Contractuel non permanent)",null,null,null,null,null,null,{"$f":"'IND 1.5.4-1.5.5'!B18+'IND 1.5.4-1.5.5'!C18","v":0},null,null,null,null,null,null,null,null,null,null,null,null,null,null,null,null,null,null,null,null,null,null,null,null,null,null,null,null,null,"total max",null,{"$f":"SUM(BM108:BM110)","v":0}]
[null,null,null,null,null,null,null,null,null,null,null,null," Détachés dans une autre structure (article 64) \nFonctionnaires uniquement :","Hommes","Femmes","Total",null,null,null,7,{"$f":"IF(SUM('IND 1.4.1-1.4.4'!$B$18:$C$21)=0,\"\",IF(SUM('IND 1.4.1-1.4.4'!$B$18:$C$21)=1,\"> Un agent détaché dans une autre structure\"&CHAR(10),\"> \"&SUM('IND 1.4.1-1.4.4'!$B$18:$C$21)&\" agents détachés dans une autre structure\"&CHAR(10)))","v":""}]
[null,null,null,null,null,null,null,null,null,null,null,null,"Fonction publique d'Etat",null,null,{"$f":"N113+O113","v":0},41,null,null,null,null,null,null,null,"Arrivées hors conctractuels déjà présents"]
[null,null,null,null,null,null,null,null,null,null,null,null,"Fonction publique hospitalière",null,null,{"$f":"N114+O114","v":0},42,null,null,null,null,null,null,null,null,null,"Rang",null,null,null,"% FC + C","Fonctionnaires","Contractuels",null,null,null,null,null,null,null,null,null,null,null,null,null,null,null,null,null,null,null,null,null,null,null,null,null,null,null,null,"Rang"]
[null,null,null,null,null,null,null,null,null,null,null,null,"Autre collectivité",null,null,{"$f":"N115+O115","v":0},43,null,null,null,null,null,null,null,"Arrivée de fonctionnaires hors contractuels permanents déjà présents","agents non rémunérés",{"$f":"IF(AE115=0,\"\",RANK(AE115,$AE$115:$AE$124,0)+COUNTIF($AE$115:AE115,AE115)-1)","v":{"$error":"#DIV/0!"}},"Recrutement direct",null,null,{"$f":"(AF115+AG115)/($AF$126+$AG$126)","v":{"$error":"#DIV/0!"}},{"$f":"'IND 1.5.2'!B93+'IND 1.5.2'!D93","v":0},null,null,null,null,null,null,null,null,null,null,null,null,null,null,null,null,null,null,null,null,null,null,null,null,null,null,null,null,null,{"$f":"IF(BL115=0,\"\",RANK(BL115,$BL$114:$BL$125,0)+COUNTIF(BL$114:BL115,BL115)-1)","v":""},"Probité, intégrité (détournement, conservation de fonds, malversation, vol, dégradation, dettes, chèque sans provision)",{"$f":"'IND 6.1.4'!B46+'IND 6.1.4'!C46","v":0},{"$f":"BL115/SUM($BL$115:$BL$125)","v":{"$error":"#DIV/0!"}}]
[null,null,null,null,null,null,null,null,null,null,null,null,"Autres structures*",null,null,{"$f":"N116+O116","v":0},44,null,null,null,null,null,null,null,null,null,{"$f":"IF(AE116=0,\"\",RANK(AE116,$AE$115:$AE$124,0)+COUNTIF($AE$115:AE116,AE116)-1)","v":{"$error":"#DIV/0!"}},"Voie de concours, sélection professionnelle",null,null,{"$f":"(AF116+AG116)/($AF$126+$AG$126)","v":{"$error":"#DIV/0!"}},{"$f":"'IND 1.5.2'!E93+'IND 1.5.2'!G93","v":0},null,null,null,null,null,null,null,null,null,null,null,null,null,null,null,null,null,null,null,null,null,null,null,null,null,null,null,null,null,{"$f":"IF(BL116=0,\"\",RANK(BL116,$BL$114:$BL$125,0)+COUNTIF(BL$114:BL116,BL116)-1)","v":""},"Qualité de service (manquement aux sujétions du service, négligence, désobéissance hiérarchique, absence irrégulière, abandon de poste)",{"$f":"'IND 6.1.4'!B47+'IND 6.1.4'!C47","v":0},{"$f":"BL116/SUM($BL$115:$BL$125)","v":{"$error":"#DIV/0!"}}]
[null,null,null,null,null,null,null,null,null,null,null,null,null,null,null,null,null,null,null,null,null,null,null,null,null,null,{"$f":"IF(AE117=0,\"\",RANK(AE117,$AE$115:$AE$124,0)+COUNTIF($AE$115:AE117,AE117)-1)","v":""},null,null,null,null,null,null,null,null,null,null,null,null,null,null,null,null,null,null,null,null,null,null,null,null,null,null,null,null,null,null,null,null,null,null,{"$f":"IF(BL117=0,\"\",RANK(BL117,$BL$114:$BL$125,0)+COUNTIF(BL$114:BL117,BL117)-1)","v":""},"Atteinte à la discrétion professionnelle, au secret professionnel, au secret des correspondances, à la vie privée, à la liberté individuelle",{"$f":"'IND 6.1.4'!B48+'IND 6.1.4'!C48","v":0},{"$error":"#DIV/0!"}]
[null,null,null,null,null,null,null,null,null,null,null,null,"*Par exemple : fonction publique d'un Etat de l'Union européenne (FPEUE).",null,null,null,null,null,null,null,null,null,null,null,null,null,{"$f":"IF(AE118=0,\"\",RANK(AE118,$AE$115:$AE$124,0)+COUNTIF($AE$115:AE118,AE118)-1)","v":{"$error":"#DIV/0!"}},"Intégration directe ",null,null,{"$f":"(AF118+AG118)/($AF$126+$AG$126)","v":{"$error":"#DIV/0!"}},{"$f":"'IND 1.5.2'!I93","v":0},null,null,null,null,null,null,null,null,null,null,null,null,null,null,null,null,null,null,null,null,null,null,null,null,null,null,null,null,null,{"$f":"IF(BL118=0,\"\",RANK(BL118,$BL$114:$BL$125,0)+COUNTIF(BL$114:BL118,BL118)-1)","v":""},"Incorrections, violences, insultes, harcèlement moral",{"$f":"'IND 6.1.4'!B49+'IND 6.1.4'!C49","v":0},{"$error":"#DIV/0!"}]
[null,null,null,null,null,null,null,null,null,null,null,null,null,null,null,null,null,null,null,null,null,null,null,null,null,null,{"$f":"IF(AE119=0,\"\",RANK(AE119,$AE$115:$AE$124,0)+COUNTIF($AE$115:AE119,AE119)-1)","v":{"$error":"#DIV/0!"}},"Voie de mutation",null,null,{"$error":"#DIV/0!"},{"$f":"'IND 1.5.2'!J93","v":0},null,null,null,null,null,null,null,null,null,null,null,null,null,null,null,null,null,null,null,null,null,null,null,null,null,null,null,null,null,{"$f":"IF(BL119=0,\"\",RANK(BL119,$BL$114:$BL$125,0)+COUNTIF(BL$114:BL119,BL119)-1)","v":""},"Ivresse",{"$f":"'IND 6.1.4'!B50+'IND 6.1.4'!C50","v":0},{"$error":"#DIV/0!"}]
[null,null,null,null,null,null,null,null,null,null,null,null,"Détachés au sein de leur propre collectivité :\nFonctionnaires uniquement","Hommes","Femmes","Total",null,null,null,6,{"$f":"IF(SUM('IND 1.4.1-1.4.4'!$B$26:$C$28)=0,\"\",IF(SUM('IND 1.4.1-1.4.4'!$B$26:$C$28)=1,\"> Un agent détaché au sein de la collectivité\"&CHAR(10),\"> \"&SUM('IND 1.4.1-1.4.4'!$B$26:$C$28)&\" agents détachés au sein de la collectivité\"&CHAR(10)))","v":""},null,null,null,null,null,{"$f":"IF(AE120=0,\"\",RANK(AE120,$AE$115:$AE$124,0)+COUNTIF($AE$115:AE120,AE120)-1)","v":{"$error":"#DIV/0!"}},"Voie de détachement",null,null,{"$error":"#DIV/0!"},{"$f":"SUM('IND 1.5.2'!K93:N93)","v":0},null,null,null,null,null,null,null,null,null,null,null,null,null,null,null,null,null,null,null,null,null,null,null,null,null,null,null,null,null,{"$f":"IF(BL120=0,\"\",RANK(BL120,$BL$114:$BL$125,0)+COUNTIF(BL$114:BL120,BL120)-1)","v":""},"Mœurs (dont harcèlement sexuel)",{"$f":"'IND 6.1.4'!B51+'IND 6.1.4'!C51","v":0},{"$error":"#DIV/0!"}]
[null,null,null,null,null,null,null,null,null,null,null,null,"Détachés sur un emploi fonctionnel dans leur collectivité",null,null,{"$f":"N121+O121","v":0},51,null,null,null,null,null,null,null,null,null,{"$f":"IF(AE121=0,\"\",RANK(AE121,$AE$115:$AE$124,0)+COUNTIF($AE$115:AE121,AE121)-1)","v":{"$error":"#DIV/0!"}},"Transfert de compétence",null,null,{"$error":"#DIV/0!"},{"$f":"'IND 1.5.2'!O93","v":0},null,null,null,null,null,null,null,null,null,null,null,null,null,null,null,null,null,null,null,null,null,null,null,null,null,null,null,null,null,{"$f":"IF(BL121=0,\"\",RANK(BL121,$BL$114:$BL$125,0)+COUNTIF(BL$114:BL121,BL121)-1)","v":""},"Manquement à l'obligation de laïcité, atteinte au principe de neutralité, discrimination, manquement à l'obligation de réserve",{"$f":"'IND 6.1.4'!B52+'IND 6.1.4'!C52","v":0},{"$error":"#DIV/0!"}]
[null,null,null,null,null,null,null,null,null,null,null,null,"Détachés sur un emploi de cabinet dans leur collectivité",null,null,{"$f":"N122+O122","v":0},52,null,null,null,null,null,null,null,null,null,{"$f":"IF(AE122=0,\"\",RANK(AE122,$AE$115:$AE$124,0)+COUNTIF($AE$115:AE122,AE122)-1)","v":{"$error":"#DIV/0!"}},"Réintégration et retour",null,null,{"$error":"#DIV/0!"},{"$f":"'IND 1.5.2'!P93+'IND 1.5.2'!Q93","v":0},{"$f":"'IND 1.5.3'!F13","v":0},null,null,null,null,null,null,null,null,null,null,null,null,null,null,null,null,null,null,null,null,null,null,null,null,null,null,null,null,{"$f":"IF(BL122=0,\"\",RANK(BL122,$BL$114:$BL$125,0)+COUNTIF(BL$114:BL122,BL122)-1)","v":""},"Conflit d'intérêt, trafic d'influence, prise illégale d'intérêts",{"$f":"'IND 6.1.4'!B53+'IND 6.1.4'!C53","v":0},{"$error":"#DIV/0!"}]
[null,null,null,null,null,null,null,null,null,null,null,null,"Changement de filière",null,null,{"$f":"N123+O123","v":0},53,null,null,null,null,null,null,null,null,null,{"$f":"IF(AE123=0,\"\",RANK(AE123,$AE$115:$AE$124,0)+COUNTIF($AE$115:AE123,AE123)-1)","v":{"$error":"#DIV/0!"}},"Arrivées de contractuels",null,null,{"$error":"#DIV/0!"},null,{"$f":"'IND 1.5.3'!F98","v":0},null,null,null,null,null,null,null,null,null,null,null,null,null,null,null,null,null,null,null,null,null,null,null,null,null,null,null,null,{"$f":"IF(BL123=0,\"\",RANK(BL123,$BL$114:$BL$125,0)+COUNTIF(BL$114:BL123,BL123)-1)","v":""},"Exercice d'une activité privée rémunérée sans autorisation",{"$f":"'IND 6.1.4'!B54+'IND 6.1.4'!C54","v":0},{"$error":"#DIV/0!"}]
[null,null,null,null,null,null,null,null,null,null,null,null,null,null,null,null,null,null,null,null,null,null,null,null,null,null,{"$f":"IF(AE124=0,\"\",RANK(AE124,$AE$115:$AE$124,0)+COUNTIF($AE$115:AE124,AE124)-1)","v":{"$error":"#DIV/0!"}},"Remplacements (contractuels)",null,null,{"$error":"#DIV/0!"},null,{"$f":"'IND 1.5.3'!F12","v":0},null,null,null,null,null,null,null,null,null,null,null,null,null,null,null,null,null,null,null,null,null,null,null,null,null,null,null,null,{"$f":"IF(BL124=0,\"\",RANK(BL124,$BL$114:$BL$125,0)+COUNTIF(BL$114:BL124,BL124)-1)","v":""},"Comportement privé affectant le renom du service, condamnation pénale (pour manquements non mentionnés dans les colonnes précédentes)",{"$f":"'IND 6.1.4'!B55+'IND 6.1.4'!C55","v":0},{"$error":"#DIV/0!"}]
[null,null,null,null,null,null,null,null,null,null,null,null,"Mis à disposition dans une autre structure (articles 61 et 136) Fonctionnaires et contractuels","Hommes","Femmes","Total",null,null,null,null,null,null,null,null,null,"agents rémunérés",null,"Retours d'agents en positions particulières ayant été rémunérés pendant la période d'absence",null,null,{"$error":"#DIV/0!"},{"$f":"'IND 1.5.2'!R93","v":0},{"$f":"'IND 1.5.3'!F14","v":0},null,null,null,null,null,null,null,null,null,null,null,null,null,null,null,null,null,null,null,null,null,null,null,null,null,null,null,null,{"$f":"IF(BL125=0,\"\",RANK(BL125,$BL$114:$BL$125,0)+COUNTIF(BL$114:BL125,BL125)-1)","v":""},"Autres",{"$f":"'IND 6.1.4'!B56+'IND 6.1.4'!C56","v":0},{"$error":"#DIV/0!"}]
[null,null,null,null,null,null,null,null,null,null,null,null,"Ensemble",null,null,{"$f":"N126+O126","v":0},70,null,null,2,{"$f":"IF(SUM('IND 1.4.1-1.4.4'!$B$31:$C$31)=0,\"\",IF(SUM('IND 1.4.1-1.4.4'!$B$31:$C$31)=1,\"> Un agent mis à disposition dans une autre structure\"&CHAR(10),\"> \"&SUM('IND 1.4.1-1.4.4'!$B$31:$C$31)&\" agents mis à disposition dans une autre structure\"&CHAR(10)))","v":""},null,null,null,null,null,null,"Totaux",null,null,null,{"$f":"SUM(AF115:AF124)","v":0},{"$f":"SUM(AG115:AG124)","v":0}]
[null,null,null,null,null,null,null,null,null,null,null,null,"dont mis à disposition d'une organisation syndicale",null,null,{"$f":"N127+O127","v":0},71]
[null,null,null,null,null,null,null,null,null,null,null,null,null,null,null,null,null,null,null,null,null,null,null,null,"1.5.2",null,5,"recrutement direct",null,null,null,{"$f":"'IND 1.5.2'!C93","v":0}]
[null,null,null,null,null,null,null,null,null,null,null,null,null,null,null,null,null,null,null,null,null,null,null,null,null,null,null,"lauréat concours",null,null,null,{"$f":"'IND 1.5.2'!F93","v":0}]
[null,null,null,null,null,null,null,null,null,null,null,null,null,null,null,null,null,null,null,null,null,null,null,null,null,null,null,"Article 38",null,null,null,{"$f":"'IND 1.5.2'!H93","v":0}]
[null,null,null,null,null,null,null,null,null,null,null,null,"     1.4.2 Nombre d'agents originaires d'une autre structure "]
[null,null,null,null,null,null,null,null,null,null,null,null,null,null,null,null,null,null,null,null,null,null,null,null,null,null,null,"Légende",1,"Arrivées fonctionnaire"]
[null,null,null,null,null,null,null,null,null,null,null,null,"au 31/12/2019","Emploi non fonctionnel",null,"Emploi fonctionnel",null,"Emploi de cabinet",null,null,null,null,null,null,null,null,null,"Légende",2,"Arrivées de contractuels"]
[null,null,null,null,null,null,null,null,null,null,null,null,null,"Hommes","Femmes","Hommes","Femmes","Hommes","Femmes",5,{"$f":"IF(SUM(synthese!Valeur_142)=0,\"\",IF(SUM(synthese!Valeur_142)=1,\"> Un agent détaché dans la collectivité et originaire d'une autre structure\"&CHAR(10),\"> \"&SUM(synthese!Valeur_142)&\" agents détachés dans la collectivité et originaires d'une autre structure\"&CHAR(10)))","v":""}]
[null,null,null,null,null,null,null,null,null,null,null,null,"Détachés dans votre collectivité et issus de :"]
[null,null,null,null,null,null,null,null,null,null,null,null,"Fonction publique d'Etat"]
[null,null,null,null,null,null,null,null,null,null,null,null,"Fonction publique hospitalière"]
[null,null,null,null,null,null,null,null,null,null,null,null,"Autre collectivité",null,null,null,null,null,null,null,null,null,null,null,null,"Effectif 31/12/N-1","Arrivée",null,"Contractuels nommés stagiaires",null,"Départ",null,"Effectif 31/12/N","Variation"]
[null,null,null,null,null,null,null,null,null,null,null,null,"Autres structures* "]
[null,null,null,null,null,null,null,null,null,null,null,null,null,1,2,1,2,1,2,null,null,null,null,"Emploi permanent",null,{"$f":"AG140+AE140-AA140","v":0},{"$f":"SUM(AF115:AG124)","v":0},null,"-",null,{"$f":"SUM(AF87:AG104)","v":0},null,{"$f":"D69+D70","v":0},{"$f":"IF(AND(Z140=0,AG140=0),\"\",IF(AND(Z140=0,AG140<>0),IF(AG140<2,\"1 agent\",AG140 & \" agents\"),(AG140-Z140)/Z140))","v":""}]
[null,null,null,null,null,null,null,null,null,null,null,null,"*par exemple : fonction publique d'un Etat de l'Union européenne (FPEUE)."]
[null,null,null,null,null,null,null,null,null,null,null,null,null,null,null,null,null,null,null,null,null,null,null,"Fonctionnaire",null,{"$f":"AG142+AE142-AC142-AA142","v":0},{"$f":"SUM(AF115:AF124)","v":0},null,{"$f":"SUM(AF128:AF130)","v":0},null,{"$f":"SUM(AF87:AF104)","v":0},null,{"$f":"D69","v":0},{"$f":"IF(AND(Z142=0,AG142=0),\"\",IF(AND(Z142=0,AG142<>0),IF(AG142<2,\"1 agent\",AG142 & \" agents\"),(AG142-Z142)/Z142))","v":""}]
[null,null,null,null,null,null,null,null,null,null,null,null,"1.4.3 Nombre d'agents originaires d'une autre structure mis à disposition (*)"]
[null,null,null,null,null,null,null,null,null,null,null,null,null,1,1,2,2,"statut1",null,null,null,null,null,"Contractuels",null,{"$f":"AG144+AC144+AE144-AA144","v":0},{"$f":"SUM(AG115:AG124)","v":0},null,{"$f":"SUM(AF128:AF130)","v":0},null,{"$f":"SUM(AG87:AG104)","v":0},null,{"$f":"D70","v":0},{"$f":"IF(AND(Z144=0,AG144=0),\"\",IF(AND(Z144=0,AG144<>0),IF(AG144<2,\"1 agent\",AG144 & \" agents\"),(AG144-Z144)/Z144))","v":""}]
[null,null,null,null,null,null,null,null,null,null,null,null,"au 31/12/2019","Fonctionnaires",null,"Contractuels sur\nemploi permanent",null,"position3",null,null,null,null,null,null,null,null,null,null,null,null,null,null,null,null,"Rémunération"]
[null,null,null,null,null,null,null,null,null,null,null,null,null,"Hommes","Femmes","Hommes","Femmes",null,null,null,null,null,null,null,null,null,null,null,null,null,null,null,null,null,null,null,"Catégorie A",null,null,null,"Catégorie B",null,null,"Catégorie C"]
[null,null,null,null,null,null,null,null,null,null,null,null,"Mis à disposition de votre collectivité",null,null,null,null,1,null,1,{"$f":"IF(SUM('IND 1.4.1-1.4.4'!$B$52:$E$52)=0,\"\",IF(SUM('IND 1.4.1-1.4.4'!$B$52:$E$52)=1,\"> Un agent mis à disposition dans la collectivité\"&CHAR(10),\"> \"&SUM('IND 1.4.1-1.4.4'!$B$52:$E$52)&\" agents mis à disposition dans la collectivité\"&CHAR(10)))","v":""},null,null,null,null,null,null,null,null,null,null,null,null,null,null,null,"Titulaire",null,null,"Contractuel","Titulaire","Contractuel",null,"Titulaire",null,"Contractuel"]
[null,null,null,null,null,null,null,null,null,null,null,null,"dont originaire de la fonction publique d'Etat",null,null,null,null,2,null,null,null,null,null,null,null,null,null,null,null,null,null,null,null,null,"Administrative",null,{"$f":"SUM('IND 3.1.1-3.4.3'!$B$20:$C$20)","v":0},null,null,{"$f":"SUM('IND 3.1.1-3.4.3'!$B$68:$C$68)","v":0},{"$f":"SUM('IND 3.1.1-3.4.3'!$B$21:$C$21)","v":0},{"$f":"SUM('IND 3.1.1-3.4.3'!$B$69:$C$69)","v":0},null,{"$f":"SUM('IND 3.1.1-3.4.3'!$B$22:$C$22)","v":0},null,{"$f":"SUM('IND 3.1.1-3.4.3'!$B$70:$C$70)","v":0}]
[null,null,null,null,null,null,null,null,null,null,null,null,null,1,2,1,2,"sexe",null,null,null,null,null,null,null,null,null,null,null,null,null,null,null,null,"Technique",null,{"$f":"SUM('IND 3.1.1-3.4.3'!$B$24:$C$24)","v":0},null,null,{"$f":"SUM('IND 3.1.1-3.4.3'!$B$72:$C$72)","v":0},{"$f":"SUM('IND 3.1.1-3.4.3'!$B$25:$C$25)","v":0},{"$f":"SUM('IND 3.1.1-3.4.3'!$B$73:$C$73)","v":0},null,{"$f":"SUM('IND 3.1.1-3.4.3'!$B$26:$C$26)","v":0},null,{"$f":"SUM('IND 3.1.1-3.4.3'!$B$74:$C$74)","v":0}]
[null,null,null,null,null,null,null,null,null,null,null,null,"(*) Décret n° 2008-580 du 18 juin 2008 relatif au régime de la mise à disposition applicable aux collectivités territoriales et aux établissements publics administratifs locaux.",null,null,null,null,null,null,null,null,null,null,null,null,null,null,null,null,null,null,null,null,null,"Culturelle",null,{"$f":"SUM('IND 3.1.1-3.4.3'!$B$28:$C$28)","v":0},null,null,{"$f":"SUM('IND 3.1.1-3.4.3'!$B$76:$C$76)","v":0},{"$f":"SUM('IND 3.1.1-3.4.3'!$B$29:$C$29)","v":0},{"$f":"SUM('IND 3.1.1-3.4.3'!$B$77:$C$77)","v":0},null,{"$f":"SUM('IND 3.1.1-3.4.3'!$B$30:$C$30)","v":0},null,{"$f":"SUM('IND 3.1.1-3.4.3'!$B$78:$C$78)","v":0}]
[null,null,null,null,null,null,null,null,null,null,null,null,null,null,null,null,null,null,null,null,null,null,null,null,null,null,null,null,null,null,null,null,null,null,"Sportive",null,{"$f":"SUM('IND 3.1.1-3.4.3'!$B$32:$C$32)","v":0},null,null,{"$f":"SUM('IND 3.1.1-3.4.3'!$B$80:$C$80)","v":0},{"$f":"SUM('IND 3.1.1-3.4.3'!$B$33:$C$33)","v":0},{"$f":"SUM('IND 3.1.1-3.4.3'!$B$81:$C$81)","v":0},null,{"$f":"SUM('IND 3.1.1-3.4.3'!$B$34:$C$34)","v":0},null,{"$f":"SUM('IND 3.1.1-3.4.3'!$B$82:$C$82)","v":0}]
[null,null,null,null,null,null,null,null,null,null,null,null,"1.4.4 Fonctionnaires pris en charge par le CDG ou le CNFPT (articles 53 et 97) ",null,null,null,null,null,null,null,null,null,null,null,null,null,null,null,null,null,null,null,null,null,"Médico-sociale",null,{"$f":"SUM('IND 3.1.1-3.4.3'!$B$36:$C$36)+SUM('IND 3.1.1-3.4.3'!$B40:$C$40)+SUM('IND 3.1.1-3.4.3'!$B$44:$C$44)","v":0},null,null,{"$f":"SUM('IND 3.1.1-3.4.3'!$B$84:$C$84)+SUM('IND 3.1.1-3.4.3'!$B88:$C$88)+SUM('IND 3.1.1-3.4.3'!$B$92:$C$92)","v":0},{"$f":"SUM('IND 3.1.1-3.4.3'!$B$37:$C$37)+SUM('IND 3.1.1-3.4.3'!$B41:$C$41)+SUM('IND 3.1.1-3.4.3'!$B$45:$C$45)","v":0},{"$f":"SUM('IND 3.1.1-3.4.3'!$B$85:$C$85)+SUM('IND 3.1.1-3.4.3'!$B89:$C$89)+SUM('IND 3.1.1-3.4.3'!$B$93:$C$93)","v":0},null,{"$f":"SUM('IND 3.1.1-3.4.3'!$B$38:$C$38)+SUM('IND 3.1.1-3.4.3'!$B42:$C$42)+SUM('IND 3.1.1-3.4.3'!$B$46:$C$46)","v":0},null,{"$f":"SUM('IND 3.1.1-3.4.3'!$B$86:$C$86)+SUM('IND 3.1.1-3.4.3'!$B90:$C$90)+SUM('IND 3.1.1-3.4.3'!$B$94:$C$94)","v":0}]
[null,null,null,null,null,null,null,null,null,null,null,null,null,null,null,null,null,null,null,null,null,null,null,null,null,null,null,null,null,null,null,null,null,null,"Police",null,{"$f":"SUM('IND 3.1.1-3.4.3'!$B$48:$C$48)","v":0},null,null,{"$f":"SUM('IND 3.1.1-3.4.3'!$B$96:$C$96)","v":0},{"$f":"SUM('IND 3.1.1-3.4.3'!$B$49:$C$49)","v":0},{"$f":"SUM('IND 3.1.1-3.4.3'!$B$97:$C$97)","v":0},null,{"$f":"SUM('IND 3.1.1-3.4.3'!$B$50:$C$50)","v":0},null,{"$f":"SUM('IND 3.1.1-3.4.3'!$B$98:$C$98)","v":0}]
[null,null,null,null,null,null,null,null,null,null,null,null,"Remarque : seuls le CNFPT et les CDG doivent renseigner cet indicateur",null,null,null,null,null,null,null,null,null,null,null,null,null,null,null,null,null,null,null,null,null,"Incendie",null,{"$f":"SUM('IND 3.1.1-3.4.3'!$B$52:$C$52)","v":0},null,null,{"$f":"SUM('IND 3.1.1-3.4.3'!$B$100:$C$100)","v":0},{"$f":"SUM('IND 3.1.1-3.4.3'!$B$53:$C$53)","v":0},{"$f":"SUM('IND 3.1.1-3.4.3'!$B$101:$C$101)","v":0},null,{"$f":"SUM('IND 3.1.1-3.4.3'!$B$54:$C$54)","v":0},null,{"$f":"SUM('IND 3.1.1-3.4.3'!$B$102:$C$102)","v":0}]
[null,null,null,null,null,null,null,null,null,null,null,null,null,1,2,0,"sexe",null,null,null,null,null,null,null,null,null,null,null,null,null,null,null,null,null,"Animation",null,null,null,null,null,{"$f":"SUM('IND 3.1.1-3.4.3'!$B$56:$C$56)","v":0},{"$f":"SUM('IND 3.1.1-3.4.3'!$B$104:$C$104)","v":0},null,{"$f":"SUM('IND 3.1.1-3.4.3'!$B$57:$C$57)","v":0},null,{"$f":"SUM('IND 3.1.1-3.4.3'!$B$105:$C$105)","v":0}]
[null,null,null,null,null,null,null,null,null,null,null,null,"au 31/12/2019","Hommes","Femmes","Total","position4",null,null,null,null,null,null,null,null,null,null,null,null,null,null,null,null,null,"total",null,{"$f":"SUM(AK148:AL155)","v":0},null,null,{"$f":"SUM(AN148:AN155)","v":0},{"$f":"SUM(AO148:AO155)","v":0},{"$f":"SUM(AP148:AQ155)","v":0},null,{"$f":"SUM(AR148:AR155)","v":0},null,{"$f":"SUM(AT148:AT155)","v":0},{"$f":"SUM(AU148:AU155)","v":0}]
[null,null,null,null,null,null,null,null,null,null,null,null,"Depuis moins d'1 an",null,null,{"$f":"SUM(N157:O157)","v":0},1]
[null,null,null,null,null,null,null,null,null,null,null,null,"De 1 an à moins de 2 ans",null,null,{"$f":"SUM(N158:O158)","v":0},2,null,null,null,null,null,null,null,null,null,null,null,null,null,null,null,null,null,"ETPR"]
[null,null,null,null,null,null,null,null,null,null,null,null,"De 2 ans à moins de 5 ans",null,null,{"$f":"SUM(N159:O159)","v":0},3,null,null,null,null,null,null,null,null,null,null,null,null,null,null,null,null,null,null,null,"Catégorie A",null,null,null,"Catégorie B",null,null,"Catégorie C"]
[null,null,null,null,null,null,null,null,null,null,null,null,"5 ans et plus",null,null,{"$f":"SUM(N160:O160)","v":0},4,null,null,null,null,null,null,null,null,null,null,null,null,null,null,null,null,null,null,null,"Titulaire",null,null,"Contractuel","Titulaire","Contractuel",null,"Titulaire",null,"Contractuel"]
[null,null,null,null,null,null,null,null,null,null,null,null,null,null,null,null,null,null,null,null,null,null,null,null,null,null,null,null,null,null,null,null,null,null,"Administrative",null,{"$f":"SUM('IND 1.1.4'!$C$33:$D$33)","v":0},null,null,{"$f":"SUM('IND 1.2.4'!$C$32:$D$32)","v":0},{"$f":"SUM('IND 1.1.4'!$C$34:$D$34)","v":0},{"$f":"SUM('IND 1.2.4'!$C$33:$D$33)","v":0},null,{"$f":"SUM('IND 1.1.4'!$C$35:$D$35)","v":0},null,{"$f":"SUM('IND 1.2.4'!$C$34:$D$34)","v":0}]
[null,null,null,null,null,null,null,null,null,null,null,null,null,null,null,null,null,null,null,null,null,null,null,null,null,null,null,null,null,null,null,null,null,null,"Technique",null,{"$f":"SUM('IND 1.1.4'!$C$37:$D$37)","v":0},null,null,{"$f":"SUM('IND 1.2.4'!$C$36:$D$36)","v":0},{"$f":"SUM('IND 1.1.4'!$C$38:$D$38)","v":0},{"$f":"SUM('IND 1.2.4'!$C$37:$D$37)","v":0},null,{"$f":"SUM('IND 1.1.4'!$C$39:$D$39)","v":0},null,{"$f":"SUM('IND 1.2.4'!$C$38:$D$38)","v":0}]
[null,null,null,null,null,null,null,null,null,null,null,null,null,null,null,null,null,null,null,null,null,null,null,null,null,null,null,null,null,null,null,null,null,null,"Culturelle",null,{"$f":"SUM('IND 1.1.4'!$C$41:$D$41)","v":0},null,null,{"$f":"SUM('IND 1.2.4'!$C$40:$D$40)","v":0},{"$f":"SUM('IND 1.1.4'!$C$42:$D$42)","v":0},{"$f":"SUM('IND 1.2.4'!$C$41:$D$41)","v":0},null,{"$f":"SUM('IND 1.1.4'!$C$43:$D$43)","v":0},null,{"$f":"SUM('IND 1.2.4'!$C$42:$D$42)","v":0}]
[null,null,null,null,null,null,null,null,null,null,null,null,null,null,null,null,null,null,null,null,null,null,null,null,null,null,null,null,null,null,null,null,null,null,"Sportive",null,{"$f":"SUM('IND 1.1.4'!$C$45:$D$45)","v":0},null,null,{"$f":"SUM('IND 1.2.4'!$C$44:$D$44)","v":0},{"$f":"SUM('IND 1.1.4'!$C$46:$D$46)","v":0},{"$f":"SUM('IND 1.2.4'!$C$45:$D$45)","v":0},null,{"$f":"SUM('IND 1.1.4'!$C$47:$D$47)","v":0},null,{"$f":"SUM('IND 1.2.4'!$C$46:$D$46)","v":0}]
[null,null,null,null,null,null,null,null,null,null,null,null,null,null,null,null,null,null,null,null,null,null,null,null,null,null,null,null,null,null,null,null,null,null,"Médico-sociale",null,{"$f":"SUM('IND 1.1.4'!$C$49:$D$49)+SUM('IND 1.1.4'!$C$53:$D$53)+SUM('IND 1.1.4'!$C$57:$D$57)","v":0},null,null,{"$f":"SUM('IND 1.2.4'!$C$48:$D$48)+SUM('IND 1.2.4'!$C$52:$D$52)+SUM('IND 1.2.4'!$C$56:$D$56)","v":0},{"$f":"SUM('IND 1.1.4'!$C$50:$D$50)+SUM('IND 1.1.4'!$C$54:$D$54)+SUM('IND 1.1.4'!$C$58:$D$58)","v":0},{"$f":"SUM('IND 1.2.4'!$C$49:$D$49)+SUM('IND 1.2.4'!$C$53:$D$53)+SUM('IND 1.2.4'!$C$57:$D$57)","v":0},null,{"$f":"SUM('IND 1.1.4'!$C$51:$D$51)+SUM('IND 1.1.4'!$C$55:$D$55)+SUM('IND 1.1.4'!$C$59:$D$59)","v":0},null,{"$f":"SUM('IND 1.2.4'!$C$50:$D$50)+SUM('IND 1.2.4'!$C$54:$D$54)+SUM('IND 1.2.4'!$C$58:$D$58)","v":0}]
[null,null,null,null,null,null,null,null,null,null,null,null,null,null,null,null,null,null,null,null,null,null,null,null,null,null,null,null,null,null,null,null,null,null,"Police",null,{"$f":"SUM('IND 1.1.4'!$C$61:$D$61)","v":0},null,null,{"$f":"SUM('IND 1.2.4'!$C$60:$D$60)","v":0},{"$f":"SUM('IND 1.1.4'!$C$62:$D$62)","v":0},{"$f":"SUM('IND 1.2.4'!$C$61:$D$61)","v":0},null,{"$f":"SUM('IND 1.1.4'!$C$63:$D$63)","v":0},null,{"$f":"SUM('IND 1.2.4'!$C$62:$D$62)","v":0}]
[null,null,null,null,null,null,null,null,null,null,null,null,null,null,null,null,null,null,null,null,null,null,null,null,null,null,null,null,null,null,null,null,null,null,"Incendie",null,{"$f":"SUM('IND 1.1.4'!$C$65:$D$65)","v":0},null,null,{"$f":"SUM('IND 1.2.4'!$C$64:$D$64)","v":0},{"$f":"SUM('IND 1.1.4'!$C$66:$D$66)","v":0},{"$f":"SUM('IND 1.2.4'!$C$65:$D$65)","v":0},null,{"$f":"SUM('IND 1.1.4'!$C$67:$D$67)","v":0},null,{"$f":"SUM('IND 1.2.4'!$C$66:$D$66)","v":0}]
[null,null,null,null,null,null,null,null,null,null,null,null,null,null,null,null,null,null,null,null,null,null,null,null,null,null,null,null,null,null,null,null,null,null,"Animation",null,null,null,null,null,{"$f":"SUM('IND 1.1.4'!$C$69:$D$69)","v":0},{"$f":"SUM('IND 1.2.4'!$C$68:$D$68)","v":0},null,{"$f":"SUM('IND 1.1.4'!$C$70:$D$70)","v":0},null,{"$f":"SUM('IND 1.2.4'!$C$69:$D$69)","v":0}]
[null,null,null,null,null,null,null,null,null,null,null,null,null,null,null,null,null,null,null,null,null,null,null,null,null,null,null,null,null,null,null,null,null,null,"total",null,{"$f":"SUM(AK161:AL168)","v":0},null,null,{"$f":"SUM(AN161:AN168)","v":0},{"$f":"SUM(AO161:AO168)","v":0},{"$f":"SUM(AP161:AQ168)","v":0},null,{"$f":"SUM(AR161:AR168)","v":0},null,{"$f":"SUM(AT161:AT168)","v":0},{"$f":"SUM(AU161:AU168)","v":0}]
[]
[]
[]
[null,null,null,null,null,null,null,null,null,null,null,null,null,null,null,null,null,null,null,null,null,null,null,null,null,null,null,null,null,null,null,null,null,null,null,"RIFSEEP"]
[null,null,null,null,null,null,null,null,null,null,null,null,null,null,null,null,null,null,null,null,null,null,null,null,null,null,null,null,null,null,null,null,null,null,null,"Contractuels",{"$f":"IF('IND 3.1.1-3.4.3'!$F$62=\"Oui\",\"et pour les contractuels\",\"\")","v":""}]

{"sheet":"Handitorial","index":3,"n_rows":760,"n_cols":6,"rows_kept":760,"cut":false,"hidden":true,"merged":[[757,0,757,1],[757,2,757,3],[757,4,757,5]]}
[]
[]
[]
[]
[]
[]
[]
[]
[]
[]
[]
[]
[]
[]
[]
[]
[]
[]
[]
[]
[]
[]
[]
[]
[]
[]
[]
[]
[]
[]
[]
[]
[]
[]
[]
[]
[]
[]
[]
[]
[]
[]
[]
[]
[]
[]
[]
[]
[]
[]
[]
[]
[]
[]
[]
[]
[]
[]
[]
[]
[]
[]
[]
[]
[]
[]
[]
[]
[]
[]
[]
[]
[]
[]
[]
[]
[]
[]
[]
[]
[]
[]
[]
[]
[]
[]
[]
[]
[]
[]
[]
[]
[]
[]
[]
[]
[]
[]
[]
[]
[]
[]
[]
[]
[]
[]
[]
[]
[]
[]
[]
[]
[]
[]
[]
[]
[]
[]
[]
[]
[]
[]
[]
[]
[]
[]
[]
[]
[]
[]
[]
[]
[]
[]
[]
[]
[]
[]
[]
[]
[]
[]
[]
[]
[]
[]
[]
[]
[]
[]
[]
[]
[]
[]
[]
[]
[]
[]
[]
[]
[]
[]
[]
[]
[]
[]
[]
[]
[]
[]
[]
[]
[]
[]
[]
[]
[]
[]
[]
[]
[]
[]
[]
[]
[]
[]
[]
[]
[]
[]
[]
[]
[]
[]
[]
[]
[]
[]
[]
[]
[]
[]
[]
[]
[]
[]
[]
[]
[]
[]
[]
[]
[]
[]
[]
[]
[]
[]
[]
[]
[]
[]
[]
[]
[]
[]
[]
[]
[]
[]
[]
[]
[]
[]
[]
[]
[]
[]
[]
[]
[]
[]
[]
[]
[]
[]
[]
[]
[]
[]
[]
[]
[]
[]
[]
[]
[]
[]
[]
[]
[]
[]
[]
[]
[]
[]
[]
[]
[]
[]
[]
[]
[]
[]
[]
[]
[]
[]
[]
[]
[]
[]
[]
[]
[]
[]
[]
[]
[]
[]
[]
[]
[]
[]
[]
[]
[]
[]
[]
[]
[]
[]
[]
[]
[]
[]
[]
[]
[]
[]
[]
[]
[]
[]
[]
[]
[]
[]
[]
[]
[]
[]
[]
[]
[]
[]
[]
[]
[]
[]
[]
[]
[]
[]
[]
[]
[]
[]
[]
[]
[]
[]
[]
[]
[]
[]
[]
[]
[]
[]
[]
[]
[]
[]
[]
[]
[]
[]
[]
[]
[]
[]
[]
[]
[]
[]
[]
[]
[]
[]
[]
[]
[]
[]
[]
[]
[]
[]
[]
[]
[]
[]
[]
[]
[]
[]
[]
[]
[]
[]
[]
[]
[]
[]
[]
[]
[]
[]
[]
[]
[]
[]
[]
[]
[]
[]
[]
[]
[]
[]
[]
[]
[]
[]
[]
[]
[]
[]
[]
[]
[]
[]
[]
[]
[]
[]
[]
[]
[]
[]
[]
[]
[]
[]
[]
[]
[]
[]
[]
[]
[]
[]
[]
[]
[]
[]
[]
[]
[]
[]
[]
[]
[]
[]
[]
[]
[]
[]
[]
[]
[]
[]
[]
[]
[]
[]
[]
[]
[]
[]
[]
[]
[]
[]
[]
[]
[]
[]
[]
[]
[]
[]
[]
[]
[]
[]
[]
[]
[]
[]
[]
[]
[]
[]
[]
[]
[]
[]
[]
[]
[]
[]
[]
[]
[]
[]
[]
[]
[]
[]
[]
[]
[]
[]
[]
[]
[]
[]
[]
[]
[]
[]
[]
[]
[]
[]
[]
[]
[]
[]
[]
[]
[]
[]
[]
[]
[]
[]
[]
[]
[]
[]
[]
[]
[]
[]
[]
[]
[]
[]
[]
[]
[]
[]
[]
[]
[]
[]
[]
[]
[]
[]
[]
[]
[]
[]
[]
[]
[]
[]
[]
[]
[]
[]
[]
[]
[]
[]
[]
[]
[]
[]
[]
[]
[]
[]
[]
[]
[]
[]
[]
[]
[]
[]
[]
[]
[]
[]
[]
[]
[]
[]
[]
[]
[]
[]
[]
[]
[]
[]
[]
[]
[]
[]
[]
[]
[]
[]
[]
[]
[]
[]
[]
[]
[]
[]
[]
[]
[]
[]
[]
[]
[]
[]
[]
[]
[]
[]
[]
[]
[]
[]
[]
[]
[]
[]
[]
[]
[]
[]
[]
[]
[]
[]
[]
[]
[]
[]
[]
[]
[]
[]
[]
[]
[]
[]
[]
[]
[]
[]
[]
[]
[]
[]
[]
[]
[]
[]
[]
[]
[]
[]
[]
[]
[]
[]
[]
[]
[]
[]
[]
[]
[]
[]
[]
[]
[]
[]
[]
[]
[]
[]
[]
[]
[]
[]
[]
[]
[]
[]
[]
[]
[]
[]
[]
[]
[]
[]
[]
[]
[]
[]
[]
[]
[]
[]
[]
[]
[]
[]
[]
[]
[]
[]
[]
[]
[]
[]
[]
[]
[]
[]
[]
[]
[]
[]
[]
[]
[]
[]
[]
[]
[]
[]
[]
[]
[]
["Entre 4 et 6 ans",null,"Entre 7 et 12 ans",null,"Plus de 12 ans"]
["Homme","Femme","Homme","Femme","Homme","Femme"]
[0,0,0,0,0,0]

{"sheet":"RASSCT","index":4,"n_rows":0,"n_cols":0,"rows_kept":0,"cut":false,"hidden":true,"merged":[]}

{"sheet":"RASSCT (actions) (2)","index":5,"n_rows":0,"n_cols":0,"rows_kept":0,"cut":false,"hidden":true,"merged":[]}

{"sheet":"RASSCT (actions) (3)","index":6,"n_rows":0,"n_cols":0,"rows_kept":0,"cut":false,"hidden":true,"merged":[]}

{"sheet":"RASSCT (actions) (4)","index":7,"n_rows":0,"n_cols":0,"rows_kept":0,"cut":false,"hidden":true,"merged":[]}

{"sheet":"RASSCT (actions) (5)","index":8,"n_rows":0,"n_cols":0,"rows_kept":0,"cut":false,"hidden":true,"merged":[]}

{"sheet":"GPEEC","index":9,"n_rows":0,"n_cols":0,"rows_kept":0,"cut":false,"hidden":true,"merged":[]}

{"sheet":"Sommaire","index":10,"n_rows":145,"n_cols":2,"rows_kept":145,"cut":false,"hidden":false,"merged":[]}
["Sommaire"]
[" "]
["Cliquez dans la colonne \"onglet\" pour accéder directement à l'onglet désiré.","Onglet"]
[]
["1 - EFFECTIFS"]
[]
["Fiche 1.1.0 - Nombre d'agents occupant un emploi fonctionnel rémunérés au 31/12/2019, par statut, cadre d'emplois, sexe et grade de détachement","Fiche 1.1.0"]
["  - IND 1.1.0 - Nombre d'agents occupant un emploi fonctionnel rémunérés au 31/12/2019, par statut d'origine, cadre d'emplois, sexe et grade de détachement","IND 1.1.0"]
[]
["Fiche 1.1.1 - Nombre de fonctionnaires occupant un emploi permanent rémunérés au 31/12/2019 par filière, cadre d'emplois et grade,\n                   selon les caractéristiques de l'emploi et selon le sexe","Fiche 1.1.1"]
["  - IND 1.1.1 - Nombre de fonctionnaires occupant un emploi permanent rémunérés au 31/12/2019  par filière, cadre d'emploi et grade, selon les caractéristiques de l'emploi\n                    et selon le sexe","IND 1.1.1"]
[]
["Fiche 1.1.2 - Nombre de fonctionnaires occupant un emploi permanent à temps complet rémunérés au 31/12/2019 par filière, \n                   cadre d'emplois et selon la quotité de temps de travail et le sexe","Fiche 1.1.2"]
["  - IND 1.1.2  - Nombre de fonctionnaires occupant un emploi permanent à temps complet rémunérés au 31/12/2019 par filière,\n                     cadre d'emplois et selon la quotité de temps de travail et le sexe ","IND 1.1.2"]
[]
["Fiche 1.1.3 - Nombre de fonctionnaires bénéficiaires d'un temps partiel de droit ou sur autorisation par catégorie et sexe","Fiche 1.1.3"]
["  - IND 1.1.3 - Nombre de fonctionnaires bénéficiaires d'un temps partiel de droit ou sur autorisation par catégorie et sexe","IND 1.1.3"]
[]
["  - IND 1.1.4 - Nombre de fonctionnaires en Equivalent Temps Plein Rémunéré (ETPR) en 2019 par filière déclinée par catégorie hiérarchique et par sexe","IND 1.1.4"]
[]
["Fiche 1.2.1 - Effectifs des agents contractuels occupant un emploi permanent rémunérés au 31/12/2019 par filière et cadre d'emplois, selon le type de contrat,\n                   le type de recrutement ","Fiche 1.2.1"]
["   - IND 1.2.1 - Effectifs des agents contractuels occupant un emploi permanent rémunérés au 31/12/2019 par filière et cadre d'emplois, selon le type de contrat et\n                     le type de recrutement","IND 1.2.1"]
[]
["Fiche 1.2.2 - Nombre d'agents contractuels rémunérés au 31/12/2019 occupant un emploi permanent à temps complet\n                    par filières, cadre d'emplois, selon la quotité de travail et le sexe","Fiche 1.2.2"]
["  - IND 1.2.2 - Nombre d'agents contractuels rémunérés au 31/12/2019 occupant un emploi permanent à temps complet\n                    par filières et cadres d'emplois, selon la quotité de temps de travail et le sexe","IND 1.2.2"]
[]
["Fiche 1.2.3 - Nombre d'agents contractuels bénéficiaires d'un temps partiel de droit ou sur autorisation rémunérés au 31/12/2019, par catégorie et sexe","Fiche 1.2.3"]
["  - IND 1.2.3 - Nombre d'agents contractuels rémunérés bénéficiaires d'un temps partiel de droit ou sur autorisation rémunérés au 31/12/2019, par catégorie et sexe","IND 1.2.3"]
["  - IND 1.2.4 - Nombre de contractuels en Equivalent Temps Plein Rémunéré (ETPR) en 2019 par filière déclinée par catégorie et par sexe","IND 1.2.4"]
[]
["Fiche 1.3.1 - 1.3.2 - Autres personnels","Fiche 1.3.1-1.3.2"]
["  - IND 1.3.1 - Autres contractuels sur emploi non permanent, en effectif physique et en ETPR, selon le sexe","IND 1.3.1"]
["  - IND 1.3.2 - Recours à du personnel temporaire (mis à disposition par CDG décliné par filière et intérim), selon le sexe","IND 1.3.2"]
[]
["Fiche 1.4.1 - 1.4.4 - Nombre d'agents selon les positions statutaires particulières et par sexe, au 31/12/2019","Fiche 1.4.1-1.4.4"]
["  - IND 1.4.1 - Nombre d'agents originaires de la collectivité","IND 1.4.1-1.4.4"]
["  - IND 1.4.2 - Nombre d'agents originaires d'une autre structure détachés dans la collectivité","IND 1.4.1-1.4.4"]
["  - IND 1.4.3 - Nombre d'agents originaires d'une autre structure mis à disposition","IND 1.4.1-1.4.4"]
["  - IND 1.4.4 - Fonctionnaires pris en charge par le CDG ou le CNFPT (articles 53 et 97) ","IND 1.4.1-1.4.4"]
[]
["Fiche 1.5.0 - Départs dans l'année 2019","Fiche 1.5.0"]
["  - IND 1.5.0 - Départs dans l'année 2019, par motif de départ et selon le sexe et la catégorie","IND 1.5.0"]
[]
["Fiche 1.5.1 - Arrivées d'agents sur emploi fonctionnel, au cours de l'année 2019","Fiche 1.5.1"]
["  - IND 1.5.1 - Arrivées d'agents sur emploi fonctionnel au cours de l'année 2019, par statut d'origine, selon le grade de détachement et le sexe","IND 1.5.1"]
[]
["Fiche 1.5.2 - Arrivées de fonctionnaires dans l'année 2019","Fiche 1.5.2"]
["  - IND 1.5.2 - Arrivées de fonctionnaires dans l'année 2019,  par cadre d'emplois, selon le motif de recrutement ","IND 1.5.2"]
[]
["Fiche 1.5.3 - Arrivées de contractuels sur emploi permanent dans l'année 2019","Fiche 1.5.3"]
["  - IND 1.5.3 - Arrivées de contractuels sur emploi permanent dans l'année 2019, par filière et cadre d'emplois, selon les caractéristiques de l'emploi et le sexe","IND 1.5.3"]
[]
["Fiche 1.5.4-1.5.7 - Titularisations, avancements, accompagnements professionnels dans l'année 2019","Fiche 1.5.4-1.5.7"]
["  - IND 1.5.4 - Titularisation et stages au cours de l'année 2019","IND 1.5.4-1.5.5"]
["  - IND 1.5.5 - Avancements dans l'année 2019","IND 1.5.4-1.5.5"]
["  - IND 1.5.6 - Avancements de grade dans l'année 2019 par filière et catégorie hiérarchique","IND 1.5.6"]
["  - IND 1.5.7 - Nombre d'agents (fonctionnaires et contractuels sur emploi permanent) ayant bénéficié d'un accompagnement par un conseiller en évolution professionnelle","IND 1.5.7"]
[]
["Fiche 1.6.1 - 1.6.2 -  Bénéficiaires de l'obligation d'emploi (travailleurs en situation de handicap)","Fiche 1.6.1-1.6.2"]
["  - IND 1.6.1 - Nombre d'agents en situation de handicap par catégorie hiérarchique, statut et sexe, rémunérés au 31/12/2019","IND 1.6.1"]
["  - IND 1.6.2 - Respect des obligations d'emploi : dépenses couvrant partiellement l'obligation d'emploi et taux d'emploi","IND 1.6.2"]
[]
["  - IND 1.7.1 - Répartition par sexe et tranche d'âge des effectifs des fonctionnaires et des contractuels présents dans les effectifs au 31/12/2019","IND 1.7.1"]
[]
["2 - TEMPS DE TRAVAIL"]
[]
["Fiche 2.1.0 - Nombre de jours accordés pour l'ensemble des agents","Fiche 2.1.0"]
["  - IND 2.1.0 - Nombre de journées de congés supplémentaires accordées à l'ensemble des agents","IND 2.1.0"]
["  - IND 2.1.1 - Nombre de fonctionnaires ayant été absents au moins un jour dans l'année par motif (hors formation, journées de grève et absences  syndicales), présents dans\n                    les effectifs au 31/12/2019","IND 2.1.1"]
["  - IND 2.1.2 - Nombre de contractuels sur emploi permanent ayant été absents au moins un jour dans l'année par motif (hors formation, journées de grève et absences\n                    syndicales), présents au 31/12/2019 ","IND 2.1.2"]
["  - IND 2.1.3 - Nombre de contractuels sur emploi non permanent ayant été absents au moins un jour dans l'année, par motif (hors formation, journées de grève et absences\n                    syndicales), présents au 31/12/2019","IND 2.1.3"]
["  - IND 2.1.4 - Congés de paternité et d'accueil de l'enfant des agents FONCTIONNAIRES ET CONTRACTUELS, par catégorie hiérarchique","IND 2.1.4-2.1.6"]
["  - IND 2.1.5 - Congés de présence parentale des FONCTIONNAIRES ET CONTRACTUELS, par catégorie hiérarchique","IND 2.1.4-2.1.6"]
["  - IND 2.1.6 -  Congés de solidarité familiale des FONCTIONNAIRES ET CONTRACTUELS, par catégorie hiérarchique","IND 2.1.4-2.1.6"]
["  - IND 2.1.7 - Entretiens avant et après des congés de six mois ou plus","IND 2.1.7"]
[]
["Fiche 2.2.1 - 2.2.7 - Temps de travail","Fiche 2.2.1-2.2.7"]
["  - IND 2.2.1 - Modalités d'organisation du temps de travail ","IND 2.2.1-2.2.4"]
["  - IND 2.2.2 - Contraintes particulières concernant le temps de travail","IND 2.2.1-2.2.4"]
["  - IND 2.2.3 - Compte épargne-temps","IND 2.2.1-2.2.4"]
["  - IND 2.2.4 - Télétravail","IND 2.2.1-2.2.4"]
["  - IND 2.2.5 - Charte du temps","IND 2.2.5"]
["  - IND 2.2.6 - Nombre de jours de carence par sexe, par catégorie hiérarchique et montants des sommes brutes retenues","IND 2.2.6"]
["  - IND 2.2.7 - Modalités de contrôle des arrêts maladie","IND 2.2.7"]
[]
["  - IND 2.3.1 - Informations relatives au temps partiel prévu par l'article 60 de la loi du 26 janvier 1984","IND 2.3.1"]
[]
["3 - REMUNERATIONS"]
[]
["Fiche 3.1.1 - 3.4.3 - Rémunération et assurance chômage","Fiche 3.1.1-3.4.3"]
["  - IND 3.1.1 et 3.2.1 - Rémunérations des fonctionnaires et contractuels occupant un emploi permanent ayant travaillé au moins un jour durant l'année 2019","IND 3.1.1-3.4.3"]
["  - IND 3.3.1 - Rémunérations des agents sur emploi non permanent ayant travaillé au moins un jour durant l'année 2019","IND 3.1.1-3.4.3"]
["  - IND 3.4.1 - Indemnisation du chômage pour les titulaires","IND 3.1.1-3.4.3"]
["  - IND 3.4.2 - Indemnisation du chômage pour les contractuels","IND 3.1.1-3.4.3"]
["  - IND 3.4.3 - Maintien des primes en cas de congé de maladie ordinaire","IND 3.1.1-3.4.3"]
[]
["  - IND 3.4.4 - Nombre d'heures supplémentaires et complémentaires réalisées et rémunérées en 2019, par sexe, filière et cadre d'emplois","IND 3.4.4"]
["  - IND 3.4.5 - Dépenses de fonctionnement de la collectivité et dépenses de personnel ","IND 3.4.5"]
[]
["4 - CONDITIONS DE TRAVAIL - HYGIENE ET SECURITE"]
[]
["  - IND 4.1.1 - Agents affectés à la prévention","IND 4.1.1-4.1.2"]
["  - IND 4.1.2 - Actions liées à la prévention dans l'année 2019","IND 4.1.1-4.1.2"]
["  - IND 4.1.3 - Nombre de visites médicales sur demande de l'agent","IND 4.1.3"]
[]
["Fiche 4.1.4 - 4.1.6 - Documents de prévention","Fiche 4.1.4-4.1.6"]
["  - IND 4.1.4 - IND 4.1.7 - Documents et démarches de prévention","IND 4.1.4-4.1.7"]
[]
["  - IND 4.2.1 - les accidents du travail survenus dans l'année 2019, par cadre d'emplois et par sexe","IND 4.2.1"]
["  - IND 4.2.2 - Les maladies professionnelles ou à caractère professionnel ou contractées en service , par cadre d'emplois et par sexe","IND 4.2.2"]
["  - IND 4.2.3 - Inaptitudes au cours de l'année 2019","IND 4.2.3"]
["  - IND 4.2.4 - Nombre d'allocations temporaires d'invalidité (ATI) attribuées au cours de l'année 2019","IND 4.2.4"]
["  - IND 4.2.5 - Contrat d'assurance statutaire pour la prise en charge du risque maladie","IND 4.2.5"]
["  - IND 4.3.1 - Nombre d'actes de violences physiques et de signalements pour actes de violences sexuelles, agissements sexistes, harcèlement moral et harcèlement sexuel\n                    envers le personnel au cours de l'année 2019","IND 4.3.1"]
[]
["5 - FORMATION"]
[]
["Fiche 5.1.1-5.1.4 - Formation","Fiche 5.1.1-5.1.4"]
["  - IND 5.1.1(1) - Tableau récapitulatif - Fonctionnaires et contractuels sur un emploi permanent ayant participé à au moins une formation en 2019","IND 5.1.1"]
["  - IND 5.1.1(2) - Journées de formation suivies par les fonctionnaires et contractuels sur un emploi permanent présents au 31/12/2019 et nombre d'agents ayant participé à\n                        au moins une journée de formation en 2019","IND 5.1.1"]
[]
["  - IND 5.1.2 (1) - Journées de formation suivies par les agents sur un emploi non permanent au cours de l'année 2019","IND 5.1.2"]
["  - IND 5.1.2 (2) - Nombre d'agents sur un emploi non permanent présents au 31/12/2019 et ayant participé à au moins une formation en 2019","IND 5.1.2"]
[]
["  - IND 5.1.3 - Validation de l'expérience, bilan de compétence et congé de formation dans l'année 2019","IND 5.1.3"]
[]
["  - IND 5.1.4 - Coûts de formation","IND 5.1.4"]
[]
["6 - 7 - DROITS SOCIAUX"]
[]
["  - IND 6.1.1 - Réunions statutaires","IND 6.1.1-6.1.3"]
["  - IND 6.1.2 - Droits syndicaux","IND 6.1.1-6.1.3"]
["  - IND 6.1.3 - Conflits du travail : grèves","IND 6.1.1-6.1.3"]
[]
["Fiche 6.1.4 - Nombre de sanctions disciplinaires prononcées dans l'année ","Fiche 6.1.4"]
["  - IND 6.1.4 - Nombre de sanctions disciplinaires prononcées dans l'année","IND 6.1.4"]
[]
["Fiche 7.1.1 - 7.1.4 - Action sociale relevant de la collectivité et protection sociale complémentaire","Fiche 7.1.1-7.1.4"]
["  - IND 7.1.1 - Œuvres sociales à destination du personnel ou de leurs familles","IND 7.1.1-7.1.3"]
["  - IND 7.1.2 - Prestations servies directement par la collectivité territoriale","IND 7.1.1-7.1.3"]
["  - IND 7.1.3 - Aides à la garde d'enfants","IND 7.1.1-7.1.3"]
[]
["  - IND 7.1.4 - Protection sociale complémentaire","IND 7.1.4"]
[]
["  - IND 8.1.0 - Ecart de rémunération hommes-femmes","IND 8.1.0"]

{"sheet":"Fiche 1.1.0","index":11,"n_rows":33,"n_cols":3,"rows_kept":33,"cut":false,"hidden":false,"merged":[[10,0,10,5],[0,2,0,3],[2,0,2,5],[4,0,4,5],[5,0,5,5],[8,0,8,5],[12,0,12,5],[14,0,14,5],[16,0,16,5],[19,0,19,5],[26,0,26,5],[32,0,32,5],[21,0,21,5],[22,0,22,5],[23,0,23,5],[24,0,24,5],[29,0,29,5],[28,0,28,5]]}
[null,null,"Retour Sommaire"]
[]
["1.1.0 - Nombre d'agents occupant un emploi fonctionnel rémunérés au 31/12/2019, par statut, cadre d'emplois, sexe et grade de détachement"]
[]
["L’indicateur 1.1.0. recense les effectifs en nombre de personnes physiques (1 personne = 1 unité)."]
["Ne pas remplir les cellules grisées (pré remplies par un zéro) qui font l’objet de calculs automatiques. "]
[]
[]
["Quels sont les agents à recenser ?"]
[]
["* les fonctionnaires titulaires occupant un emploi fonctionnel en application de l'art 53 de la loi du 26 janvier 1984 dont ceux appartenant aux cadres d'emploi d'administrateur, d'attaché ou d'ingénieur"]
[]
["* les contractuels recrutés sur un emploi fonctionnel en application de l'art 47 de la loi du 26 janvier 1984"]
[]
["* rémunérés à la date du 31 décembre 2019"]
[]
["Attention : ne pas comptabiliser ici les secrétaires de mairie et les secrétaires généraux."]
[]
[]
["Comment sont-ils recensés ?"]
[]
["* par statut et fonction publique d'origine pour les fonctionnaires  : "]
[" - tableau 1 : fonctionnaires de la fonction publique territoriale "]
[" - tableau 2 : fonctionnaires issus d'une autre administration (FPE, FPH) "]
[" - tableau 3 : contractuels sur emplois permanents"]
[]
["* par emplois fonctionnels dans les filières concernées (administratives, techniques et d'incendie et secours ; en lignes)"]
[]
["* par cadre d'emplois "]
["       - les fonctionnaires des filières administratives et techniques occupant un emploi fonctionnel de direction doivent être recensés selon leur grade de détachement. Parmi ceux-ci, on comptabilise ceux ayant un cadre d'emploi d'administrateur, d'attaché ou d'ingénieur."]
["         - les contractuels sur emploi permanent sont recensés uniquement sur l'emploi fonctionnel occupé."]
[]
["* par  sexe "]

{"sheet":"IND 1.1.0","index":12,"n_rows":52,"n_cols":12,"rows_kept":52,"cut":false,"hidden":false,"merged":[[38,0,40,0],[38,1,39,2],[23,0,25,0],[24,1,24,2],[24,9,24,10],[24,5,24,6],[23,1,23,10],[24,3,24,4],[24,7,24,8],[0,2,0,3],[9,7,9,8],[2,0,2,10],[9,9,9,10],[9,5,9,6],[5,0,5,10],[8,1,8,10],[8,0,10,0],[9,1,9,2],[9,3,9,4]]}
[null,null,"Retour Sommaire"]
[]
["1.1.0 - Effectifs /Nombre d'agents occupant un emploi fonctionnel rémunérés au 31/12/2019, par statut d'origine, cadre d'emplois, sexe et grade de détachement"]
[]
[]
["Champ : les tableaux qui suivent concernent les fonctionnaires et contractuels occupant un emploi permanent fonctionnel rémunérés au 31/12/2019."]
[]
["Tableau 1 : Fonctionnaires de la fonction publique territoriale"]
["Emplois fonctionnels ","Fonctionnaires de la fonction publique territoriale"]
[null,"Administrateurs",null,"Attachés",null,"Ingénieurs en chef",null,"Ingénieurs",null,"Autres"]
[null,"Hommes","Femmes","Hommes","Femmes","Hommes","Femmes","Hommes","Femmes","Hommes","Femmes"]
["Emplois fonctionnels administratifs :"]
["Directeur général des services ou directeur",null,null,null,null,null,null,null,null,null,null,"TAU2"]
["Directeur général adjoint des services ou directeur adjoint",null,null,null,null,null,null,null,null,null,null,"TAU1"]
["Emplois fonctionnels techniques :"]
["Directeur général des services techniques",null,null,null,null,null,null,null,null,null,null,"TTU2"]
["Directeur des services techniques",null,null,null,null,null,null,null,null,null,null,"TTU1"]
["Emplois fonctionnels d'incendie et secours :"]
["Directeur départemental des services d'incendie et secours",null,null,null,null,null,null,null,null,null,null,"TRB2"]
["Directeur départemental adjoint des services d'incendie et secours",null,null,null,null,null,null,null,null,null,null,"TRB1"]
["TOTAL EMPLOIS FONCTIONNELS",{"$f":"B13+B14+B16+B17+B19+B20","v":0},{"$f":"C13+C14+C16+C17+C19+C20","v":0},0,0,0,0,0,0,0,0,"00X3"]
[null,1,1,2,2,3,3,4,4,5,5,"origine"]
["Tableau 2 : Fonctionnaires issus d'une autre administration (FPE, FPH)",1,2,1,2,1,2,1,2,1,2,"sexe"]
["Emplois fonctionnels ","Fonctionnaires issus d'une autre administration (FPE, FPH)"]
[null,"Administrateurs",null,"Attachés",null,"Ingénieurs en chef",null,"Ingénieurs",null,"Autres"]
[null,"Hommes","Femmes","Hommes","Femmes","Hommes","Femmes","Hommes","Femmes","Hommes","Femmes"]
["Emplois fonctionnels administratifs :"]
["Directeur général des services ou directeur",null,null,null,null,null,null,null,null,null,null,"TAU2"]
["Directeur général adjoint des services ou directeur adjoint",null,null,null,null,null,null,null,null,null,null,"TAU1"]
["Emplois fonctionnels techniques :"]
["Directeur général des services techniques",null,null,null,null,null,null,null,null,null,null,"TTU2"]
["Directeur des services techniques",null,null,null,null,null,null,null,null,null,null,"TTU1"]
["Emplois fonctionnels d'incendie et secours :"]
["Directeur départemental des services d'incendie et secours",null,null,null,null,null,null,null,null,null,null,"TRB2"]
["Directeur départemental adjoint des services d'incendie et secours",null,null,null,null,null,null,null,null,null,null,"TRB1"]
["TOTAL EMPLOIS FONCTIONNELS",{"$f":"B28+B29+B31+B32+B34+B35","v":0},{"$f":"C28+C29+C31+C32+C34+C35","v":0},0,0,0,0,0,0,0,0,"00X3"]
[null,1,1,2,2,3,3,4,4,5,5,"origine"]
["Tableau 3 : Contractuels sur emplois permanents",1,2,1,2,1,2,1,2,1,2,"sexe"]
["Emplois fonctionnels ","Contractuels sur emplois permanents"]
[]
[null,"Hommes","Femmes"]
["Emplois fonctionnels administratifs :"]
["Directeur général des services ou directeur",null,null,"TAU2"]
["Directeur général adjoint des services ou directeur adjoint",null,null,"TAU1"]
["Emplois fonctionnels techniques :"]
["Directeur général des services techniques",null,null,"TTU2"]
["Directeur des services techniques",null,null,"TTU1"]
["Emplois fonctionnels d'incendie et secours :"]
["Directeur départemental des services d'incendie et secours",null,null,"TRB2"]
["Directeur départemental adjoint des services d'incendie et secours",null,null,"TRB1"]
["TOTAL EMPLOIS FONCTIONNELS",{"$f":"B43+B44+B46+B47+B49+B50","v":0},{"$f":"C43+C44+C46+C47+C49+C50","v":0},"00X3"]
[null,1,2,"sexe"]

{"sheet":"Fiche 1.1.1","index":13,"n_rows":51,"n_cols":3,"rows_kept":51,"cut":false,"hidden":false,"merged":[[8,0,8,4],[10,0,10,4],[0,2,0,3],[2,0,2,4],[4,0,4,4],[5,0,5,4],[12,0,12,4],[13,0,13,4],[15,0,15,4],[17,0,17,4],[32,0,32,4],[19,0,19,1],[20,0,20,4],[21,0,21,4],[31,0,31,4],[23,0,23,4],[26,0,26,4],[29,0,29,4],[22,0,22,4],[27,0,27,4],[28,0,28,4],[30,0,30,4],[37,0,37,4],[35,0,35,4],[50,0,50,4],[38,0,38,4],[39,0,39,4],[40,0,40,4],[42,0,42,4],[43,0,43,4],[44,0,44,4],[49,0,49,4],[46,0,46,4],[48,0,48,4]]}
[null,null,"Retour Sommaire"]
[]
["1.1.1 - Nombre de fonctionnaires occupant un emploi permanent rémunérés au 31/12/2019 par filière, cadre d'emplois et grade, selon les caractéristiques de l'emploi et selon le sexe"]
[]
["L’indicateur 1.1.1. recense les effectifs en nombre de personnes physiques (1 personne = 1 unité)."]
["Ne pas remplir les cellules grisées (pré remplies par un zéro) qui font l’objet de calculs automatiques. "]
[]
[]
["Quels sont les agents à recenser ?"]
[]
["* les fonctionnaires (titulaires et stagiaires)"]
[]
["Remarque importante :"]
["- les fonctionnaires occupant un emploi fonctionnel de direction doivent être comptabilisés uniquement dans leurs cadres d'emplois et grades respectifs (nomenclature des emplois territoriaux au 31 décembre 2019) même s'ils ont déjà été comptabilisés dans l'indicateur 1.1.0. "]
[]
["* occupant un emploi permanent"]
[]
["* rémunérés par votre collectivité à la date du 31 décembre 2019 "]
[]
["Sont comptabilisés :"]
["- les fonctionnaires en activité dans votre collectivité et rémunérés par votre collectivité"]
["- dont les fonctionnaires qui, détachés d'autres structures, sont en position d'activité dans votre collectivité ;"]
["- les fonctionnaires qui, n'exerçant pas leurs fonctions dans votre collectivité, sont mis à la disposition d'autres structures ;"]
["- pour le CNFPT et les Centres de Gestion uniquement : les fonctionnaires dont ils assument la prise en charge (suite à une suppression d'emploi, une fin de détachement sur emploi fonctionnel de direction...)."]
[]
[]
["Ne doivent pas être comptabilisés :"]
["- les fonctionnaires détachés sur un emploi de cabinet qui n’est pas un emploi permanent\nau sens de la loi du 26 janvier 1984. Ils seront recensés à l’indicateur 1.3.1 « Autres personnels »."]
["- les fonctionnaires qui, n'étant pas en position d'activité, ne sont pas rémunérés à la date du 31 décembre 2019 (y compris les agents en disponibilité d'office après maladie) ;"]
["- les fonctionnaires qui, appartenant à d'autres structures, sont mis à la disposition de votre collectivité, mais ne sont pas rémunérés par votre collectivité et seront recensés dans leur collectivité d’origine ;"]
["- les fonctionnaires placés en CFA qui ne sont pas en activité et ne perçoivent qu’un revenu de remplacement ;"]
["- les fonctionnaires originaires de votre collectivité pris en charge par le CNFPT ou par un Centre de gestion (suite à une suppression d'emploi, une fin de détachement sur emploi fonctionnel de direction...) qui doivent être recensés par l’organisme qui les a pris en charge et qui les rémunère;"]
["- les fonctionnaires partis ou placés dans une position autre que l’activité qui ont perçu un rappel de traitement en décembre "]
[]
[]
["Comment sont-ils recensés ?"]
[]
["* par filière, déclinée en cadres d'emplois puis en grades (en lignes) "]
["- les fonctionnaires occupant un emploi fonctionnel de direction doivent être comptabilisés uniquement dans leurs cadres d'emplois et grades respectifs (nomenclature des emplois territoriaux au 31 décembre 2019) même s'ils ont déjà été comptabilisés dans l'indicateur 1.1.0 ;"]
["- les stagiaires nommés par détachement (notamment suite à concours, promotion interne ou reclassement pour inaptitude physique), qui avaient auparavant la qualité de titulaires dans votre collectivité, doivent être recensés uniquement en qualité de stagiaires, et donc ne pas être comptés au titre de leur grade ou cadre d'emplois d'origine ;"]
["- les titulaires originaires d'autres collectivités ou structures, détachés dans la collectivité, doivent être recensés dans la filière, le cadre(s) d'emplois et grade correspondant à l'emploi dans lequel ils ont été nommés."]
[]
["* selon les caractéristiques de leur emploi (temps complet ou non complet ; en colonnes) "]
["- colonne 1.1.1(1) : effectif des fonctionnaires occupant un emploi à temps complet, qu’ils exercent à temps plein ou à temps partiel (ces derniers font l’objet d’un recensement détaillé à l’indicateur 1.1.2.) "]
["- colonnes 1.1.1(2) à 1.1.1(4) : effectif des fonctionnaires occupant un emploi à temps NON complet (réf. : loi du 26 janvier 1984 - articles 104 à 108), décliné par durée hebdomadaire de service."]
[]
["Attention : ne pas confondre \"temps non complet\" qui est une caractéristique de l'emploi (exprimée en 35èmes) et \"temps partiel\" qui est une modalité d'exercice (exprimée en pourcentage de temps plein) pour un agent occupant un emploi à temps complet."]
[]
["* puis par sexe (en colonnes)"]
["- colonne 1.1.1(5) : les hommes"]
["- colonne 1.1.1(6) : les femmes"]

{"sheet":"IND 1.1.1","index":14,"n_rows":378,"n_cols":10,"rows_kept":378,"cut":false,"hidden":false,"merged":[[9,1,9,5],[9,6,9,7],[9,8,15,8],[10,2,10,5],[11,2,11,4],[7,0,7,8],[0,1,0,2],[2,0,2,8],[5,0,5,8],[6,0,6,8]]}
[null,"Retour Sommaire"]
[]
["1.1.1 - Nombre de fonctionnaires occupant un emploi permanent rémunérés au 31/12/2019 par filière, cadre d'emplois et grade, selon les caractéristiques de l'emploi et selon le sexe"]
[]
[]
["Champ : le tableau qui suit concerne les agents titulaires et stagiaires occupant un emploi permanent rémunérés au 31/12/2019."]
["Remarque importante : les agents occupant un emploi fonctionnel doivent être uniquement comptabilisés dans leurs cadres d'emplois et grades respectifs."]
["Par exemple, un attaché principal qui est en poste sur un emploi fonctionnel de directeur général adjoint, doit être comptabilisé en tant qu’attaché principal."]
[]
[null,"Tous emplois",null,null,null,null,"Tous emplois",null,"Total"]
["Grades","Temps complet","Temps non complet",null,null,null,"Hommes","Femmes"]
["Cadres d'emplois",null,"Temps de travail hebdomadaire",null,null,"Sous-Total"]
["FILIERES",null,"moins de","\n17 H 30 à","\n28 H"]
[null,null,"\n17 H 30","moins de ","ou plus"]
[null,null,null,"\n28 H"]
[null,"1.1.1(1)","1.1.1(2)","1.1.1(3)","1.1.1(4)",null,"1.1.1(5)","1.1.1(6)"]
[null,10,21,22,23,20,1,2,0,"temps/sexe"]
["FILIERE ADMINISTRATIVE"]
["Administrateur général",null,null,null,null,{"$f":"SUM(C19:E19)","v":0},null,null,{"$f":"SUM(G19:H19)","v":0},"TAD3"]
["Administrateur hors classe",null,null,null,null,{"$f":"SUM(C20:E20)","v":0},null,null,{"$f":"SUM(G20:H20)","v":0},"TAD2"]
["Administrateur ",null,null,null,null,{"$f":"SUM(C21:E21)","v":0},null,null,{"$f":"SUM(G21:H21)","v":0},"TAD1"]
["Administrateur stagiaire",null,null,null,null,{"$f":"SUM(C22:E22)","v":0},null,null,{"$f":"SUM(G22:H22)","v":0},"SAD1"]
["ADMINISTRATEURS",{"$f":"SUM(B19:B22)","v":0},0,0,0,0,0,0,0,"AD"]
[]
["Attaché hors classe",null,null,null,null,{"$f":"SUM(C25:E25)","v":0},null,null,{"$f":"SUM(G25:H25)","v":0},"TAT4"]
["Directeur territorial",null,null,null,null,{"$f":"SUM(C26:E26)","v":0},null,null,{"$f":"SUM(G26:H26)","v":0},"TAT3"]
["Attaché principal ",null,null,null,null,{"$f":"SUM(C27:E27)","v":0},null,null,{"$f":"SUM(G27:H27)","v":0},"TAT2"]
["Attaché",null,null,null,null,{"$f":"SUM(C28:E28)","v":0},null,null,{"$f":"SUM(G28:H28)","v":0},"TAT1"]
["Attaché stagiaire",null,null,null,null,{"$f":"SUM(C29:E29)","v":0},null,null,{"$f":"SUM(G29:H29)","v":0},"SAT1"]
["ATTACHES",{"$f":"SUM(B25:B29)","v":0},0,0,0,0,0,0,0,"AT"]
[]
["Secrétaire de mairie",null,null,null,null,{"$f":"SUM(C32:E32)","v":0},null,null,{"$f":"SUM(G32:H32)","v":0},"TAS1"]
["SECRETAIRES DE MAIRIE",{"$f":"SUM(B32:B32)","v":0},0,0,0,0,0,0,0,"AS"]
[]
["Rédacteur principal de 1ère classe",null,null,null,null,{"$f":"SUM(C35:E35)","v":0},null,null,{"$f":"SUM(G35:H35)","v":0},"TAR3"]
["Rédacteur principal de 2ème classe",null,null,null,null,{"$f":"SUM(C36:E36)","v":0},null,null,{"$f":"SUM(G36:H36)","v":0},"TAR2"]
["Rédacteur principal de 2ème classe stagiaire",null,null,null,null,{"$f":"SUM(C37:E37)","v":0},null,null,{"$f":"SUM(G37:H37)","v":0},"SAR2"]
["Rédacteur",null,null,null,null,{"$f":"SUM(C38:E38)","v":0},null,null,{"$f":"SUM(G38:H38)","v":0},"TAR1"]
["Rédacteur stagiaire",null,null,null,null,{"$f":"SUM(C39:E39)","v":0},null,null,{"$f":"SUM(G39:H39)","v":0},"SAR1"]
["REDACTEURS",{"$f":"SUM(B35:B39)","v":0},0,0,0,0,0,0,0,"AR"]
[]
["Adjoint administratif principal de 1ère classe",null,null,null,null,{"$f":"SUM(C42:E42)","v":0},null,null,{"$f":"SUM(G42:H42)","v":0},"TAJ4"]
["Adjoint administratif principal de 2ème classe",null,null,null,null,{"$f":"SUM(C43:E43)","v":0},null,null,{"$f":"SUM(G43:H43)","v":0},"TAJ3"]
["Adjoint administratif principal de 2ème classe stagiaire",null,null,null,null,{"$f":"SUM(C44:E44)","v":0},null,null,{"$f":"SUM(G44:H44)","v":0},"SAJ3"]
["Adjoint administratif",null,null,null,null,{"$f":"SUM(C45:E45)","v":0},null,null,{"$f":"SUM(G45:H45)","v":0},"TAJ1"]
["Adjoint administratif stagiaire",null,null,null,null,{"$f":"SUM(C46:E46)","v":0},null,null,{"$f":"SUM(G46:H46)","v":0},"SAJ1"]
["ADJOINTS ADMINISTRATIFS",{"$f":"SUM(B42:B46)","v":0},0,0,0,0,0,0,0,"AJ"]
[]
["FILIERE ADMINISTRATIVE",{"$f":"B23+B30+B33+B40+B47","v":0},0,0,0,0,0,0,0,"A"]
[]
["FILIERE TECHNIQUE"]
["Ingénieur général",null,null,null,null,{"$f":"SUM(C52:E52)","v":0},null,null,{"$f":"SUM(G52:H52)","v":0},"TTN3"]
["Ingénieur en chef hors classe",null,null,null,null,{"$f":"SUM(C53:E53)","v":0},null,null,{"$f":"SUM(G53:H53)","v":0},"TTN2"]
["Ingénieur en chef",null,null,null,null,{"$f":"SUM(C54:E54)","v":0},null,null,{"$f":"SUM(G54:H54)","v":0},"TTN1"]
["Ingénieur en chef stagiaire",null,null,null,null,{"$f":"SUM(C55:E55)","v":0},null,null,0,"STN1"]
["INGENIEURS EN CHEF",{"$f":"SUM(B52:B55)","v":0},{"$f":"SUM(C52:C55)","v":0},0,0,0,0,0,0,"TN"]
[]
["Ingénieur hors classe",null,null,null,null,{"$f":"SUM(C58:E58)","v":0},null,null,0,"TTP3"]
["Ingénieur principal",null,null,null,null,{"$f":"SUM(C59:E59)","v":0},null,null,0,"TTP2"]
["Ingénieur ",null,null,null,null,{"$f":"SUM(C60:E60)","v":0},null,null,0,"TTP1"]
["Ingénieur stagiaire",null,null,null,null,{"$f":"SUM(C61:E61)","v":0},null,null,0,"STP1"]
["INGENIEURS",{"$f":"SUM(B58:B61)","v":0},{"$f":"SUM(C58:C61)","v":0},0,0,0,0,0,0,"TP"]
[]
["Technicien principal de 1ère classe",null,null,null,null,{"$f":"SUM(C64:E64)","v":0},null,null,{"$f":"SUM(G64:H64)","v":0},"TTT3"]
["Technicien principal de 2ème classe",null,null,null,null,{"$f":"SUM(C65:E65)","v":0},null,null,{"$f":"SUM(G65:H65)","v":0},"TTT2"]
["Technicien principal de 2ème classe stagiaire",null,null,null,null,{"$f":"SUM(C66:E66)","v":0},null,null,{"$f":"SUM(G66:H66)","v":0},"STT2"]
["Technicien ",null,null,null,null,{"$f":"SUM(C67:E67)","v":0},null,null,{"$f":"SUM(G67:H67)","v":0},"TTT1"]
["Technicien stagiaire",null,null,null,null,{"$f":"SUM(C68:E68)","v":0},null,null,{"$f":"SUM(G68:H68)","v":0},"STT1"]
["TECHNICIENS ",{"$f":"SUM(B64:B68)","v":0},0,0,0,0,0,0,0,"TT"]
[]
["Agent de maîtrise principal",null,null,null,null,{"$f":"SUM(C71:E71)","v":0},null,null,{"$f":"SUM(G71:H71)","v":0},"TTM2"]
["Agent de maîtrise",null,null,null,null,{"$f":"SUM(C72:E72)","v":0},null,null,{"$f":"SUM(G72:H72)","v":0},"TTM1"]
["Agent de maîtrise stagiaire",null,null,null,null,{"$f":"SUM(C73:E73)","v":0},null,null,{"$f":"SUM(G73:H73)","v":0},"STM1"]
["AGENTS DE MAITRISE",{"$f":"SUM(B71:B73)","v":0},0,0,0,0,0,0,0,"TM"]
[]
["Adjoint technique principal de 1ère classe",null,null,null,null,{"$f":"SUM(C76:E76)","v":0},null,null,{"$f":"SUM(G76:H76)","v":0},"TTH4"]
["Adjoint technique principal de 2ème classe",null,null,null,null,{"$f":"SUM(C77:E77)","v":0},null,null,{"$f":"SUM(G77:H77)","v":0},"TTH3"]
["Adjoint technique principal de 2ème classe stagiaire",null,null,null,null,{"$f":"SUM(C78:E78)","v":0},null,null,{"$f":"SUM(G78:H78)","v":0},"STH3"]
["Adjoint technique",null,null,null,null,{"$f":"SUM(C79:E79)","v":0},null,null,{"$f":"SUM(G79:H79)","v":0},"TTH1"]
["Adjoint technique stagiaire",null,null,null,null,{"$f":"SUM(C80:E80)","v":0},null,null,{"$f":"SUM(G80:H80)","v":0},"STH1"]
["ADJOINTS TECHNIQUES",{"$f":"SUM(B76:B80)","v":0},0,0,0,0,0,0,0,"TH"]
[]
["Adjoint technique principal de 1ère classe",null,null,null,null,{"$f":"SUM(C83:E83)","v":0},null,null,{"$f":"SUM(G83:H83)","v":0},"TTA4"]
["Adjoint technique principal de 2ème classe",null,null,null,null,{"$f":"SUM(C84:E84)","v":0},null,null,{"$f":"SUM(G84:H84)","v":0},"TTA3"]
["Adjoint technique principal de 2ème classe stagiaire",null,null,null,null,{"$f":"SUM(C85:E85)","v":0},null,null,{"$f":"SUM(G85:H85)","v":0},"STA3"]
["Adjoint technique",null,null,null,null,{"$f":"SUM(C86:E86)","v":0},null,null,{"$f":"SUM(G86:H86)","v":0},"TTA2"]
["Adjoint technique stagiaire",null,null,null,null,{"$f":"SUM(C87:E87)","v":0},null,null,{"$f":"SUM(G87:H87)","v":0},"STA2"]
["ADJOINTS TECHNIQUES DES ETABLISSEMENTS D'ENSEIGNEMENT",{"$f":"SUM(B83:B87)","v":0},0,0,0,0,0,0,0,"TA"]
[]
["FILIERE TECHNIQUE",{"$f":"B56+B62+B69+B74+B81+B88","v":0},0,0,0,0,0,0,0,"T"]
[]
["FILIERE CULTURELLE"]
["Conservateur en chef",null,null,null,null,{"$f":"SUM(C93:E93)","v":0},null,null,{"$f":"SUM(G93:H93)","v":0},"TCM3"]
["Conservateur ",null,null,null,null,{"$f":"SUM(C94:E94)","v":0},null,null,{"$f":"SUM(G94:H94)","v":0},"TCM2"]
["Conservateur stagiaire",null,null,null,null,{"$f":"SUM(C95:E95)","v":0},null,null,{"$f":"SUM(G95:H95)","v":0},"SCM1"]
["CONSERVATEURS DU PATRIMOINE",{"$f":"SUM(B93:B95)","v":0},0,0,0,0,0,0,0,"CM"]
[]
["Conservateur en chef",null,null,null,null,{"$f":"SUM(C98:E98)","v":0},null,null,{"$f":"SUM(G98:H98)","v":0},"TCH2"]
["Conservateur ",null,null,null,null,{"$f":"SUM(C99:E99)","v":0},null,null,{"$f":"SUM(G99:H99)","v":0},"TCH1"]
["Conservateur stagiaire",null,null,null,null,{"$f":"SUM(C100:E100)","v":0},null,null,{"$f":"SUM(G100:H100)","v":0},"SCH1"]
["CONSERVATEURS DES BIBLIOTHEQUES",{"$f":"SUM(B98:B100)","v":0},0,0,0,0,0,0,0,"CH"]
[]
["Attaché principal de conservation du patrimoine ",null,null,null,null,{"$f":"SUM(C103:E103)","v":0},null,null,{"$f":"SUM(G103:H103)","v":0},"TCA2"]
["Attaché de conservation du patrimoine ",null,null,null,null,{"$f":"SUM(C104:E104)","v":0},null,null,{"$f":"SUM(G104:H104)","v":0},"TCA1"]
["Attaché de conservation du patrimoine stagiaire",null,null,null,null,{"$f":"SUM(C105:E105)","v":0},null,null,{"$f":"SUM(G105:H105)","v":0},"SCA1"]
["ATTACHES DE CONSERVATION DU PATRIMOINE ",{"$f":"SUM(B103:B105)","v":0},0,0,0,0,0,0,0,"CA"]
[]
["Bibliothécaire principal",null,null,null,null,{"$f":"SUM(C108:E108)","v":0},null,null,{"$f":"SUM(G108:H108)","v":0},"TCB2"]
["Bibliothécaire ",null,null,null,null,{"$f":"SUM(C109:E109)","v":0},null,null,{"$f":"SUM(G109:H109)","v":0},"TCB1"]
["Bibliothécaire stagiaire",null,null,null,null,{"$f":"SUM(C110:E110)","v":0},null,null,{"$f":"SUM(G110:H110)","v":0},"SCB1"]
["BIBLIOTHECAIRES",{"$f":"SUM(B108:B110)","v":0},0,0,0,0,0,0,0,"CB"]
[]
["Directeur d'établissement d'enseignement artistique de 1ère catégorie",null,null,null,null,{"$f":"SUM(C113:E113)","v":0},null,null,{"$f":"SUM(G113:H113)","v":0},"TCD2"]
["Directeur d'établissement d'enseignement artistique de 1ère catégorie stagiaire",null,null,null,null,{"$f":"SUM(C114:E114)","v":0},null,null,{"$f":"SUM(G114:H114)","v":0},"SCD2"]
["Directeur d'établissement d'enseignement artistique de 2ème catégorie",null,null,null,null,{"$f":"SUM(C115:E115)","v":0},null,null,{"$f":"SUM(G115:H115)","v":0},"TCD1"]
["Directeur d'établissement d'enseignement artistique de 2ème catégorie stagiaire",null,null,null,null,{"$f":"SUM(C116:E116)","v":0},null,null,{"$f":"SUM(G116:H116)","v":0},"SCD1"]
["DIRECTEURS D'ETABLISSEMENTS D'ENSEIGNEMENT ARTISTIQUE",{"$f":"SUM(B113:B116)","v":0},0,0,0,{"$f":"SUM(F113:F116)","v":0},0,0,0,"CD"]
[]
["Professeur d'enseignement artistique hors classe",null,null,null,null,{"$f":"SUM(C119:E119)","v":0},null,null,{"$f":"SUM(G119:H119)","v":0},"TCP2"]
["Professeur d'enseignement artistique classe normale",null,null,null,null,{"$f":"SUM(C120:E120)","v":0},null,null,{"$f":"SUM(G120:H120)","v":0},"TCP1"]
["Professeur d'enseignement artistique stagiaire",null,null,null,null,{"$f":"SUM(C121:E121)","v":0},null,null,{"$f":"SUM(G121:H121)","v":0},"SCP1"]
["PROFESSEURS D'ENSEIGNEMENT ARTISTIQUE",{"$f":"SUM(B119:B121)","v":0},0,0,0,0,0,0,0,"CP"]
[]
["Assistant de conservation principal de 1ère classe ",null,null,null,null,{"$f":"SUM(C124:E124)","v":0},null,null,{"$f":"SUM(G124:H124)","v":0},"TCG3"]
["Assistant de conservation principal de 2ème classe ",null,null,null,null,{"$f":"SUM(C125:E125)","v":0},null,null,{"$f":"SUM(G125:H125)","v":0},"TCG2"]
["Assistant de conservation principal de 2ème classe stagiaire",null,null,null,null,{"$f":"SUM(C126:E126)","v":0},null,null,{"$f":"SUM(G126:H126)","v":0},"SCG2"]
["Assistant de conservation ",null,null,null,null,{"$f":"SUM(C127:E127)","v":0},null,null,{"$f":"SUM(G127:H127)","v":0},"TCG1"]
["Assistant de conservation stagiaire",null,null,null,null,{"$f":"SUM(C128:E128)","v":0},null,null,{"$f":"SUM(G128:H128)","v":0},"SCG1"]
["ASSISTANTS DE CONSERVATION DU PATRIMOINE ET DES BIBLIOTHEQUES",{"$f":"SUM(B124:B128)","v":0},0,0,0,0,0,0,0,"CG"]
[]
["Assistant d'enseignement artistique principal de 1ère classe",null,null,null,null,{"$f":"SUM(C131:E131)","v":0},null,null,{"$f":"SUM(G131:H131)","v":0},"TCS3"]
["Assistant d'enseignement artistique principal de 2ème classe ",null,null,null,null,{"$f":"SUM(C132:E132)","v":0},null,null,{"$f":"SUM(G132:H132)","v":0},"TCS2"]
["Assistant d'enseignement artistique principal de 2ème classe stagiaire",null,null,null,null,{"$f":"SUM(C133:E133)","v":0},null,null,{"$f":"SUM(G133:H133)","v":0},"SCS2"]
["Assistant d'enseignement artistique",null,null,null,null,{"$f":"SUM(C134:E134)","v":0},null,null,{"$f":"SUM(G134:H134)","v":0},"TCS1"]
["Assistant d'enseignement artistique stagiaire",null,null,null,null,{"$f":"SUM(C135:E135)","v":0},null,null,{"$f":"SUM(G135:H135)","v":0},"SCS1"]
["ASSISTANTS D'ENSEIGNEMENT ARTISTIQUE",{"$f":"SUM(B131:B135)","v":0},0,0,0,0,0,0,0,"CS"]
[]
["Adjoint territorial du patrimoine principal de 1ère classe",null,null,null,null,{"$f":"SUM(C138:E138)","v":0},null,null,{"$f":"SUM(G138:H138)","v":0},"TCJ4"]
["Adjoint territorial du patrimoine principal de 2ème classe",null,null,null,null,{"$f":"SUM(C139:E139)","v":0},null,null,{"$f":"SUM(G139:H139)","v":0},"TCJ3"]
["Adjoint territorial du patrimoine principal de 2ème classe stagiaire",null,null,null,null,{"$f":"SUM(C140:E140)","v":0},null,null,{"$f":"SUM(G140:H140)","v":0},"SCJ3"]
["Adjoint territorial du patrimoine",null,null,null,null,{"$f":"SUM(C141:E141)","v":0},null,null,{"$f":"SUM(G141:H141)","v":0},"TCJ1"]
["Adjoint territorial du patrimoine stagiaire",null,null,null,null,{"$f":"SUM(C142:E142)","v":0},null,null,{"$f":"SUM(G142:H142)","v":0},"SCJ1"]
["ADJOINTS TERRITORIAUX DU PATRIMOINE",{"$f":"SUM(B138:B142)","v":0},0,0,0,0,0,0,0,"CJ"]
[]
["FILIERE CULTURELLE",{"$f":"B96+B101+B106+B111+B117+B122+B129+B136+B143","v":0},{"$f":"C96+C101+C106+C111+C117+C122+C129+C136+C143","v":0},0,0,0,0,0,0,"C"]
[]
["FILIERE SPORTIVE"]
["Conseiller principal",null,null,null,null,{"$f":"SUM(C148:E148)","v":0},null,null,{"$f":"SUM(G148:H148)","v":0},"TSC2"]
["Conseiller ",null,null,null,null,{"$f":"SUM(C149:E149)","v":0},null,null,{"$f":"SUM(G149:H149)","v":0},"TSC1"]
["Conseiller stagiaire",null,null,null,null,{"$f":"SUM(C150:E150)","v":0},null,null,{"$f":"SUM(G150:H150)","v":0},"SSC1"]
["CONSEILLERS DES APS",{"$f":"SUM(B148:B150)","v":0},0,0,0,0,0,0,0,"SC"]
[]
["Educateur principal de 1ère classe",null,null,null,null,{"$f":"SUM(C153:E153)","v":0},null,null,{"$f":"SUM(G153:H153)","v":0},"TSE3"]
["Educateur principal de 2ème classe",null,null,null,null,{"$f":"SUM(C154:E154)","v":0},null,null,{"$f":"SUM(G154:H154)","v":0},"TSE2"]
["Educateur principal stagiaire de 2ème classe",null,null,null,null,{"$f":"SUM(C155:E155)","v":0},null,null,{"$f":"SUM(G155:H155)","v":0},"SSE2"]
["Educateur",null,null,null,null,{"$f":"SUM(C156:E156)","v":0},null,null,{"$f":"SUM(G156:H156)","v":0},"TSE1"]
["Educateur stagiaire",null,null,null,null,{"$f":"SUM(C157:E157)","v":0},null,null,{"$f":"SUM(G157:H157)","v":0},"SSE1"]
["EDUCATEURS DES APS",{"$f":"SUM(B153:B157)","v":0},0,0,0,0,0,0,0,"SE"]
[]
["Opérateur principal",null,null,null,null,{"$f":"SUM(C160:E160)","v":0},null,null,{"$f":"SUM(G160:H160)","v":0},"TSP4"]
["Opérateur qualifié",null,null,null,null,{"$f":"SUM(C161:E161)","v":0},null,null,{"$f":"SUM(G161:H161)","v":0},"TSP3"]
["Opérateur qualifié stagiaire",null,null,null,null,{"$f":"SUM(C162:E162)","v":0},null,null,{"$f":"SUM(G162:H162)","v":0},"SSP3"]
["Opérateur ",null,null,null,null,{"$f":"SUM(C163:E163)","v":0},null,null,{"$f":"SUM(G163:H163)","v":0},"TSP2"]
["OPERATEURS DES APS",{"$f":"SUM(B160:B163)","v":0},0,0,0,0,0,0,0,"SP"]
[]
["FILIERE SPORTIVE",{"$f":"B151+B158+B164","v":0},0,0,0,0,0,0,0,"S"]
[]
["FILIERE SOCIALE"]
["Conseiller hors classe socio-éducatif",null,null,null,null,{"$f":"SUM(C169:E169)","v":0},null,null,{"$f":"SUM(G169:H169)","v":0},"TMM3"]
["Conseiller supérieur socio-éducatif",null,null,null,null,{"$f":"SUM(C170:E170)","v":0},null,null,{"$f":"SUM(G170:H170)","v":0},"TMM2"]
["Conseiller socio-éducatif",null,null,null,null,{"$f":"SUM(C171:E171)","v":0},null,null,{"$f":"SUM(G171:H171)","v":0},"TMM1"]
["Conseiller socio-éducatif stagiaire",null,null,null,null,{"$f":"SUM(C172:E172)","v":0},null,null,{"$f":"SUM(G172:H172)","v":0},"SMM1"]
["CONSEILLERS SOCIO-EDUCATIFS",{"$f":"SUM(B169:B172)","v":0},{"$f":"SUM(C169:C172)","v":0},0,0,0,0,0,0,"MM"]
[]
["Assistant socio-éducatif de classe exceptionnelle",null,null,null,null,{"$f":"SUM(C175:E175)","v":0},null,null,{"$f":"SUM(G175:H175)","v":0},"TMT3"]
["Assistant socio-éducatif  de 1ère classe",null,null,null,null,{"$f":"SUM(C176:E176)","v":0},null,null,{"$f":"SUM(G176:H176)","v":0},"TMT2"]
["Assistant socio-éducatif de 2ème classe",null,null,null,null,{"$f":"SUM(C177:E177)","v":0},null,null,{"$f":"SUM(G177:H177)","v":0},"TMT1"]
["Assistant socio-éducatif de 2ème classe stagiaire",null,null,null,null,{"$f":"SUM(C178:E178)","v":0},null,null,{"$f":"SUM(G178:H178)","v":0},"SMT1"]
["ASSISTANTS SOCIO-EDUCATIFS",{"$f":"SUM(B175:B178)","v":0},0,0,0,0,0,0,0,"MT"]
[]
["Educateur de jeunes enfants de classe exceptionnelle",null,null,null,null,{"$f":"SUM(C181:E181)","v":0},null,null,{"$f":"SUM(G181:H181)","v":0},"TME3"]
["Educateur de jeunes enfants de 1ère classe",null,null,null,null,{"$f":"SUM(C182:E182)","v":0},null,null,{"$f":"SUM(G182:H182)","v":0},"TME2"]
["Educateur de jeunes enfants de 2ème classe",null,null,null,null,{"$f":"SUM(C183:E183)","v":0},null,null,{"$f":"SUM(G183:H183)","v":0},"TME1"]
["Educateur de jeunes enfants de 2ème classe stagiaire",null,null,null,null,{"$f":"SUM(C184:E184)","v":0},null,null,{"$f":"SUM(G184:H184)","v":0},"SME1"]
["EDUCATEURS DE JEUNES ENFANTS",{"$f":"SUM(B181:B184)","v":0},0,0,0,0,0,0,0,"ME"]
[]
["Moniteur-éducateur et intervenant familial principal",null,null,null,null,{"$f":"SUM(C187:E187)","v":0},null,null,{"$f":"SUM(G187:H187)","v":0},"TMB2"]
["Moniteur-éducateur et intervenant familial ",null,null,null,null,{"$f":"SUM(C188:E188)","v":0},null,null,{"$f":"SUM(G188:H188)","v":0},"TMB1"]
["Moniteur-éducateur et intervenant familial stagiaire",null,null,null,null,{"$f":"SUM(C189:E189)","v":0},null,null,{"$f":"SUM(G189:H189)","v":0},"SMB1"]
["MONITEURS EDUCATEURS ET INTERVENANTS FAMILIAUX",{"$f":"SUM(B187:B189)","v":0},0,0,0,0,0,0,0,"MB"]
[]
["Agent spécialisé principal de 1ère classe des écoles maternelles",null,null,null,null,{"$f":"SUM(C192:E192)","v":0},null,null,{"$f":"SUM(G192:H192)","v":0},"TMD3"]
["Agent spécialisé principal de 2ème classe des écoles maternelles",null,null,null,null,{"$f":"SUM(C193:E193)","v":0},null,null,{"$f":"SUM(G193:H193)","v":0},"TMD2"]
["Agent spécialisé principal de 2ème classe des écoles maternelles stagiaire",null,null,null,null,{"$f":"SUM(C194:E194)","v":0},null,null,{"$f":"SUM(G194:H194)","v":0},"SMD2"]
["ASEM",{"$f":"SUM(B192:B194)","v":0},0,0,0,0,0,0,0,"MD"]
[]
["Agent social principal de 1ère classe",null,null,null,null,{"$f":"SUM(C197:E197)","v":0},null,null,{"$f":"SUM(G197:H197)","v":0},"TMP4"]
["Agent social principal de 2ème classe",null,null,null,null,{"$f":"SUM(C198:E198)","v":0},null,null,{"$f":"SUM(G198:H198)","v":0},"TMP3"]
["Agent social principal de 2ème classe stagiaire",null,null,null,null,{"$f":"SUM(C199:E199)","v":0},null,null,{"$f":"SUM(G199:H199)","v":0},"SMP3"]
["Agent social ",null,null,null,null,{"$f":"SUM(C200:E200)","v":0},null,null,{"$f":"SUM(G200:H200)","v":0},"TMP1"]
["Agent social stagiaire",null,null,null,null,{"$f":"SUM(C201:E201)","v":0},null,null,{"$f":"SUM(G201:H201)","v":0},"SMP1"]
["AGENTS SOCIAUX",{"$f":"SUM(B197:B201)","v":0},0,0,0,0,0,0,0,"MP"]
[]
["FILIERE SOCIALE",{"$f":"B173+B179+B185+B190+B195+B202","v":0},0,0,0,0,0,0,0,"M"]
[]
["FILIERE MEDICO-SOCIALE"]
["Médecin hors classe",null,null,null,null,{"$f":"SUM(C207:E207)","v":0},null,null,{"$f":"SUM(G207:H207)","v":0},"TOD3"]
["Médecin de 1ère classe",null,null,null,null,{"$f":"SUM(C208:E208)","v":0},null,null,{"$f":"SUM(G208:H208)","v":0},"TOD2"]
["Médecin de 2ème classe",null,null,null,null,{"$f":"SUM(C209:E209)","v":0},null,null,{"$f":"SUM(G209:H209)","v":0},"TOD1"]
["Médecin de 2ème classe stagiaire",null,null,null,null,{"$f":"SUM(C210:E210)","v":0},null,null,{"$f":"SUM(G210:H210)","v":0},"SOD1"]
["MEDECINS",{"$f":"SUM(B207:B210)","v":0},0,0,0,0,0,0,0,"OD"]
[]
["Psychologue hors classe",null,null,null,null,{"$f":"SUM(C213:E213)","v":0},null,null,{"$f":"SUM(G213:H213)","v":0},"TOH2"]
["Psychologue de classe normale",null,null,null,null,{"$f":"SUM(C214:E214)","v":0},null,null,{"$f":"SUM(G214:H214)","v":0},"TOH1"]
["Psycholoque de classe normale stagiaire",null,null,null,null,{"$f":"SUM(C215:E215)","v":0},null,null,{"$f":"SUM(G215:H215)","v":0},"SOH1"]
["PSYCHOLOGUES ",{"$f":"SUM(B213:B215)","v":0},0,0,0,0,0,0,0,"OH"]
[]
["Sage-femme hors classe",null,null,null,null,{"$f":"SUM(C218:E218)","v":0},null,null,{"$f":"SUM(G218:H218)","v":0},"TOF3"]
["Sage-femme de classe normale",null,null,null,null,{"$f":"SUM(C219:E219)","v":0},null,null,{"$f":"SUM(G219:H219)","v":0},"TOF1"]
["Sage-femme de classe normale stagiaire",null,null,null,null,{"$f":"SUM(C220:E220)","v":0},null,null,{"$f":"SUM(G220:H220)","v":0},"SOF1"]
["SAGES-FEMMES",{"$f":"SUM(B218:B220)","v":0},0,0,0,0,0,0,0,"OF"]
[]
["Cadre supérieur de santé",null,null,null,null,{"$f":"SUM(C223:E223)","v":0},null,null,{"$f":"SUM(G223:H223)","v":0},"TOG3"]
["Cadré de santé de 1ère classe",null,null,null,null,{"$f":"SUM(C224:E224)","v":0},null,null,{"$f":"SUM(G224:H224)","v":0},"TOG2"]
["Cadre de santé de 2ème classe",null,null,null,null,{"$f":"SUM(C225:E225)","v":0},null,null,{"$f":"SUM(G225:H225)","v":0},"TOG1"]
["Cadre de santé de 2ème classe stagiaire",null,null,null,null,{"$f":"SUM(C226:E226)","v":0},null,null,{"$f":"SUM(G226:H226)","v":0},"SOG1"]
["CADRES DE SANTE PARAMEDICAUX",{"$f":"SUM(B223:B226)","v":0},0,0,0,0,0,0,0,"OG"]
[]
["Puéricultrice-cadre supérieur de santé",null,null,null,null,{"$f":"SUM(C229:E229)","v":0},null,null,{"$f":"SUM(G229:H229)","v":0},"TOC2"]
["Puéricultrice-cadre de santé",null,null,null,null,{"$f":"SUM(C230:E230)","v":0},null,null,{"$f":"SUM(G230:H230)","v":0},"TOC1"]
["PUERICULTRICES-CADRES DE SANTE",{"$f":"SUM(B229:B230)","v":0},0,0,0,0,0,0,0,"OC"]
[]
["Puéricultrice de classe supérieure",null,null,null,null,{"$f":"SUM(C233:E233)","v":0},null,null,{"$f":"SUM(G233:H233)","v":0},"TOP2"]
["Puéricultrice de classe normale",null,null,null,null,{"$f":"SUM(C234:E234)","v":0},null,null,{"$f":"SUM(G234:H234)","v":0},"TOP1"]
["PUERICULTRICES (décret n° 92-859 du 28 août 1992 modifié) *",{"$f":"SUM(B233:B234)","v":0},0,0,0,0,0,0,0,"OP"]
[]
["Puéricultrice hors classe",null,null,null,null,{"$f":"SUM(C237:E237)","v":0},null,null,{"$f":"SUM(G237:H237)","v":0},"TOU3"]
["Puéricultrice de classe supérieure",null,null,null,null,{"$f":"SUM(C238:E238)","v":0},null,null,{"$f":"SUM(G238:H238)","v":0},"TOU2"]
["Puéricultrice de classe normale",null,null,null,null,{"$f":"SUM(C239:E239)","v":0},null,null,{"$f":"SUM(G239:H239)","v":0},"TOU1"]
["Puéricultrice de classe normale stagiaire",null,null,null,null,{"$f":"SUM(C240:E240)","v":0},null,null,{"$f":"SUM(G240:H240)","v":0},"SOU1"]
["PUERICULTRICES (décret n° 2014-923  du 18 août 2014) * ",{"$f":"SUM(B237:B240)","v":0},0,0,0,0,0,0,0,"OU"]
[]
["Cadre de santé",null,null,null,null,{"$f":"SUM(C243:E243)","v":0},null,null,{"$f":"SUM(G243:H243)","v":0},"TOA1"]
["CADRES DE SANTE INFIRMIERS, REEDUCATEURS ET ASSISTANTS MEDICO-TECHNIQUES ",{"$f":"SUM(B243:B243)","v":0},0,0,0,0,0,0,0,"OA"]
[]
["Infirmier en soins généraux hors classe",null,null,null,null,{"$f":"SUM(C246:E246)","v":0},null,null,{"$f":"SUM(G246:H246)","v":0},"TOB3"]
["Infirmier en soins généraux de classe supérieure",null,null,null,null,{"$f":"SUM(C247:E247)","v":0},null,null,{"$f":"SUM(G247:H247)","v":0},"TOB2"]
["infirmier en soins généraux de classe normale",null,null,null,null,{"$f":"SUM(C248:E248)","v":0},null,null,{"$f":"SUM(G248:H248)","v":0},"TOB1"]
["Infirmier en soins généraux de classe normale stagiaire",null,null,null,null,{"$f":"SUM(C249:E249)","v":0},null,null,{"$f":"SUM(G249:H249)","v":0},"SOB1"]
["INFIRMIERS EN SOINS GENERAUX",{"$f":"SUM(B246:B249)","v":0},0,0,0,0,0,0,0,"OB"]
[]
["Infirmier de classe supérieure",null,null,null,null,{"$f":"SUM(C252:E252)","v":0},null,null,{"$f":"SUM(G252:H252)","v":0},"TON2"]
["Infirmier de classe normale",null,null,null,null,{"$f":"SUM(C253:E253)","v":0},null,null,{"$f":"SUM(G253:H253)","v":0},"TON1"]
["INFIRMIERS",{"$f":"SUM(B252:B253)","v":0},0,0,0,0,0,0,0,"ON"]
[]
["Auxiliaire de puériculture principal de 1ère classe",null,null,null,null,{"$f":"SUM(C256:E256)","v":0},null,null,{"$f":"SUM(G256:H256)","v":0},"TOJ3"]
["Auxiliaire de puériculture principal de 2ème classe",null,null,null,null,{"$f":"SUM(C257:E257)","v":0},null,null,{"$f":"SUM(G257:H257)","v":0},"TOJ2"]
["Auxiliaire de puériculture principal de 2ème classe stagiaire",null,null,null,null,{"$f":"SUM(C258:E258)","v":0},null,null,{"$f":"SUM(G258:H258)","v":0},"SOJ2"]
["AUXILIAIRES DE PUERICULTURE",{"$f":"SUM(B256:B258)","v":0},0,0,0,0,0,0,0,"OJ"]
[]
["Auxiliaire de soins principal de 1ère classe",null,null,null,null,{"$f":"SUM(C261:E261)","v":0},null,null,{"$f":"SUM(G261:H261)","v":0},"TOK3"]
["Auxiliaire de soins principal de 2ème classe",null,null,null,null,{"$f":"SUM(C262:E262)","v":0},null,null,{"$f":"SUM(G262:H262)","v":0},"TOK2"]
["Auxiliaire de soins principal de 2ème classe stagiaire",null,null,null,null,{"$f":"SUM(C263:E263)","v":0},null,null,{"$f":"SUM(G263:H263)","v":0},"SOK2"]
["AUXILIAIRES DE SOINS",{"$f":"SUM(B261:B263)","v":0},0,0,0,0,0,0,0,"OK"]
[]
["FILIERE MEDICO-SOCIALE",{"$f":"B211+B216+B221+B227+B231+B235+B241+B244+B250+B254+B259+B264","v":0},0,0,0,0,0,0,0,"O"]
[]
["FILIERE MEDICO-TECHNIQUE"]
["Biologiste, vétérinaire et pharmacien de classe exceptionnelle",null,null,null,null,{"$f":"SUM(C269:E269)","v":0},null,null,{"$f":"SUM(G269:H269)","v":0},"TEB3"]
["Biologiste, vétérinaire et pharmacien hors classe",null,null,null,null,{"$f":"SUM(C270:E270)","v":0},null,null,{"$f":"SUM(G270:H270)","v":0},"TEB2"]
["Biologiste, vétérinaire et pharmacien de classe normale ",null,null,null,null,{"$f":"SUM(C271:E271)","v":0},null,null,{"$f":"SUM(G271:H271)","v":0},"TEB1"]
["Biologiste, vétérinaire et pharmacien de classe normale stagiaire",null,null,null,null,{"$f":"SUM(C272:E272)","v":0},null,null,{"$f":"SUM(G272:H272)","v":0},"SEB1"]
["BIOLOGISTES, VETERINAIRES, PHARMACIENS",{"$f":"SUM(B269:B272)","v":0},0,0,0,0,0,0,0,"EB"]
[]
["Technicien paramédical de classe supérieure",null,null,null,null,{"$f":"SUM(C275:E275)","v":0},null,null,{"$f":"SUM(G275:H275)","v":0},"TET2"]
["Technicien paramédical de classe normale",null,null,null,null,{"$f":"SUM(C276:E276)","v":0},null,null,{"$f":"SUM(G276:H276)","v":0},"TET1"]
["Technicien paramédical de classe normale stagiaire",null,null,null,null,{"$f":"SUM(C277:E277)","v":0},null,null,{"$f":"SUM(G277:H277)","v":0},"SET1"]
["TECHNICIENS PARAMEDICAUX",{"$f":"SUM(B275:B277)","v":0},0,0,0,0,0,0,0,"ET"]
[]
["FILIERE MEDICO-TECHNIQUE",{"$f":"B273+B278","v":0},0,0,0,0,0,0,0,"E"]
[]
["FILIERE POLICE MUNICIPALE"]
["Directeur principal de police municipale",null,null,null,null,{"$f":"SUM(C283:E283)","v":0},null,null,{"$f":"SUM(G283:H283)","v":0},"TPU2"]
["Directeur de police municipale",null,null,null,null,{"$f":"SUM(C284:E284)","v":0},null,null,{"$f":"SUM(G284:H284)","v":0},"TPU1"]
["Directeur de police municipale stagiaire",null,null,null,null,{"$f":"SUM(C285:E285)","v":0},null,null,{"$f":"SUM(G285:H285)","v":0},"SPU1"]
["DIRECTEUR DE POLICE MUNICIPALE",{"$f":"SUM(B283:B285)","v":0},0,0,0,0,0,0,0,"PU"]
[]
["Chef de service de police municipale principal de 1ère classe",null,null,null,null,{"$f":"SUM(C288:E288)","v":0},null,null,{"$f":"SUM(G288:H288)","v":0},"TPC3"]
["Chef de service de police municipale principal de 2ème classe",null,null,null,null,{"$f":"SUM(C289:E289)","v":0},null,null,{"$f":"SUM(G289:H289)","v":0},"TPC2"]
["Chef de service de police municipale ",null,null,null,null,{"$f":"SUM(C290:E290)","v":0},null,null,{"$f":"SUM(G290:H290)","v":0},"TPC1"]
["Chef de service de police municipale stagiaire",null,null,null,null,{"$f":"SUM(C291:E291)","v":0},null,null,{"$f":"SUM(G291:H291)","v":0},"SPC1"]
["CHEF DE SERVICE DE POLICE MUNICIPALE",{"$f":"SUM(B288:B291)","v":0},0,0,0,0,0,0,0,"PC"]
[]
["Chef de police municipale",null,null,null,null,{"$f":"SUM(C294:E294)","v":0},null,null,{"$f":"SUM(G294:H294)","v":0},"TPG4"]
["Brigadier-chef principal",null,null,null,null,{"$f":"SUM(C295:E295)","v":0},null,null,{"$f":"SUM(G295:H295)","v":0},"TPG3"]
["Gardien-brigadier ",null,null,null,null,{"$f":"SUM(C296:E296)","v":0},null,null,{"$f":"SUM(G296:H296)","v":0},"TPG1"]
["Gardien-brigadier stagiaire",null,null,null,null,{"$f":"SUM(C297:E297)","v":0},null,null,{"$f":"SUM(G297:H297)","v":0},"SPG1"]
["AGENTS DE POLICE MUNICIPALE",{"$f":"SUM(B294:B297)","v":0},0,0,0,0,0,0,0,"PG"]
[]
["Garde-champêtre chef principal",null,null,null,null,{"$f":"SUM(C300:E300)","v":0},null,null,{"$f":"SUM(G300:H300)","v":0},"TPH3"]
["Garde-champêtre chef ",null,null,null,null,{"$f":"SUM(C301:E301)","v":0},null,null,{"$f":"SUM(G301:H301)","v":0},"TPH2"]
["Garde-champêtre chef stagiaire",null,null,null,null,{"$f":"SUM(C302:E302)","v":0},null,null,{"$f":"SUM(G302:H302)","v":0},"SPH2"]
["GARDES-CHAMPÊTRES",{"$f":"SUM(B300:B302)","v":0},0,0,0,0,0,0,0,"PH"]
[]
["FILIERE POLICE MUNICIPALE",{"$f":"SUM(B286,B292,B298,B303)","v":0},0,0,0,0,0,0,0,"P"]
[]
["FILIERE INCENDIE SECOURS"]
["Contrôleur général",null,null,null,null,{"$f":"SUM(C308:E308)","v":0},null,null,{"$f":"SUM(G308:H308)","v":0},"TRH3"]
["Colonel hors classe",null,null,null,null,{"$f":"SUM(C309:E309)","v":0},null,null,{"$f":"SUM(G309:H309)","v":0},"TRH2"]
["Colonel",null,null,null,null,{"$f":"SUM(C310:E310)","v":0},null,null,{"$f":"SUM(G310:H310)","v":0},"TRH1"]
["Colonel stagiaire",null,null,null,null,{"$f":"SUM(C311:E311)","v":0},null,null,{"$f":"SUM(G311:H311)","v":0},"SRH1"]
["CONTRÔLEURS, COLONELS",{"$f":"SUM(B308:B311)","v":0},0,0,0,0,0,0,0,"RH"]
[]
["Lieutenant-colonel",null,null,null,null,{"$f":"SUM(C314:E314)","v":0},null,null,{"$f":"SUM(G314:H314)","v":0},"TRC3"]
["Commandant",null,null,null,null,{"$f":"SUM(C315:E315)","v":0},null,null,{"$f":"SUM(G315:H315)","v":0},"TRC2"]
["Capitaine",null,null,null,null,{"$f":"SUM(C316:E316)","v":0},null,null,{"$f":"SUM(G316:H316)","v":0},"TRC1"]
["Capitaine stagiaire",null,null,null,null,{"$f":"SUM(C317:E317)","v":0},null,null,{"$f":"SUM(G317:H317)","v":0},"SRC1"]
["CAPITAINES, COMMANDANTS, LIEUTENANTS-COLONELS",{"$f":"SUM(B314:B317)","v":0},{"$f":"SUM(C314:C317)","v":0},0,0,0,0,0,0,"RC"]
[]
["Médecin et pharmacien de classe exceptionnelle",null,null,null,null,{"$f":"SUM(C320:E320)","v":0},null,null,{"$f":"SUM(G320:H320)","v":0},"TRD4"]
["Médecin et pharmacien hors classe",null,null,null,null,{"$f":"SUM(C321:E321)","v":0},null,null,{"$f":"SUM(G321:H321)","v":0},"TRD3"]
["Médecin et pharmacien de classe normale",null,null,null,null,{"$f":"SUM(C322:E322)","v":0},null,null,{"$f":"SUM(G322:H322)","v":0},"TRD2"]
["Médecin et pharmacien de classe normale stagiaire",null,null,null,null,{"$f":"SUM(C323:E323)","v":0},null,null,{"$f":"SUM(G323:H323)","v":0},"SRD2"]
["MEDECINS, PHARMACIENS",{"$f":"SUM(B320:B323)","v":0},0,0,0,0,0,0,0,"RD"]
[]
["Lieutenant hors classe",null,null,null,null,{"$f":"SUM(C326:E326)","v":0},null,null,{"$f":"SUM(G326:H326)","v":0},"TRL3"]
["Lieutenant de 1ère classe",null,null,null,null,{"$f":"SUM(C327:E327)","v":0},null,null,{"$f":"SUM(G327:H327)","v":0},"TRL2"]
["Lieutenant de 1ère classe stagiaire",null,null,null,null,{"$f":"SUM(C328:E328)","v":0},null,null,{"$f":"SUM(G328:H328)","v":0},"SRL2"]
["Lieutenant de 2ème classe ",null,null,null,null,{"$f":"SUM(C329:E329)","v":0},null,null,{"$f":"SUM(G329:H329)","v":0},"TRL1"]
["Lieutenant de 2ème classe stagiaire",null,null,null,null,{"$f":"SUM(C330:E330)","v":0},null,null,{"$f":"SUM(G330:H330)","v":0},"SRL1"]
["LIEUTENANTS",{"$f":"SUM(B326:B330)","v":0},0,0,0,0,0,0,0,"RL"]
[]
["Cadre supérieur de santé",null,null,null,null,{"$f":"SUM(C333:E333)","v":0},null,null,{"$f":"SUM(G333:H333)","v":0},"TRF3"]
["Cadre de santé de 1ère classe",null,null,null,null,{"$f":"SUM(C334:E334)","v":0},null,null,{"$f":"SUM(G334:H334)","v":0},"TRF2"]
["Cadre de santé de 2ème classe",null,null,null,null,{"$f":"SUM(C335:E335)","v":0},null,null,{"$f":"SUM(G335:H335)","v":0},"TRF1"]
["Cadre de santé de 2ème classe stagiaire",null,null,null,null,{"$f":"SUM(C336:E336)","v":0},null,null,{"$f":"SUM(G336:H336)","v":0},"SRF1"]
["CADRES DE SANTE DES SAPEURS POMPIERS PROFESSIONNELS",{"$f":"SUM(B333:B336)","v":0},0,0,0,0,0,0,0,"RF"]
[]
["Infirmier hors classe",null,null,null,null,{"$f":"SUM(C339:E339)","v":0},null,null,{"$f":"SUM(G339:H339)","v":0},"TRG3"]
["Infirmier de classe supérieure",null,null,null,null,{"$f":"SUM(C340:E340)","v":0},null,null,{"$f":"SUM(G340:H340)","v":0},"TRG2"]
["Infirmier de classe normale",null,null,null,null,{"$f":"SUM(C341:E341)","v":0},null,null,{"$f":"SUM(G341:H341)","v":0},"TRG1"]
["Infirmier de classe normale stagiaire",null,null,null,null,{"$f":"SUM(C342:E342)","v":0},null,null,{"$f":"SUM(G342:H342)","v":0},"SRG1"]
["INFIRMIERS DES SAPEURS POMPIERS PROFESSIONNELS",{"$f":"SUM(B339:B342)","v":0},0,0,0,0,0,0,0,"RG"]
[]
["Adjudant",null,null,null,null,{"$f":"SUM(C345:E345)","v":0},null,null,{"$f":"SUM(G345:H345)","v":0},"TRS2"]
["Sergent",null,null,null,null,{"$f":"SUM(C346:E346)","v":0},null,null,{"$f":"SUM(G346:H346)","v":0},"TRS1"]
["Sergent stagiaire",null,null,null,null,{"$f":"SUM(C347:E347)","v":0},null,null,{"$f":"SUM(G347:H347)","v":0},"SRS1"]
["SOUS-OFFICIERS DE SAPEURS POMPIERS PROFESSIONNELS ",{"$f":"SUM(B345:B347)","v":0},0,0,0,0,0,0,0,"RS"]
[]
["Caporal-chef",null,null,null,null,{"$f":"SUM(C350:E350)","v":0},null,null,{"$f":"SUM(G350:H350)","v":0},"TRU4"]
["Caporal",null,null,null,null,{"$f":"SUM(C351:E351)","v":0},null,null,{"$f":"SUM(G351:H351)","v":0},"TRU3"]
["Caporal stagiaire",null,null,null,null,{"$f":"SUM(C352:E352)","v":0},null,null,{"$f":"SUM(G352:H352)","v":0},"SRU3"]
["Sapeur",null,null,null,null,{"$f":"SUM(C353:E353)","v":0},null,null,{"$f":"SUM(G353:H353)","v":0},"TRU2"]
["Sapeur stagiaire",null,null,null,null,{"$f":"SUM(C354:E354)","v":0},null,null,{"$f":"SUM(G354:H354)","v":0},"SRU2"]
["SAPEURS ET CAPORAUX DE SAPEURS POMPIERS PROFESSIONNELS ",{"$f":"SUM(B350:B354)","v":0},0,0,0,0,0,0,0,"RU"]
[]
["FILIERE INCENDIE-SECOURS",{"$f":"B312+B318+B324+B331+B337+B343+B348+B355","v":0},{"$f":"C312+C318+C324+C331+C337+C343+C348+C355","v":0},0,0,0,0,0,0,"R"]
[]
["FILIERE ANIMATION"]
["Animateur principal de 1ère classe",null,null,null,null,{"$f":"SUM(C360:E360)","v":0},null,null,{"$f":"SUM(G360:H360)","v":0},"TNN3"]
["Animateur principal de 2ème classe",null,null,null,null,{"$f":"SUM(C361:E361)","v":0},null,null,{"$f":"SUM(G361:H361)","v":0},"TNN2"]
["Animateur principal de 2ème classe stagiaire",null,null,null,null,{"$f":"SUM(C362:E362)","v":0},null,null,{"$f":"SUM(G362:H362)","v":0},"SNN2"]
["Animateur ",null,null,null,null,{"$f":"SUM(C363:E363)","v":0},null,null,{"$f":"SUM(G363:H363)","v":0},"TNN1"]
["Animateur stagiaire",null,null,null,null,{"$f":"SUM(C364:E364)","v":0},null,null,{"$f":"SUM(G364:H364)","v":0},"SNN1"]
["ANIMATEURS",{"$f":"SUM(B360:B364)","v":0},0,0,0,0,0,0,0,"NN"]
[]
["Adjoint territorial d'animation principal de 1ère classe",null,null,null,null,{"$f":"SUM(C367:E367)","v":0},null,null,{"$f":"SUM(G367:H367)","v":0},"TNJ4"]
["Adjoint territorial d'animation principal de 2ème classe",null,null,null,null,{"$f":"SUM(C368:E368)","v":0},null,null,{"$f":"SUM(G368:H368)","v":0},"TNJ3"]
["Adjoint territorial d'animation principal de 2ème classe stagiaire",null,null,null,null,{"$f":"SUM(C369:E369)","v":0},null,null,{"$f":"SUM(G369:H369)","v":0},"SNJ3"]
["Adjoint territorial d'animation",null,null,null,null,{"$f":"SUM(C370:E370)","v":0},null,null,{"$f":"SUM(G370:H370)","v":0},"TNJ1"]
["Adjoint territorial d'animation stagiaire",null,null,null,null,{"$f":"SUM(C371:E371)","v":0},null,null,{"$f":"SUM(G371:H371)","v":0},"SNJ1"]
["ADJOINTS TERRITORIAUX D'ANIMATION",{"$f":"SUM(B367:B371)","v":0},0,0,0,0,0,0,0,"NJ"]
[]
["FILIERE ANIMATION",{"$f":"B365+B372","v":0},0,0,0,0,0,0,0,"N"]
[]
["TOTAL",{"$f":"B49+B90+B145+B166+B204+B266+B280+B305+B357+B374","v":0},0,0,0,0,0,0,0,"01"]
[]
["* voir notice dans la fiche 1.1.1."]

{"sheet":"Fiche 1.1.2","index":15,"n_rows":35,"n_cols":3,"rows_kept":35,"cut":false,"hidden":false,"merged":[[22,0,22,5],[24,0,24,5],[34,0,34,5],[25,0,25,5],[26,0,26,5],[29,0,29,5],[30,0,30,5],[31,0,31,5],[33,0,33,5],[0,2,0,3],[2,0,2,5],[5,0,5,5],[6,0,6,5],[20,0,20,5],[17,0,17,5],[9,0,9,5],[11,0,11,5],[13,0,13,5],[15,0,15,5]]}
[null,null,"Retour Sommaire"]
[]
["1.1.2 - Nombre de fonctionnaires occupant un emploi permanent à temps complet rémunérés au 31/12/2019 par filière,  cadre d'emplois et selon la quotité de temps de travail et par sexe"]
[]
[]
["L’indicateur 1.1.2. détaille les effectifs, en nombre de personnes physiques (1 personne = 1 unité), déjà recensés à l’indicateur 1.1.1. dans la colonne 1.1.1(1)."]
["Ne pas remplir les cellules grisées (pré remplies par un zéro) qui font l’objet de calculs automatiques. "]
[]
[]
["Quels sont les agents à recenser ?"]
[]
["* les fonctionnaires "]
[]
["* occupant un emploi permanent à temps complet"]
[]
["* rémunérés à la date du 31 décembre 2019"]
[]
["Remarque : Pour plus de précisions, se référer à la fiche de l’indicateur 1.1.1."]
[]
[]
["Comment sont-ils recensés ?"]
[]
["* par filière et cadre d'emplois (en lignes), selon les indications fournies dans la fiche de l’indicateur 1.1.1."]
[]
["* par quotité de temps de travail et par sexe (en colonnes)"]
["- colonnes 1.1.2(1) et 1.1.2(2) :  temps plein"]
["- colonnes 1.1.2(3) à 1.1.2(8) : temps partiel"]
[]
[]
["Précisions sur les temps partiels :"]
["Sous réserve de l’exception ci-dessous, tous les fonctionnaires à temps partiel sont à recenser, y compris les temps partiels de droit ou sur autorisation et les CPA. (La CPA été supprimée en 2011 mais elle s'applique toujours aux agents qui étaient déjà en CPA à cette date. Le décompte des CPA a toutefois été supprimé à l'indicateur 1.1.3, car il concerne un nombre marginal d'agents.)"]
["La quotité de temps de travail à prendre en compte est celle qui figure sur la décision individuelle d’autorisation d’exercice à temps partiel, calculée en base annuelle par rapport à la durée légale du temps de travail. Cette quotité peut donc être différente de la durée hebdomadaire de service effectivement accomplie. Elle est également différente de la quotité rémunérée dans le cas particulier des temps partiels à 80% et à 90%."]
[]
["Ne doivent pas être comptabilisés :"]
["Les fonctionnaires qui bénéficient d’un temps partiel pour raison thérapeutique prévu par l’article 57-4 bis de la loi du 26 janvier 1984 après avis du comité médical ou de la commission de réforme, cette forme particulière de temps partiel n’étant pas considérée comme un « temps partiel choisi » relevant des dispositions de droit commun prévues par les articles 60 à 60 quater de la dite loi."]

{"sheet":"IND 1.1.2","index":16,"n_rows":92,"n_cols":12,"rows_kept":92,"cut":false,"hidden":false,"merged":[[0,3,0,4],[2,0,2,10],[4,0,4,10],[5,0,5,8],[8,1,8,8],[8,9,10,10],[9,1,9,2],[9,3,9,8],[10,1,10,2],[10,3,10,4],[10,5,10,6],[10,7,10,8]]}
[null,null,null,"Retour Sommaire"]
[]
["1.1.2 - Nombre de fonctionnaires occupant un emploi permanent à temps complet rémunérés au 31/12/2019\npar filière, cadre d'emplois selon la quotité de temps de travail et le sexe"]
[]
["Champ : le tableau qui suit concerne les agents titulaires et stagiaires occupant un emploi permanent rémunérés au 31/12/2019."]
["Remarque importante : les agents occupant un emploi fonctionnel doivent être uniquement comptabilisés dans leurs cadres d'emplois et grades respectifs."]
[]
[null,10,10,21,21,22,22,23,23,"00","00","temps"]
[null,"FONCTIONNAIRES sur emploi permanent occupant un poste \nà TEMPS COMPLET et exerçant leurs fonctions à :",null,null,null,null,null,null,null,"Total"]
[null,"TEMPS PLEIN",null,"Tout type de TEMPS PARTIEL (sauf thérapeutique)"]
[null,1,null,"Moins de 80%",null," de 80% à moins de 90%",null,"90% et plus"]
[null,"Hommes 1.1.2(1)","Femmes 1.1.2(2)","Hommes 1.1.2(3)","Femmes 1.1.2(4)","Hommes 1.1.2(5)","Femmes 1.1.2(6)","Hommes 1.1.2(7)","Femmes 1.1.2(8)","Hommes","Femmes"]
["FILIERE ADMINISTRATIVE",1,2,1,2,1,2,1,2,1,2,"sexe"]
["Administrateurs",null,null,null,null,null,null,null,null,{"$f":"B14+D14+F14+H14","v":0},0,"AD"]
["Attachés",null,null,null,null,null,null,null,null,0,0,"AT"]
["Secrétaires de mairie",null,null,null,null,null,null,null,null,0,0,"AS"]
["Rédacteurs",null,null,null,null,null,null,null,null,0,0,"AR"]
["Adjoints administratifs",null,null,null,null,null,null,null,null,0,0,"AJ"]
["FILIERE ADMINISTRATIVE",{"$f":"SUM(B14:B18)","v":0},0,0,0,0,0,0,0,0,0,"A"]
["FILIERE TECHNIQUE"]
["Ingénieurs en chef",null,null,null,null,null,null,null,null,{"$f":"B21+D21+F21+H21","v":0},{"$f":"C21+E21+G21+I21","v":0},"TN"]
["Ingénieurs",null,null,null,null,null,null,null,null,{"$f":"B22+D22+F22+H22","v":0},0,"TP"]
["Techniciens ",null,null,null,null,null,null,null,null,0,0,"TT"]
["Agents de maîtrise",null,null,null,null,null,null,null,null,0,0,"TM"]
["Adjoints techniques",null,null,null,null,null,null,null,null,0,0,"TH"]
["Adjoints techniques des établissements d'enseignement",null,null,null,null,null,null,null,null,0,0,"TA"]
["FILIERE TECHNIQUE",{"$f":"SUM(B21:B26)","v":0},{"$f":"SUM(C21:C26)","v":0},0,0,0,0,0,0,0,0,"T"]
["FILIERE CULTURELLE"]
["Conservateurs du patrimoine",null,null,null,null,null,null,null,null,{"$f":"B29+D29+F29+H29","v":0},{"$f":"C29+E29+G29+I29","v":0},"CM"]
["Conservateurs des bibliothèques",null,null,null,null,null,null,null,null,0,0,"CH"]
["Attachés de conservation du patrimoine",null,null,null,null,null,null,null,null,0,0,"CA"]
["Bibliothécaires",null,null,null,null,null,null,null,null,0,0,"CB"]
["Directeurs d'établissements d'enseignement artistique",null,null,null,null,null,null,null,null,0,0,"CD"]
["Professeurs d'enseignement artistique",null,null,null,null,null,null,null,null,0,0,"CP"]
["Assistants de conservation du patrimoine et des bibliothèques",null,null,null,null,null,null,null,null,0,0,"CG"]
["Assistants d'enseignement artistique",null,null,null,null,null,null,null,null,0,0,"CS"]
["Adjoints territoriaux du patrimoine",null,null,null,null,null,null,null,null,0,0,"CJ"]
["FILIERE CULTURELLE",{"$f":"SUM(B29:B37)","v":0},0,0,0,0,0,0,0,0,0,"C"]
["FILIERE SPORTIVE"]
["Conseillers des APS",null,null,null,null,null,null,null,null,{"$f":"B40+D40+F40+H40","v":0},0,"SC"]
["Educateurs des APS",null,null,null,null,null,null,null,null,0,0,"SE"]
["Opérateurs des APS",null,null,null,null,null,null,null,null,0,0,"SP"]
["FILIERE SPORTIVE",{"$f":"SUM(B40:B42)","v":0},0,0,0,0,0,0,0,0,0,"S"]
["FILIERE SOCIALE"]
["Conseillers socio-éducatifs",null,null,null,null,null,null,null,null,{"$f":"B45+D45+F45+H45","v":0},{"$f":"C45+E45+G45+I45","v":0},"MM"]
["Assistants socio-éducatifs",null,null,null,null,null,null,null,null,0,0,"MT"]
["Educateurs de jeunes enfants",null,null,null,null,null,null,null,null,0,0,"ME"]
["Moniteurs-éducateurs et intervenants familiaux",null,null,null,null,null,null,null,null,0,0,"MB"]
["Agents spécialisés des écoles maternelles (ASEM)",null,null,null,null,null,null,null,null,0,0,"MD"]
["Agents sociaux",null,null,null,null,null,null,null,null,0,0,"MP"]
["FILIERE SOCIALE",{"$f":"SUM(B45:B50)","v":0},0,0,0,0,0,0,0,0,0,"M"]
["FILIERE MEDICO-SOCIALE"]
["Médecins",null,null,null,null,null,null,null,null,{"$f":"B53+D53+F53+H53","v":0},{"$f":"C53+E53+G53+I53","v":0},"OD"]
["Psychologues ",null,null,null,null,null,null,null,null,0,0,"OH"]
["Sages-femmes",null,null,null,null,null,null,null,null,0,0,"OF"]
["Cadres de santé paramédicaux",null,null,null,null,null,null,null,null,0,0,"OG"]
["Puéricultrices cadres de santé",null,null,null,null,null,null,null,null,0,0,"OC"]
["Puéricultrices*",null,null,null,null,null,null,null,null,0,0,"OX"]
["Cadres de santé infirmiers, rééducateurs et assistants médico-techniques",null,null,null,null,null,null,null,null,0,0,"OA"]
["Infirmiers en soins généraux",null,null,null,null,null,null,null,null,0,0,"OB"]
["Infirmiers",null,null,null,null,null,null,null,null,0,0,"ON"]
["Auxiliaires de puériculture",null,null,null,null,null,null,null,null,0,0,"OJ"]
["Auxiliaires de soins",null,null,null,null,null,null,null,null,0,0,"OK"]
["FILIERE MEDICO-SOCIALE",{"$f":"SUM(B53:B63)","v":0},0,0,0,0,0,0,0,0,0,"O"]
["FILIERE MEDICO-TECHNIQUE"]
["Biologistes, vétérinaires, pharmaciens",null,null,null,null,null,null,null,null,{"$f":"B66+D66+F66+H66","v":0},{"$f":"C66+E66+G66+I66","v":0},"EB"]
["Techniciens paramédicaux",null,null,null,null,null,null,null,null,{"$f":"B67+D67+F67+H67","v":0},{"$f":"C67+E67+G67+I67","v":0},"ET"]
["FILIERE MEDICO-TECHNIQUE",{"$f":"SUM(B66:B67)","v":0},0,0,0,0,0,0,0,0,0,"E"]
["FILIERE POLICE MUNICIPALE"]
["Directeurs de police municipale",null,null,null,null,null,null,null,null,{"$f":"B70+D70+F70+H70","v":0},{"$f":"C70+E70+G70+I70","v":0},"PU"]
["Chefs de service de police municipale",null,null,null,null,null,null,null,null,{"$f":"B71+D71+F71+H71","v":0},0,"PC"]
["Agents de police municipale",null,null,null,null,null,null,null,null,0,0,"PG"]
["Gardes-champêtres",null,null,null,null,null,null,null,null,0,0,"PH"]
["FILIERE POLICE MUNICIPALE",{"$f":"SUM(B70:B73)","v":0},0,0,0,0,0,0,0,0,0,"P"]
["FILIERE INCENDIE ET SECOURS"]
["Contrôleurs, colonels",null,null,null,null,null,null,null,null,{"$f":"B76+D76+F76+H76","v":0},{"$f":"C76+E76+G76+I76","v":0},"RH"]
["Capitaines, commandants, lieutenants-colonels",null,null,null,null,null,null,null,null,0,0,"RC"]
["Médecins, pharmaciens",null,null,null,null,null,null,null,null,0,0,"RD"]
["Lieutenants",null,null,null,null,null,null,null,null,0,0,"RL"]
["Cadres de santé",null,null,null,null,null,null,null,null,0,0,"RF"]
["Infirmiers",null,null,null,null,null,null,null,null,0,0,"RG"]
["Sous-officiers",null,null,null,null,null,null,null,null,0,0,"RS"]
["Sapeurs et caporaux",null,null,null,null,null,null,null,null,0,0,"RU"]
["FILIERE INCENDIE-SECOURS",{"$f":"SUM(B76:B83)","v":0},0,0,0,0,0,0,0,0,0,"R"]
["FILIERE ANIMATION"]
["Animateurs",null,null,null,null,null,null,null,null,{"$f":"B86+D86+F86+H86","v":0},{"$f":"C86+E86+G86+I86","v":0},"NN"]
["Adjoints d'animation",null,null,null,null,null,null,null,null,{"$f":"B87+D87+F87+H87","v":0},{"$f":"C87+E87+G87+I87","v":0},"NJ"]
["FILIERE ANIMATION",{"$f":"SUM(B86:B87)","v":0},0,0,0,0,0,0,0,0,0,"N"]
[]
["TOTAL",{"$f":"B51+B64+B68+B74+B84+B88+B43+B38+B27+B19","v":0},{"$f":"C51+C64+C68+C74+C84+C88+C43+C38+C27+C19","v":0},0,0,0,0,0,0,0,0,"00"]
[]
["*comptabiliser les puéricultrices du cadre d'emplois du décret n° 92-859 du 28 août 1992 modifié et du cadre d'emplois du décret n° 2014-923 du 18 août 2014."]

{"sheet":"Fiche 1.1.3","index":17,"n_rows":34,"n_cols":3,"rows_kept":34,"cut":false,"hidden":false,"merged":[[29,0,29,5],[30,0,30,5],[31,0,31,5],[13,0,13,5],[16,0,16,4],[17,0,17,5],[18,0,18,5],[20,0,20,5],[22,0,22,5],[25,0,25,4],[27,0,27,5],[9,0,9,5],[11,0,11,5],[0,2,0,3],[2,0,2,5],[5,0,5,5],[6,0,6,5]]}
[null,null,"Retour Sommaire"]
[]
["1.1.3 - Nombre de fonctionnaires bénéficiaires d'un temps partiel de droit ou sur autorisation par catégorie et sexe"]
[]
[]
["L’indicateur 1.1.3. détaille les effectifs, en nombre de personnes physiques (1 personne = 1 unité)."]
["Ne pas remplir les cellules grisées (pré remplies par un zéro) qui font l’objet de calculs automatiques."]
[]
[]
["Quels sont les agents à recenser ?"]
[]
["* les fonctionnaires (titulaires et stagiaires)"]
[]
["*occupant un emploi permanent à temps complet"]
[]
[]
["* et exerçant à temps partiel sous les formes particulières (*) :"]
["- du temps partiel de droit qui peut être accordé soit pour raison familiale (pour élever un enfant, donner des soins à son conjoint, à un enfant à charge ou à un ascendant atteint d'un handicap nécessitant la présence d'une tierce personne), soit à certaines personnes en situation de handicap (article 60 bis de la loi du 26 janvier 1984) ;"]
["- du temps partiel sur autorisation pour les fonctionnaires en activité ou en service détaché, qui peuvent, en application de l'article 60 de la loi du 26 janvier 1984 susvisée, être autorisés, sur leur demande et sous réserve des nécessités du service, à bénéficier d'un service à temps partiel qui ne peut être inférieur au mi-temps;"]
[]
["*rémunérés à la date du 31 décembre 2019"]
[]
["Remarque : il s’agit de fonctionnaires déjà recensés à l’indicateur 1.1.2. dans les colonnes 1.1.2(3) à 1.1.2(8)."]
[]
[]
["Comment sont-ils recensés ?"]
[]
["* par catégorie et par sexe (en lignes)"]
[]
["*par type de temps partiel concerné (en colonnes)"]
["- colonne 1.1.3(1) : temps partiel de droit"]
["- colonne 1.1.3(2) : temps partiel sur autorisation"]
[]
["(*) cf. art 1er du décret n° 2004-777 du 29 juillet 2004."]

{"sheet":"IND 1.1.3","index":18,"n_rows":17,"n_cols":6,"rows_kept":17,"cut":false,"hidden":false,"merged":[[14,0,16,0],[2,0,2,4],[4,0,4,4],[8,0,10,0],[11,0,13,0]]}
[null,null,"Retour Sommaire"]
[]
["1.1.3 - Nombre de fonctionnaires bénéficiaires d'un temps partiel de droit ou sur autorisation par catégorie et sexe"]
[]
["Champ : le tableau qui suit concerne les agents fonctionnaires occupant un emploi permanent à temps complet et exerçant à temps partiel, rémunérés au 31/12/2019."]
[null,null,1,2,"temps"]
[null,null,"Temps partiel de droit","Temps partiel sur autorisation               ","catégorie","sexe"]
[null,null,"1.1.3(1)","1.1.3(2)"]
["Catégorie A","Hommes",null,null,1,1]
[null,"Femmes",null,null,1,2]
[null,"Total",{"$f":"SUM(C9:C10)","v":0},{"$f":"SUM(D9:D10)","v":0},1,0]
["Catégorie B","Hommes",null,null,2,1]
[null,"Femmes",null,null,2,2]
[null,"Total",{"$f":"SUM(C12:C13)","v":0},{"$f":"SUM(D12:D13)","v":0},2,0]
["Catégorie C","Hommes",null,null,3,1]
[null,"Femmes",null,null,3,2]
[null,"Total",{"$f":"SUM(C15:C16)","v":0},{"$f":"SUM(D15:D16)","v":0},3,0]

{"sheet":"IND 1.1.4","index":19,"n_rows":72,"n_cols":6,"rows_kept":72,"cut":false,"hidden":false,"merged":[[29,2,29,3],[28,1,28,3],[13,0,13,7],[22,0,22,7],[21,0,21,7],[15,0,15,7],[26,1,26,3],[16,0,16,7],[18,0,18,7],[23,0,23,7],[0,2,0,3],[2,0,2,7],[4,0,4,7],[9,0,9,7],[6,0,6,7],[7,0,7,7],[10,0,10,7],[17,0,17,7],[19,0,19,7],[11,0,11,7],[12,0,12,7]]}
[null,null,"Retour Sommaire"]
[]
["1.1.4 - Nombre de fonctionnaires en Equivalent Temps Plein Rémunéré (ETPR) en 2019 par filière déclinée par catégorie hiérarchique et par sexe"]
[]
["Champ : le tableau qui suit concerne les fonctionnaires, occupant un emploi permanent à temps complet ou non complet et ayant été rémunérés au moins un jour durant l'année 2019 (hors heures supplémentaires et/ou complémentaires)."]
[]
["L’indicateur 1.1.4. détaille les effectifs en ETPR (1 ETPR = 1 unité), "]
["Ne pas remplir les cellules grisées (pré remplies par un zéro) qui font l’objet de calculs automatiques."]
[]
["Définition : l'Equivalent Temps Plein Rémunéré (ETPR) est proportionnel à l'activité d'un agent, mesuré par sa quotité de temps de travail et par sa période d'activité sur l'année. Par contre, il ne tient pas compte des heures supplémentaires et/ou complémentaires effectuées par l'agent."]
["La base de calcul pour un agent à temps plein (35 heures), ayant été en activité toute l'année correspond au nombre total d'heures payées soit 1 820 heures pour une année."]
["Les périodes d'activités rémunérées sont incluses dans cette base de calcul (congés, absence, etc...)."]
["Le nombre d'heures payées à prendre en compte pour un agent, est le nombre d'heures annuelles cumulées au dernier jour de l'année ou au dernier jour de travail de l'agent."]
["- cas particulier des agents de la filière culturelle : un(e) assistant(e) d'enseignement artistique travaillant 20h hebdomadaire (temps plein de référence)  correspond à 1 ETPR (base 35 heures rémunérées). Un(e) professeur(e) d'enseignement artistique travaillant 16h hebdomadaire (temps plein de référence) correspond à 1 ETPR."]
[]
["Exemples :"]
["- un agent à temps plein rémunéré et présent toute l'année correspond à 1 ETPR, soit 1 820 heures"]
["- un agent à temps partiel (80 %) présent toute l'année correspond à 0,8 ETPR"]
["- un agent à temps non complet (25 heures par semaine) et ayant été présent 4 mois sur l'année correspond à 0,24 ETPR    > calcul : (25 heures /35)*(4 mois /12) "]
["- un agent à temps partiel (80 %) étant repassé à temps plein le 1er juin 2017 correspond à 0,9 ETPR                                 > calcul : (0,8 *(5 mois /12)) + (1*(7 mois /12)) "]
[]
["Exemples de calcul par le nombre d'heures payées (y compris congés, absences, ...) "]
["- pour un  agent à temps complet, soit 1 820 heures travaillées > 1 ETPR"]
["- pour un agent à temps non complet, par exemple à 1 204 heures travaillées > 1 204 / 1 820 = 0,66 ETPR                      "]
[]
[]
[]
[null,null,1,2,"sexe"]
[null,"1.1.4 Nombre de Fonctionnaires en Equivalent Temps Plein Rémunéré (ETPR) ayant travaillé au moins un jour \n(Titulaires et stagiaires)"]
[null,null,"Année 2019"]
[null,"Filières","Hommes   \n1.1.4(1.1)","Femmes \n1.1.4(1.2)","cadre","categorie"]
[null,"FILIERE ADMINISTRATIVE",{"$f":"+SUM(C33:C35)","v":0},{"$f":"+SUM(D33:D35)","v":0},"A","0"]
[null,"Catégorie A",null,null,"A","1"]
[null,"Catégorie B",null,null,"A","2"]
[null,"Catégorie C",null,null,"A","3"]
[null,"FILIERE TECHNIQUE",{"$f":"SUM(C37:C39)","v":0},{"$f":"SUM(D37:D39)","v":0},"T","0"]
[null,"Catégorie A",null,null,"T","1"]
[null,"Catégorie B",null,null,"T","2"]
[null,"Catégorie C",null,null,"T","3"]
[null,"FILIERE CULTURELLE",{"$f":"SUM(C41:C43)","v":0},{"$f":"SUM(D41:D43)","v":0},"C","0"]
[null,"Catégorie A",null,null,"C","1"]
[null,"Catégorie B",null,null,"C","2"]
[null,"Catégorie C",null,null,"C","3"]
[null,"FILIERE SPORTIVE",{"$f":"SUM(C45:C47)","v":0},{"$f":"SUM(D45:D47)","v":0},"S","0"]
[null,"Catégorie A",null,null,"S","1"]
[null,"Catégorie B",null,null,"S","2"]
[null,"Catégorie C",null,null,"S","3"]
[null,"FILIERE SOCIALE",{"$f":"SUM(C49:C51)","v":0},{"$f":"SUM(D49:D51)","v":0},"M","0"]
[null,"Catégorie A",null,null,"M","1"]
[null,"Catégorie B",null,null,"M","2"]
[null,"Catégorie C",null,null,"M","3"]
[null,"FILIERE MEDICO-SOCIALE",{"$f":"SUM(C53:C55)","v":0},{"$f":"SUM(D53:D55)","v":0},"O","0"]
[null,"Catégorie A",null,null,"O","1"]
[null,"Catégorie B",null,null,"O","2"]
[null,"Catégorie C",null,null,"O","3"]
[null,"FILIERE MEDICO-TECHNIQUE",{"$f":"SUM(C57:C59)","v":0},{"$f":"SUM(D57:D59)","v":0},"E","0"]
[null,"Catégorie A",null,null,"E","1"]
[null,"Catégorie B",null,null,"E","2"]
[null,"Catégorie C",null,null,"E","3"]
[null,"FILIERE POLICE MUNICIPALE",{"$f":"SUM(C61:C63)","v":0},{"$f":"SUM(D61:D63)","v":0},"P","0"]
[null,"Catégorie A",null,null,"P","1"]
[null,"Catégorie B",null,null,"P","2"]
[null,"Catégorie C",null,null,"P","3"]
[null,"FILIERE INCENDIE ET SECOURS",{"$f":"SUM(C65:C67)","v":0},{"$f":"SUM(D65:D67)","v":0},"R","0"]
[null,"Catégorie A",null,null,"R","1"]
[null,"Catégorie B",null,null,"R","2"]
[null,"Catégorie C",null,null,"R","3"]
[null,"FILIERE ANIMATION",{"$f":"SUM(C69:C70)","v":0},{"$f":"SUM(D69:D70)","v":0},"N","0"]
[null,"Catégorie B",null,null,"N","2"]
[null,"Catégorie C",null,null,"N","3"]
[]
[null,"TOTAL",{"$f":"SUM(C32,C36,C40,C44,C48,C52,C56,C60,C64,C68)","v":0},{"$f":"SUM(D32,D36,D40,D44,D48,D52,D56,D60,D64,D68)","v":0},"00","0"]

{"sheet":"Fiche 1.2.1","index":20,"n_rows":62,"n_cols":5,"rows_kept":62,"cut":false,"hidden":false,"merged":[[60,0,60,7],[61,0,61,7],[51,0,51,7],[52,0,52,7],[53,0,53,7],[55,0,55,7],[57,0,57,7],[58,0,58,7],[16,0,16,7],[18,0,18,7],[19,0,19,7],[50,0,50,7],[37,0,37,7],[39,0,39,7],[40,0,40,7],[41,0,41,7],[42,0,42,7],[43,0,43,7],[44,0,44,7],[45,0,45,7],[46,0,46,7],[48,0,48,7],[47,0,47,7],[34,0,34,7],[36,0,36,7],[20,0,20,7],[23,0,23,7],[30,0,30,7],[31,0,31,7],[28,0,28,7],[29,0,29,7],[24,0,24,7],[25,0,25,7],[26,0,26,7],[27,0,27,7],[12,0,12,7],[14,0,14,7],[0,4,0,5],[2,0,2,7],[3,0,3,7],[6,0,6,7],[7,0,7,7],[10,0,10,7]]}
[null,null,null,null,"Retour Sommaire"]
[]
["1.2.1 - Effectifs des agents contractuels occupant un emploi permanent rémunérés au 31/12/2019"]
[" par filière et cadre d'emplois, selon le type de contrat et le type de recrutement"]
[]
[]
["L’indicateur 1.2.1 recense les effectifs en nombre de personnes physiques (1 personne = 1 unité)."]
["Ne pas remplir les cellules grisées (pré remplies par un zéro) qui font l’objet de calculs automatiques."]
[]
[]
["Quels sont les agents à recenser ?"]
[]
["* les agents contractuels "]
[]
["* recrutés sur un emploi permanent "]
[]
["* rémunérés à la date du 31 décembre 2019"]
[]
["Sont comptabilisés :"]
["- les agents de droit public répertoriés selon les colonnes listées ci-dessous en référence aux dispositions législatives qui autorisent leur recrutement, y compris les remplaçants de fonctionnaires momentanément indisponibles car ils sont affectés sur un emploi permanent ;"]
["- les agents de droit privé dont le contrat a été repris à l’occasion de la reprise d’activités transférées ou précédemment déléguées à des associations."]
[]
[]
["Ne doivent pas être comptabilisés :"]
["- les agents contractuels recrutés sur un emploi non permanent au sens de la loi du 26 janvier 1984 :  agents recrutés pour un besoin saisonnier ou occasionnel (article 3 de la loi du 26 janvier 1984) et collaborateurs de cabinet (article 110 de la loi du 26 janvier 1984) et collaborateurs de groupe d'élus (article 110-1 de la loi du 26 janvier 1984);"]
["- les assistants maternels et familiaux ;"]
["- les accueillants familiaux ;"]
["- les agents de droit privé recrutés dans le cadre d’un dispositif de résorption du chômage (contrat dits «aidés ») ;"]
["- les fonctionnaires exerçant dans votre collectivité dans le cadre d’un cumul d’emplois."]
["- les agents contractuels en congé sans traitement de toute nature, y compris les agents en congé de maladie qui n’ont pas ou plus de droit à rémunération ;"]
["- les agents contractuels placés en congés de fin d'activité (CFA) ;"]
["- les agents partis ou placés en congé sans traitement qui ont perçu  en décembre un rappel de traitement."]
[]
[]
["Comment sont-ils recensés ?"]
[]
["* par filière déclinée en cadre d'emplois (en lignes)"]
["Les agents contractuels  occupant un emploi fonctionnel au titre de l’article 47 de la loi du 26 janvier 1984 doivent être recensés uniquement dans les cadres d'emplois auxquels ils sont assimilés même s'ils ont déjà été comptabilisés dans l'indicateur 1.1.0."]
[]
["* par type de contrats croisés, pour les agents en CDD recrutés dans le cadre de l'article 3 de la loi statutaire n° 84-53 du 26 janvier 1984 par la référence aux cas de recrutement prévus par les articles 3-1, 3-2 et 3-3 de la loi précitée (en colonnes)"]
["- colonne 1.2.1(1) : article 3-1 modifié par la loi n° 2019-828 du 6 août 2019 : pour assurer le remplacement temporaire de fonctionnaires ou d'agents contractuels autorisés à exercer leurs fonctions à temps partiel ou indisponibles en raison d'un détachement de courte durée, d'une disponibilité de courte durée prononcée d'office, de droit ou sur demande pour raisons familiales, d'un détachement pour l'accomplissement d'un stage ou d'une période de scolarité préalable à la titularisation dans un corps ou un cadre d'emplois de fonctionnaires ou pour suivre un cycle de préparation à un concours donnant accès à un corps ou un cadre d'emplois, d'un congé régulièrement octroyé en application de l'article 21 bis de la loi n° 83-634 du 13 juillet 1983, des articles 57, 60 sexies et 75 de la loi du 26 janvier 1984 [...]."]
["- colonne 1.2.1(2) : article 3-2 : pour faire face à une vacance temporaire d'emploi dans l'attente du recrutement d'un fonctionnaire et pour une durée déterminée n'excédant pas un an."]
["- colonne 1.2.1 (3) : article 3-3, 1° : lorsqu'il n'existe pas de cadre d'emplois de fonctionnaires susceptibles d'assurer les fonctions correspondantes."]
["- colonne 1.2.1 (4) : article 3-3, 2° : pour les emplois du niveau de la catégorie A lorsque les besoins des services ou la nature des fonctions le justifient."]
["- colonne 1.2.1 (5) : article 3-3, 3° : pour les emplois de secrétaire de mairie des communes et groupements de communes de moins de 1 000 habitants"]
["- colonne 1.2.1 (6) : article 3-3, 4° : pour les emplois à temps non complet des communes et groupements de communes de moins de 1 000 habitants, lorsque la quotité de temps de travail est inférieure à 50 %."]
["- colonne 1.2.1 (7) : article 3-3, 5° : pour les emplois des communes de moins de 2 000 habitants et des groupements de communes de moins de 10 000 habitants dont la création ou la suppression dépend de la décision d'une autorité qui s'impose à la collectivité ou à l'établissement en matière de création, de changement de périmètre ou de suppression d'un service public."]
["- colonne 1.2.1 (8) :  autres contractuels : bénéficiaires de la réglementation relative aux personnes en situation de handicap (article 38), Pacte (article 38 bis), emplois fonctionnels de direction dans les très grandes collectivités (article 47), agents contractuels maintenus en fonctions lors de la publication de la loi, agents contractuels transférés (article 136), autres agents contractuels exerçant sur emplois permanents (notamment agents de droit privé recrutés lors de la reprise d’activités précédemment confiées à une association)."]
["- colonne 1.2.1 (9) : les agents en CDI"]
[]
["* selon les caractéristiques de leur emploi (temps complet ou non complet ; en colonnes) "]
["Les agents recensés dans les colonnes 1.2.1(1) à 1.2.1(9) sont à nouveau recensés dans les colonnes 1.2.1(10) et 1.2.1(11), tous cas de recrutement confondus. Par conséquent, le total de ces deux colonnes doit être égal à la colonne de total des colonnes 1.2.1(1) à 1.2.1(9)."]
["- colonne 1.2.1(10) : effectif des contractuels occupant un emploi à temps complet, qu’ils exercent à temps plein ou à temps partiel (ces derniers font l’objet d’un recensement détaillé à l’indicateur 1.2.2.) ;"]
["- colonne 1.2.1(11) : effectif des contractuels occupant un emploi à temps NON complet."]
[]
["Attention : ne pas confondre \"temps non complet\" qui est une caractéristique de l'emploi (exprimée en 35èmes) et \"temps partiel\" qui est une modalité d'exercice (exprimée en pourcentage de temps plein) pour un agent occupant un emploi à temps complet."]
[]
["* par tranches d’ancienneté (en colonnes)"]
["Les agents recensés dans les colonnes 1.2.1(1) à 1.2.1(9) sont à nouveau recensés dans les colonnes 1.2.1(12) à 1.2.1(14), tous cas de recrutement confondus, selon l'ancienneté retenue au 31/12/2019. Par conséquent, le total des colonnes 1.2.1(12) à 1.2.1(14) doit être égal à la colonne de total des colonnes 1.2.1(1) à 1.2.1(9)."]
[]
["* par type d'emploi (CDI, CDD) croisé par le sexe"]
["Les agents recensés dans les colonnes 1.2.1(1) à 1.2.1(9) sont à nouveau recensés dans les colonnes 1.2.1(15) à 1.2.1(18), tous cas de recrutement confondus. Par conséquent, le total des colonnes 1.2.1(15) à 1.2.1(18) doit être égal à la colonne de total des colonnes 1.2.1(1) à 1.2.1(9)."]

{"sheet":"IND 1.2.1","index":21,"n_rows":93,"n_cols":21,"rows_kept":93,"cut":false,"hidden":false,"merged":[[0,6,0,7],[5,0,5,8],[7,1,7,9],[9,11,10,12],[9,10,11,10],[2,0,2,19],[9,18,10,19],[9,13,10,15],[9,16,10,17],[9,8,11,8],[4,0,4,5],[6,0,6,1],[8,1,8,8],[8,9,11,9],[9,1,9,7]]}
[null,null,null,null,null,null,"Retour Sommaire"]
[]
["1.2.1 - Effectifs des agents contractuels occupant un emploi permanent rémunérés au 31/12/2019 par filière et cadre d'emplois, selon le type de contrat et le type de recrutement "]
[]
["Champ : le tableau qui suit concerne les agents contractuels sur un emploi permanent rémunérés au 31/12/2019."]
["Remarque importante : les agents occupant un emploi fonctionnel doivent être uniquement comptabilisés dans leurs cadres d'emplois respectifs."]
[]
[null,"Type de contrats"]
[null,"Agents en CDD",null,null,null,null,null,null,null,"Agents en CDI"]
[null,"Article 3 de la Loi du 26 janvier 84, modifié par la loi n° 2012-347 et la loi n° 2019-828",null,null,null,null,null,null,"Autres contractuels (articles 38, 38bis, 47,136...)  ",null,"Total","Tous emplois exerçant à",null,"Ancienneté\ndans la collectivité",null,null,"CDI",null,"CDD"]
[null,"Article 3-1","Article 3-2","Article 3-3, 1°","Article 3-3, 2°","Article 3-3, 3°","Article 3-3, 4°","Article 3-3, 5°"]
["CADRE D'EMPLOIS","Remplaçants ","Affectés sur un poste vacant","Pas de cadre d'emplois existant ","Catégorie A selon les fonctions ou pour des besoins de service","Secrétaire de mairie dans les communes et groupements de communes de moins de 1000 habitants","Temps non complet des communes et groupements de communes de moins de 1000 hab., lorsque la quotité de temps de travail est inférieure à 50 %","Communes de moins de 2000 hab. et groupements de communes de moins de 10 000 hab. dont la création ou la suppression dépend de la décision d'une autorité qui s'impose à la collectivité",null,null,null,"Temps complet","Temps non complet","Moins de 3 ans","de 3 ans à moins de 6 ans","6 ans et plus","Hommes","Femmes","Hommes","Femmes"]
[null,"1.2.1(1)"," 1.2.1(2)","1.2.1(3)"," 1.2.1(4)","1.2.1(5)","1.2.1(6)","1.2.1(7)","1.2.1(8)","1.2.1(9)",null,"1.2.1(10)","1.2.1(11)","1.2.1(12)","1.2.1(13)","1.2.1(14)","1.2.1(15)","1.2.1(16)","1.2.1(17)","1.2.1(18)"]
["FILIERE ADMINISTRATIVE",1,2,3,4,5,6,7,8,9,0,10,20,10,20,30,1,3,2,4,"article/temps/ancienneté/sexe"]
["Administrateurs",null,null,null,null,null,null,null,null,null,{"$f":"SUM(B15:J15)","v":0},null,null,null,null,null,null,null,null,null,"AD"]
["Attachés",null,null,null,null,null,null,null,null,null,{"$f":"SUM(B16:J16)","v":0},null,null,null,null,null,null,null,null,null,"AT"]
["Secrétaires de mairie",null,null,null,null,null,null,null,null,null,{"$f":"SUM(B17:J17)","v":0},null,null,null,null,null,null,null,null,null,"AS"]
["Rédacteurs",null,null,null,null,null,null,null,null,null,{"$f":"SUM(B18:J18)","v":0},null,null,null,null,null,null,null,null,null,"AR"]
["Adjoints administratifs",null,null,null,null,null,null,null,null,null,{"$f":"SUM(B19:J19)","v":0},null,null,null,null,null,null,null,null,null,"AJ"]
["FILIERE ADMINISTRATIVE",{"$f":"SUM(B15:B19)","v":0},0,0,0,0,0,0,0,0,0,0,0,0,0,0,0,0,0,0,"A"]
["FILIERE TECHNIQUE"]
["Ingénieurs en chef",null,null,null,null,null,null,null,null,null,{"$f":"SUM(B22:J22)","v":0},null,null,null,null,null,null,null,null,null,"TN"]
["Ingénieurs",null,null,null,null,null,null,null,null,null,0,null,null,null,null,null,null,null,null,null,"TP"]
["Techniciens ",null,null,null,null,null,null,null,null,null,0,null,null,null,null,null,null,null,null,null,"TT"]
["Agents de maîtrise",null,null,null,null,null,null,null,null,null,0,null,null,null,null,null,null,null,null,null,"TM"]
["Adjoints techniques",null,null,null,null,null,null,null,null,null,0,null,null,null,null,null,null,null,null,null,"TH"]
["Adjoints techniques des établissements d'enseignement",null,null,null,null,null,null,null,null,null,0,null,null,null,null,null,null,null,null,null,"TA"]
["FILIERE TECHNIQUE",{"$f":"SUM(B22:B27)","v":0},{"$f":"SUM(C22:C27)","v":0},0,0,0,0,0,0,0,0,0,0,0,0,0,0,0,0,0,"T"]
["FILIERE CULTURELLE"]
["Conservateurs du patrimoine",null,null,null,null,null,null,null,null,null,{"$f":"SUM(B30:J30)","v":0},null,null,null,null,null,null,null,null,null,"CM"]
["Conservateurs des bibliothèques",null,null,null,null,null,null,null,null,null,0,null,null,null,null,null,null,null,null,null,"CH"]
["Attachés de conservation du patrimoine",null,null,null,null,null,null,null,null,null,0,null,null,null,null,null,null,null,null,null,"CA"]
["Bibliothécaires",null,null,null,null,null,null,null,null,null,0,null,null,null,null,null,null,null,null,null,"CB"]
["Directeurs d'établissements d'enseignement artistique",null,null,null,null,null,null,null,null,null,0,null,null,null,null,null,null,null,null,null,"CD"]
["Professeurs d'enseignement artistique",null,null,null,null,null,null,null,null,null,0,null,null,null,null,null,null,null,null,null,"CP"]
["Assistants de conservation du patrimoine et des bibliothèques",null,null,null,null,null,null,null,null,null,0,null,null,null,null,null,null,null,null,null,"CG"]
["Assistants d'enseignement artistique",null,null,null,null,null,null,null,null,null,0,null,null,null,null,null,null,null,null,null,"CS"]
["Adjoints territoriaux du patrimoine",null,null,null,null,null,null,null,null,null,0,null,null,null,null,null,null,null,null,null,"CJ"]
["FILIERE CULTURELLE",{"$f":"SUM(B30:B38)","v":0},0,0,0,0,0,0,0,0,0,0,0,0,0,0,0,0,0,0,"C"]
["FILIERE SPORTIVE"]
["Conseillers des APS",null,null,null,null,null,null,null,null,null,{"$f":"SUM(B41:J41)","v":0},null,null,null,null,null,null,null,null,null,"SC"]
["Educateurs des APS",null,null,null,null,null,null,null,null,null,{"$f":"SUM(B42:J42)","v":0},null,null,null,null,null,null,null,null,null,"SE"]
["Opérateurs des APS",null,null,null,null,null,null,null,null,null,{"$f":"SUM(B43:J43)","v":0},null,null,null,null,null,null,null,null,null,"SP"]
["FILIERE SPORTIVE",{"$f":"SUM(B41:B43)","v":0},0,0,0,0,0,0,0,0,0,0,0,0,0,0,0,0,0,0,"S"]
["FILIERE SOCIALE"]
["Conseillers socio-éducatifs",null,null,null,null,null,null,null,null,null,{"$f":"SUM(B46:J46)","v":0},null,null,null,null,null,null,null,null,null,"MM"]
["Assistants socio-éducatifs",null,null,null,null,null,null,null,null,null,0,null,null,null,null,null,null,null,null,null,"MT"]
["Educateurs de jeunes enfants",null,null,null,null,null,null,null,null,null,0,null,null,null,null,null,null,null,null,null,"ME"]
["Moniteurs-éducateurs et intervenants familiaux",null,null,null,null,null,null,null,null,null,0,null,null,null,null,null,null,null,null,null,"MB"]
["Agents spécialisés des écoles maternelles (ASEM)",null,null,null,null,null,null,null,null,null,0,null,null,null,null,null,null,null,null,null,"MD"]
["Agents sociaux",null,null,null,null,null,null,null,null,null,0,null,null,null,null,null,null,null,null,null,"MP"]
["FILIERE SOCIALE",{"$f":"SUM(B46:B51)","v":0},0,0,0,0,0,0,0,0,0,0,0,0,0,0,0,0,0,0,"M"]
["FILIERE MEDICO-SOCIALE"]
["Médecins",null,null,null,null,null,null,null,null,null,{"$f":"SUM(B54:J54)","v":0},null,null,null,null,null,null,null,null,null,"OD"]
["Psychologues ",null,null,null,null,null,null,null,null,null,0,null,null,null,null,null,null,null,null,null,"OH"]
["Sages-femmes",null,null,null,null,null,null,null,null,null,0,null,null,null,null,null,null,null,null,null,"OF"]
["Cadres de santé paramédicaux",null,null,null,null,null,null,null,null,null,0,null,null,null,null,null,null,null,null,null,"OG"]
["Puéricultrices cadres de santé",null,null,null,null,null,null,null,null,null,0,null,null,null,null,null,null,null,null,null,"OC"]
["Puéricultrices*",null,null,null,null,null,null,null,null,null,0,null,null,null,null,null,null,null,null,null,"OX"]
["Cadres de santé infirmiers, rééducateurs et assistants médico-techniques",null,null,null,null,null,null,null,null,null,0,null,null,null,null,null,null,null,null,null,"OA"]
["Infirmiers en soins généraux",null,null,null,null,null,null,null,null,null,0,null,null,null,null,null,null,null,null,null,"OB"]
["Infirmiers",null,null,null,null,null,null,null,null,null,{"$f":"SUM(B62:J62)","v":0},null,null,null,null,null,null,null,null,null,"ON"]
["Auxiliaires de puériculture",null,null,null,null,null,null,null,null,null,{"$f":"SUM(B63:J63)","v":0},null,null,null,null,null,null,null,null,null,"OJ"]
["Auxiliaires de soins",null,null,null,null,null,null,null,null,null,{"$f":"SUM(B64:J64)","v":0},null,null,null,null,null,null,null,null,null,"OK"]
["FILIERE MEDICO-SOCIALE",{"$f":"SUM(B54:B64)","v":0},0,0,0,0,0,0,0,0,0,0,0,0,0,0,0,0,0,0,"O"]
["FILIERE MEDICO-TECHNIQUE"]
["Biologistes, vétérinaires, pharmaciens",null,null,null,null,null,null,null,null,null,{"$f":"SUM(B67:J67)","v":0},null,null,null,null,null,null,null,null,null,"EB"]
["Techniciens paramédicaux",null,null,null,null,null,null,null,null,null,{"$f":"SUM(B68:J68)","v":0},null,null,null,null,null,null,null,null,null,"ET"]
["FILIERE MEDICO-TECHNIQUE",{"$f":"SUM(B67:B68)","v":0},0,0,0,0,0,0,0,0,0,0,0,0,0,0,0,0,0,0,"E"]
["FILIERE POLICE MUNICIPALE"]
["Directeur de police municipale",null,null,null,null,null,null,null,null,null,{"$f":"SUM(B71:J71)","v":0},null,null,null,null,null,null,null,null,null,"PU"]
["Chefs de service de police municipale",null,null,null,null,null,null,null,null,null,{"$f":"SUM(B72:J72)","v":0},null,null,null,null,null,null,null,null,null,"PC"]
["Agents de police municipale",null,null,null,null,null,null,null,null,null,{"$f":"SUM(B73:J73)","v":0},null,null,null,null,null,null,null,null,null,"PG"]
["Gardes-champêtres",null,null,null,null,null,null,null,null,null,{"$f":"SUM(B74:J74)","v":0},null,null,null,null,null,null,null,null,null,"PH"]
["FILIERE POLICE MUNICIPALE",{"$f":"SUM(B71:B74)","v":0},0,0,0,0,0,0,0,0,0,0,0,0,0,0,0,0,0,0,"P"]
["FILIERE INCENDIE ET SECOURS"]
["Contrôleurs, colonels",null,null,null,null,null,null,null,null,null,{"$f":"SUM(B77:J77)","v":0},null,null,null,null,null,null,null,null,null,"RH"]
["Capitaines, commandants, lieutenants-colonels",null,null,null,null,null,null,null,null,null,{"$f":"SUM(B78:J78)","v":0},null,null,null,null,null,null,null,null,null,"RC"]
["Médecins, pharmaciens",null,null,null,null,null,null,null,null,null,0,null,null,null,null,null,null,null,null,null,"RD"]
["Lieutenants",null,null,null,null,null,null,null,null,null,0,null,null,null,null,null,null,null,null,null,"RL"]
["Cadres de santé",null,null,null,null,null,null,null,null,null,0,null,null,null,null,null,null,null,null,null,"RF"]
["Infirmiers",null,null,null,null,null,null,null,null,null,0,null,null,null,null,null,null,null,null,null,"RG"]
["Sous-officiers",null,null,null,null,null,null,null,null,null,0,null,null,null,null,null,null,null,null,null,"RS"]
["Sapeurs et caporaux",null,null,null,null,null,null,null,null,null,0,null,null,null,null,null,null,null,null,null,"RU"]
["FILIERE INCENDIE-SECOURS",{"$f":"SUM(B77:B84)","v":0},0,0,0,0,0,0,0,{"$f":"SUM(J77:J84)","v":0},{"$f":"SUM(K77:K84)","v":0},0,0,0,0,0,0,0,0,0,"R"]
["FILIERE ANIMATION"]
["Animateurs",null,null,null,null,null,null,null,null,null,{"$f":"SUM(B87:J87)","v":0},null,null,null,null,null,null,null,null,null,"NN"]
["Adjoints d'animation",null,null,null,null,null,null,null,null,null,{"$f":"SUM(B88:J88)","v":0},null,null,null,null,null,null,null,null,null,"NJ"]
["FILIERE ANIMATION",{"$f":"SUM(B87:B88)","v":0},0,0,0,0,0,0,0,{"$f":"SUM(J87:J88)","v":0},{"$f":"SUM(K87:K88)","v":0},0,0,0,0,0,0,0,0,0,"N"]
[]
["TOTAL",{"$f":"B52+B65+B69+B75+B85+B89+B44+B39+B28+B20","v":0},{"$f":"C52+C65+C69+C75+C85+C89+C44+C39+C28+C20","v":0},0,0,0,0,0,0,0,0,0,0,0,0,0,0,0,0,0,"00"]
[]
["* Comptabiliser les puéricultrices du cadre d'emplois du décret n° 92-859 du 28 août 1992 modifié et du cadre d'emplois du décret n° 2014-923 du 18 août 2014."]

{"sheet":"Fiche 1.2.2","index":22,"n_rows":35,"n_cols":4,"rows_kept":35,"cut":false,"hidden":false,"merged":[[33,0,33,7],[34,0,34,7],[24,0,24,7],[25,0,25,7],[27,0,27,5],[28,0,28,5],[29,0,29,5],[32,0,32,7],[22,0,22,7],[0,3,0,4],[2,0,2,7],[3,0,3,7],[6,0,6,7],[7,0,7,7],[10,0,10,7],[12,0,12,7],[14,0,14,7],[15,0,15,7],[17,0,17,7],[19,0,19,7]]}
[null,null,null,"Retour Sommaire"]
[]
["1.2.2 - Nombre d'agents contractuels au 31/12/2019 occupant un emploi permanent à temps complet rémunérés au 31/12/2019"]
[" par filière et cadre d'emplois, selon la quotité de temps de travail et le sexe"]
[]
[]
["L’indicateur 1.2.2. détaille les effectifs, en nombre de personnes physiques (1 personne = 1 unité)."]
["Ne pas remplir les cellules grisées (pré remplies par un zéro) qui font l’objet de calculs automatiques."]
[]
[]
["Quels sont les agents à recenser ?"]
[]
["* les agents contractuels "]
[]
["* occupant un emploi permanent à temps complet, exerçant à temps plein ou à temps partiel"]
["Attention : Ne pas recenser les agents exerçant à temps non complet"]
[]
["* rémunérés à la date du 31 décembre 2019"]
[]
["Remarque : ces agents ont déjà été recensés pour l'indicateur 1.2.1. (colonne 1.2.1(10))"]
[]
[]
["Comment sont-ils recensés ?"]
[]
["* par filière déclinée en cadres d'emplois (en lignes)"]
["Les agents contractuels  occupant un emploi fonctionnel au titre de l’article 47 de la loi du 26 janvier 1984 doivent être recensés uniquement dans les cadres d'emplois auxquels ils sont assimilés même s'ils ont déjà été comptabilisés dans l'indicateur 1.1.0."]
[]
["* par quotité de temps de travail et par sexe (en colonnes)"]
["- colonnes 1.2.2(1) et 1.2.2(2) : temps plein"]
["- colonnes 1.2.2(3) à 1.2.2(8) : temps partiel"]
[]
[]
["Précisions sur les temps partiels :"]
["Tous les contractuels à temps partiel sont à recenser, y compris les temps partiels de droit ou sur autorisation qui seront de nouveau décomptés à l’indicateur 1.2.3."]
["La quotité de temps de travail à prendre en compte est celle qui figure sur la décision individuelle d’autorisation d’exercice à temps partiel, calculée en base annuelle par rapport à la durée légale du temps de travail. Cette quotité peut donc être différente de la durée hebdomadaire de service effectivement travaillée. Elle est également différente de la quotité rémunérée dans le cas particulier des temps partiels à 80% et à 90%."]

{"sheet":"IND 1.2.2","index":23,"n_rows":93,"n_cols":12,"rows_kept":93,"cut":false,"hidden":false,"merged":[[6,0,6,8],[7,0,7,8],[0,3,0,4],[2,0,2,10],[3,0,3,10],[5,0,5,10],[9,1,9,8],[9,9,11,10],[10,1,10,2],[10,3,10,8],[11,1,11,2],[11,3,11,4],[11,5,11,6],[11,7,11,8]]}
[null,null,null,"Retour Sommaire"]
[]
["1.2.2 - Nombre d'agents contractuels rémunérés au 31/12/2019 occupant un emploi permanent à temps complet   "]
[" par filière et cadre d'emplois,  selon la quotité de temps de travail et le sexe"]
[]
["Champ : le tableau qui suit concerne les agents contractuels rémunérés sur un emploi permanent à temps complet, rémunérés au 31/12/2019"]
["Remarque importante : les agents occupant un emploi fonctionnel doivent être uniquement comptabilisés dans leurs cadres d'emplois respectifs."]
[]
[null,10,10,21,21,22,22,23,23,"00","00","temps"]
[null,"CONTRACTUELS sur emploi permanent occupant un poste \nà TEMPS COMPLET et exerçant leurs fonctions à :",null,null,null,null,null,null,null,"Total"]
[null,"TEMPS PLEIN",null,"Tout type de TEMPS PARTIEL (sauf thérapeutique)"]
[null,1,null,"Moins de 80%",null," de 80% à moins de 90%",null,"90% et plus"]
[null,"Hommes 1.2.2(1)","Femmes 1.2.2(2)","Hommes 1.2.2(3)","Femmes 1.2.2(4)","Hommes 1.2.2(5)","Femmes 1.2.2(6)","Hommes 1.2.2(7)","Femmes 1.2.2(8)","Hommes","Femmes"]
["FILIERE ADMINISTRATIVE",1,2,1,2,1,2,1,2,1,2,"sexe"]
["Administrateurs",null,null,null,null,null,null,null,null,{"$f":"B15+D15+F15+H15","v":0},0,"AD"]
["Attachés",null,null,null,null,null,null,null,null,0,0,"AT"]
["Secrétaires de mairie",null,null,null,null,null,null,null,null,0,0,"AS"]
["Rédacteurs",null,null,null,null,null,null,null,null,0,0,"AR"]
["Adjoints administratifs",null,null,null,null,null,null,null,null,0,0,"AJ"]
["FILIERE ADMINISTRATIVE",{"$f":"SUM(B15:B19)","v":0},0,0,0,0,0,0,0,0,0,"A"]
["FILIERE TECHNIQUE"]
["Ingénieurs en chef",null,null,null,null,null,null,null,null,{"$f":"B22+D22+F22+H22","v":0},{"$f":"C22+E22+G22+I22","v":0},"TN"]
["Ingénieurs",null,null,null,null,null,null,null,null,{"$f":"B23+D23+F23+H23","v":0},0,"TP"]
["Techniciens ",null,null,null,null,null,null,null,null,0,0,"TT"]
["Agents de maîtrise",null,null,null,null,null,null,null,null,0,0,"TM"]
["Adjoints techniques",null,null,null,null,null,null,null,null,0,0,"TH"]
["Adjoints techniques des établissements d'enseignement",null,null,null,null,null,null,null,null,0,0,"TA"]
["FILIERE TECHNIQUE",{"$f":"SUM(B22:B27)","v":0},{"$f":"SUM(C22:C27)","v":0},0,0,0,0,0,0,0,0,"T"]
["FILIERE CULTURELLE"]
["Conservateurs du patrimoine",null,null,null,null,null,null,null,null,{"$f":"B30+D30+F30+H30","v":0},{"$f":"C30+E30+G30+I30","v":0},"CM"]
["Conservateurs des bibliothèques",null,null,null,null,null,null,null,null,0,0,"CH"]
["Attachés de conservation du patrimoine",null,null,null,null,null,null,null,null,0,0,"CA"]
["Bibliothécaires",null,null,null,null,null,null,null,null,0,0,"CB"]
["Directeurs d'établissements d'enseignement artistique",null,null,null,null,null,null,null,null,0,0,"CD"]
["Professeurs d'enseignement artistique",null,null,null,null,null,null,null,null,0,0,"CP"]
["Assistants de conservation du patrimoine et des bibliothèques",null,null,null,null,null,null,null,null,0,0,"CG"]
["Assistants d'enseignement artistique",null,null,null,null,null,null,null,null,0,0,"CS"]
["Adjoints territoriaux du patrimoine",null,null,null,null,null,null,null,null,0,0,"CJ"]
["FILIERE CULTURELLE",{"$f":"SUM(B30:B38)","v":0},0,0,0,0,0,0,0,0,0,"C"]
["FILIERE SPORTIVE"]
["Conseillers des APS",null,null,null,null,null,null,null,null,{"$f":"B41+D41+F41+H41","v":0},0,"SC"]
["Educateurs des APS",null,null,null,null,null,null,null,null,0,0,"SE"]
["Opérateurs des APS",null,null,null,null,null,null,null,null,0,0,"SP"]
["FILIERE SPORTIVE",{"$f":"SUM(B41:B43)","v":0},0,0,0,0,0,0,0,0,0,"S"]
["FILIERE SOCIALE"]
["Conseillers socio-éducatifs",null,null,null,null,null,null,null,null,{"$f":"B46+D46+F46+H46","v":0},{"$f":"C46+E46+G46+I46","v":0},"MM"]
["Assistants socio-éducatifs",null,null,null,null,null,null,null,null,0,0,"MT"]
["Educateurs de jeunes enfants",null,null,null,null,null,null,null,null,0,0,"ME"]
["Moniteurs-éducateurs et intervenants familiaux",null,null,null,null,null,null,null,null,0,0,"MB"]
["Agents spécialisés des écoles maternelles (ASEM)",null,null,null,null,null,null,null,null,0,0,"MD"]
["Agents sociaux",null,null,null,null,null,null,null,null,0,0,"MP"]
["FILIERE SOCIALE",{"$f":"SUM(B46:B51)","v":0},0,0,0,0,0,0,0,0,0,"M"]
["FILIERE MEDICO-SOCIALE"]
["Médecins",null,null,null,null,null,null,null,null,{"$f":"B54+D54+F54+H54","v":0},{"$f":"C54+E54+G54+I54","v":0},"OD"]
["Psychologues ",null,null,null,null,null,null,null,null,0,0,"OH"]
["Sages-femmes",null,null,null,null,null,null,null,null,0,0,"OF"]
["Cadres de santé paramédicaux",null,null,null,null,null,null,null,null,0,0,"OG"]
["Puéricultrices cadres de santé",null,null,null,null,null,null,null,null,0,0,"OC"]
["Puéricultrices*",null,null,null,null,null,null,null,null,0,0,"OX"]
["Cadres de santé infirmiers, rééducateurs et assistants médico-techniques",null,null,null,null,null,null,null,null,0,0,"OA"]
["Infirmiers en soins généraux",null,null,null,null,null,null,null,null,0,0,"OB"]
["Infirmiers",null,null,null,null,null,null,null,null,0,0,"ON"]
["Auxiliaires de puériculture",null,null,null,null,null,null,null,null,0,0,"OJ"]
["Auxiliaires de soins",null,null,null,null,null,null,null,null,0,0,"OK"]
["FILIERE MEDICO-SOCIALE",{"$f":"SUM(B54:B64)","v":0},0,0,0,0,0,0,0,0,0,"O"]
["FILIERE MEDICO-TECHNIQUE"]
["Biologistes, vétérinaires, pharmaciens",null,null,null,null,null,null,null,null,0,0,"EB"]
["Techniciens paramédicaux",null,null,null,null,null,null,null,null,0,0,"ET"]
["FILIERE MEDICO-TECHNIQUE",{"$f":"SUM(B67:B68)","v":0},0,0,0,0,0,0,0,0,0,"E"]
["FILIERE POLICE MUNICIPALE"]
["Directeur de police municipale",null,null,null,null,null,null,null,null,{"$f":"B71+D71+F71+H71","v":0},0,"PU"]
["Chefs de service de police municipale",null,null,null,null,null,null,null,null,0,0,"PC"]
["Agents de police municipale",null,null,null,null,null,null,null,null,0,0,"PG"]
["Gardes-champêtres",null,null,null,null,null,null,null,null,0,0,"PH"]
["FILIERE POLICE MUNICIPALE",{"$f":"SUM(B71:B74)","v":0},0,0,0,0,0,0,0,0,0,"P"]
["FILIERE INCENDIE ET SECOURS"]
["Contrôleurs, colonels",null,null,null,null,null,null,null,null,{"$f":"B77+D77+F77+H77","v":0},{"$f":"C77+E77+G77+I77","v":0},"RH"]
["Capitaines, commandants, lieutenants-colonels",null,null,null,null,null,null,null,null,{"$f":"B78+D78+F78+H78","v":0},0,"RC"]
["Médecins, pharmaciens",null,null,null,null,null,null,null,null,0,0,"RD"]
["Lieutenants",null,null,null,null,null,null,null,null,0,0,"RL"]
["Cadres de santé",null,null,null,null,null,null,null,null,0,0,"RF"]
["Infirmiers",null,null,null,null,null,null,null,null,0,0,"RG"]
["Sous-officiers",null,null,null,null,null,null,null,null,0,0,"RS"]
["Sapeurs et caporaux",null,null,null,null,null,null,null,null,0,0,"RU"]
["FILIERE INCENDIE-SECOURS",{"$f":"SUM(B77:B84)","v":0},0,0,0,0,0,0,0,0,0,"R"]
["FILIERE ANIMATION"]
["Animateurs",null,null,null,null,null,null,null,null,{"$f":"B87+D87+F87+H87","v":0},{"$f":"C87+E87+G87+I87","v":0},"NN"]
["Adjoints d'animation",null,null,null,null,null,null,null,null,{"$f":"B88+D88+F88+H88","v":0},{"$f":"C88+E88+G88+I88","v":0},"NJ"]
["FILIERE ANIMATION",{"$f":"SUM(B87:B88)","v":0},0,0,0,0,0,0,0,0,0,"N"]
[]
["TOTAL",{"$f":"B52+B65+B69+B75+B85+B89+B44+B39+B28+B20","v":0},{"$f":"C52+C65+C69+C75+C85+C89+C44+C39+C28+C20","v":0},0,0,0,0,0,0,0,0,"00"]
[]
["* Comptabiliser les puéricultrices du cadre d'emplois du décret n° 92-859  du 28 août 1992 modifié et du cadre d'emplois du décret n° 2014-923 du 18 août 2014."]

{"sheet":"Fiche 1.2.3","index":24,"n_rows":31,"n_cols":5,"rows_kept":31,"cut":false,"hidden":false,"merged":[[28,0,28,5],[29,0,29,7],[30,0,30,7],[13,0,13,7],[15,0,15,7],[16,0,16,7],[17,0,17,7],[19,0,19,5],[21,0,21,7],[24,0,24,7],[26,0,26,7],[9,0,9,7],[11,0,11,7],[2,0,2,7],[5,0,5,7],[6,0,6,7]]}
[null,null,null,null,"Retour Sommaire"]
[]
["1.2.3 - Nombre d'agents contractuels bénéficiaires d'un temps partiel de droit ou sur autorisation rémunérés au 31/12/2019, par catégorie et par sexe"]
[]
[]
["L’indicateur 1.2.3. détaille les effectifs, en nombre de personnes physiques (1 personne = 1 unité), "]
["Ne pas remplir les cellules grisées (pré remplies par un zéro) qui font l’objet de calculs automatiques."]
[]
[]
["Quels sont les agents à recenser ?"]
[]
["* les agents contractuels "]
[]
["* occupant un emploi permanent à temps complet "]
[]
["* et exerçant à temps partiel sous les formes particulières :"]
["- du temps partiel de droit qui peut être accordé soit pour raison familiale (pour élever un enfant, donner des soins à son conjoint, à un enfant à charge ou à un ascendant atteint d'un handicap nécessitant la présence d'une tierce personne, ou victime d'un accident ou d'une maladie grave), soit à certains travailleurs en situation de handicap (article 13 du décret n° 2004-777 du 29 juillet 2004 relatif à la mise en œuvre du temps partiel dans la fonction publique territoriale) "]
[" - du temps partiel sur autorisation (pour une durée de service qui ne peut être inférieure au mi-temps) pour les agents contractuels en activité employés depuis plus d'un an de façon continue à temps complet, sur leur demande et sous réserve des nécessités du service (article 10 du décret n°2004-777 du 29 juillet 2004 précité) \n\n"]
[]
["*rémunérés à la date du 31 décembre 2019"]
[]
["Remarque : il s’agit des fonctionnaires déjà recensés à l’indicateur 1.2.2. dans les colonnes 1.2.2(3) à 1.2.2(8)."]
[]
[]
["Comment sont-ils recensés ?"]
[]
["*par catégorie par sexe (en lignes)"]
[]
["*par type de temps partiel (en colonnes)"]
["- colonne 1.2.3(1) : temps partiel de droit"]
["- colonne 1.2.3(2) : temps partiel sur autorisation"]

{"sheet":"IND 1.2.3","index":25,"n_rows":17,"n_cols":9,"rows_kept":17,"cut":false,"hidden":false,"merged":[[14,0,16,0],[2,0,2,5],[4,0,4,5],[8,0,10,0],[11,0,13,0]]}
[null,null,"Retour Sommaire"]
[]
["1.2.3 - Nombre d'agents contractuels rémunérés bénéficiaires d'un temps partiel de droit ou sur autorisation rémunérés au 31/12/2019, par catégorie et sexe"]
[]
["Champ : le tableau qui suit concerne les agents contractuels sur un emploi permanent à temps complet et exerçant à temps partiel, rémunérés au 31/12/2019."]
[null,null,1,2,"temps"]
[null,null,"Temps partiel de droit ","Temps partiel sur autorisation ","catégorie","sexe"]
[null,null,"1.2.3(1)","1.2.3(2)"]
["Catégorie A","Hommes",null,null,1,1,null,null,"                                                                                                                                            "]
[null,"Femmes",null,null,1,2]
[null,"Total",{"$f":"SUM(C9:C10)","v":0},{"$f":"SUM(D9:D10)","v":0},1,0]
["Catégorie B","Hommes",null,null,2,1]
[null,"Femmes",null,null,2,2]
[null,"Total",{"$f":"SUM(C12:C13)","v":0},{"$f":"SUM(D12:D13)","v":0},2,0]
["Catégorie C","Hommes",null,null,3,1]
[null,"Femmes",null,null,3,2]
[null,"Total",{"$f":"SUM(C15:C16)","v":0},{"$f":"SUM(D15:D16)","v":0},3,0]

{"sheet":"IND 1.2.4","index":26,"n_rows":71,"n_cols":6,"rows_kept":71,"cut":false,"hidden":false,"merged":[[9,0,9,5],[10,0,10,5],[16,0,16,5],[2,0,2,5],[4,0,4,5],[8,0,8,5],[5,0,5,5],[6,0,6,5],[14,0,14,5],[15,0,15,5],[17,0,17,5],[18,0,18,5],[11,0,11,5],[12,0,12,5],[28,2,28,3],[27,1,27,3],[21,0,21,5],[22,0,22,5],[20,0,20,5]]}
[null,null,"Retour Sommaire"]
[]
["1.2.4 - Nombre de contractuels en Equivalent Temps Plein Rémunéré (ETPR) en 2019 par filière déclinée par catégorie et par sexe"]
[]
["Champ : le tableau qui suit concerne les contractuels occupant un emploi permanent à temps complet ou non complet et ayant été rémunérés au moins un jour durant l'année 2019 (hors heures supplémentaires et/ou complémentaires)"]
["L’indicateur 1.2.4. détaille les effectifs en ETPR (1 ETPR = 1 unité), "]
["Ne pas remplir les cellules grisées (pré remplies par un zéro) qui font l’objet de calculs automatiques."]
[]
["Définition : l'Equivalent Temps Plein Rémunéré (ETPR) est proportionnel à l'activité d'un agent, mesuré par sa quotité de temps de travail et par sa période d'activité sur l'année. Par contre, il ne tient pas compte des heures supplémentaires et/ou complémentaires effectuées par l'agent."]
["La base de calcul pour un agent à temps plein (35 heures), ayant été en activité toute l'année correspond au nombre total d'heures payées soit 1 820 heures pour une année."]
["Les périodes d'activités rémunérées sont incluses dans cette base de calcul (congés, absence, etc...)."]
["Le nombre d'heures payées à prendre en compte pour un agent, est le nombre d'heures annuelles cumulées au dernier jour de l'année ou au dernier jour de travail de l'agent."]
["- cas particulier des agents de la filière culturelle : un(e) assistant(e) d'enseignement artistique travaillant 20h hebdomadaire (temps plein de référence)  correspond à 1 ETPR (base 35 heures rémunérées). Un(e) professeur(e) d'enseignement artistique travaillant 16h hebdomadaire (temps plein de référence) correspond à 1 ETPR."]
[]
["Exemples :"]
["- un agent à temps plein rémunéré et présent toute l'année correspond à 1 ETPR, soit 1 820 heures"]
["- un agent à temps partiel (80 %) présent toute l'année correspond à 0,8 ETPR"]
["- un agent à temps non complet (25 heures par semaine) et ayant été présent 4 mois sur l'année correspond à 0,24 ETPR > calcul : (25 heures /35)*(4 mois /12) "]
["- un agent à temps partiel (80 %) étant repassé à temps plein le 1er juin 2017 correspond à 0,9 ETPR > calcul : (0,8 *(5 mois /12)) + (1*(7 mois /12)) "]
[]
["Exemples de calcul par le nombre d'heures payées (y compris congés, absences, ...) "]
["- pour un  agent à temps complet, soit 1 820 heures travaillées > 1 ETPR"]
["- pour un agent à temps non complet, par exemple à 1 204 heures travaillées > 1 204 / 1 820 = 0,66 ETPR                      "]
[]
[]
[]
[null,null,1,2,"sexe"]
[null,"Nombre de contractuels en Equivalent Temps Plein Rémunéré (ETPR) ayant travaillé au moins un jour \n(Contractuels sur emplois permanents)"]
[null,null,"Année 2019 "]
[null,"Filières","Hommes   \n1.2.4(1.1)","Femmes \n1.2.4(1.2)","cadre","categorie"]
[null,"FILIERE ADMINISTRATIVE",{"$f":"SUM(C32:C34)","v":0},{"$f":"SUM(D32:D34)","v":0},"A","0"]
[null,"Catégorie A",null,null,"A","1"]
[null,"Catégorie B",null,null,"A","2"]
[null,"Catégorie C",null,null,"A","3"]
[null,"FILIERE TECHNIQUE",{"$f":"SUM(C36:C38)","v":0},{"$f":"SUM(D36:D38)","v":0},"T","0"]
[null,"Catégorie A",null,null,"T","1"]
[null,"Catégorie B",null,null,"T","2"]
[null,"Catégorie C",null,null,"T","3"]
[null,"FILIERE CULTURELLE",{"$f":"SUM(C40:C42)","v":0},{"$f":"SUM(D40:D42)","v":0},"C","0"]
[null,"Catégorie A",null,null,"C","1"]
[null,"Catégorie B",null,null,"C","2"]
[null,"Catégorie C",null,null,"C","3"]
[null,"FILIERE SPORTIVE",{"$f":"SUM(C44:C46)","v":0},{"$f":"SUM(D44:D46)","v":0},"S","0"]
[null,"Catégorie A",null,null,"S","1"]
[null,"Catégorie B",null,null,"S","2"]
[null,"Catégorie C",null,null,"S","3"]
[null,"FILIERE SOCIALE",{"$f":"SUM(C48:C50)","v":0},{"$f":"SUM(D48:D50)","v":0},"M","0"]
[null,"Catégorie A",null,null,"M","1"]
[null,"Catégorie B",null,null,"M","2"]
[null,"Catégorie C",null,null,"M","3"]
[null,"FILIERE MEDICO-SOCIALE",{"$f":"SUM(C52:C54)","v":0},{"$f":"SUM(D52:D54)","v":0},"O","0"]
[null,"Catégorie A",null,null,"O","1"]
[null,"Catégorie B",null,null,"O","2"]
[null,"Catégorie C",null,null,"O","3"]
[null,"FILIERE MEDICO-TECHNIQUE",{"$f":"SUM(C56:C58)","v":0},{"$f":"SUM(D56:D58)","v":0},"E","0"]
[null,"Catégorie A",null,null,"E","1"]
[null,"Catégorie B",null,null,"E","2"]
[null,"Catégorie C",null,null,"E","3"]
[null,"FILIERE POLICE MUNICIPALE",{"$f":"SUM(C60:C62)","v":0},{"$f":"SUM(D60:D62)","v":0},"P","0"]
[null,"Catégorie A",null,null,"P","1"]
[null,"Catégorie B",null,null,"P","2"]
[null,"Catégorie C",null,null,"P","3"]
[null,"FILIERE INCENDIE ET SECOURS",{"$f":"SUM(C64:C66)","v":0},{"$f":"SUM(D64:D66)","v":0},"R","0"]
[null,"Catégorie A",null,null,"R","1"]
[null,"Catégorie B",null,null,"R","2"]
[null,"Catégorie C",null,null,"R","3"]
[null,"FILIERE ANIMATION",{"$f":"SUM(C68:C69)","v":0},{"$f":"SUM(D68:D69)","v":0},"N","0"]
[null,"Catégorie B",null,null,"N","2"]
[null,"Catégorie C",null,null,"N","3"]
[]
[null,"TOTAL",{"$f":"C31+C35+C39+C43+C47+C51+C55+C59+C63+C67","v":0},{"$f":"D31+D35+D39+D43+D47+D51+D55+D59+D63+D67","v":0},"00","0"]

{"sheet":"Fiche 1.3.1-1.3.2","index":27,"n_rows":73,"n_cols":5,"rows_kept":73,"cut":false,"hidden":false,"merged":[[49,0,49,7],[51,0,51,7],[53,0,53,7],[72,0,72,7],[55,0,55,6],[57,0,57,7],[60,0,60,6],[62,0,62,7],[63,0,63,7],[64,0,64,7],[66,0,66,7],[67,0,67,7],[68,0,68,7],[70,0,70,7],[71,0,71,7],[47,0,47,7],[31,0,31,7],[32,0,32,7],[33,0,33,7],[34,0,34,7],[36,0,36,7],[37,0,37,7],[38,0,38,7],[40,0,40,7],[41,0,41,7],[42,0,42,7],[35,0,35,7],[25,0,25,6],[27,0,27,6],[28,0,28,7],[43,0,43,7],[44,0,44,7],[29,0,29,7],[30,0,30,7],[21,0,21,7],[22,0,22,7],[20,0,20,7],[0,4,0,5],[2,0,2,7],[4,0,4,7],[5,0,5,7],[6,0,6,7],[9,0,9,6],[11,0,11,6],[13,0,13,6],[15,0,15,6],[17,0,17,7],[19,0,19,7]]}
[null,null,null,null,"Retour Sommaire"]
[]
["1.3.1 - 1.3.2 - Autres personnels"]
[]
["Les indicateurs 1.3.1(1) et 1.3.1(2) recensent, respectivement, les effectifs en nombre de personnes physiques (1 personne = 1 unité) et en équivalent temps plein rémunéré (1 ETPR = 1 unité)."]
["L' indicateur 1.3.2 recense uniquement les effectifs en nombre de personnes physiques (1 personne = 1 unité)."]
["Ne pas remplir les cellules grisées (pré remplies par un zéro) qui font l’objet de calculs automatiques."]
[]
[]
["Quels sont les agents à recenser à l'indicateur 1.3.1 ?"]
[]
["* les contractuels"]
[]
["*  recrutés sur un emploi NON permanent"]
[]
["* rémunérés à la date du 31 décembre 2019"]
[]
["* ou rémunérés au moins 1 jour dans l’année 2019 ."]
[]
["Remarques :"]
["- il s'agit, ici, de recenser les agents contractuels NON recensés à l'indicateur 1.2.1, qu'ils soient de droit public ou de droit privé."]
["- les agents qui ont été rémunérés au 31/12/2019 ont, par définition, été rémunérés au moins un jour dans l'année 2019. Ils doivent donc également être recensés dans les effectifs des colonnes  1.3.1(1.3) et 1.3.1(1.4) pour l'indicateur 1.3.1(1)."]
["- si une personne a exercé sur plusieurs périodes distinctes au cours de l'année, il ne faut la compter qu’une fois, pour l'indicateur 1.3.1(1), dans les effectifs des agents ayant été rémunérés au moins un jour dans l'année 2019."]
[]
[]
["Comment sont-ils recensés ?"]
[]
["* par nature d’emploi « non permanent » (en ligne) "]
["- collaborateurs de cabinet : article 110 de la loi du 26 janvier 1984"]
["- assistants maternels"]
["- assistants familiaux : arrêté du 10 juillet 2008, agréé d'avenant n° 305 du 20 mars 2007 relatif aux assistants familiaux, travaillant dans les centres ou services d'accueil familial ou de placement familial spécialisé"]
["- accueillants familiaux : article 57 de la loi DALO du 5 mars 2007 ; décret d’application n° 2010-928 du 3 août 2010"]
["- agents contractuels recrutés pour faire face à un besoin lié à un accroissement temporaire ou saisonnier d'activité : article 3 de la loi n° 84-53 du 26 janvier 1984"]
["- personnes ayant bénéficié d'un emploi aidé"]
["- contractuels employés par les CDG et mis à disposition des collectivités (concernent uniquement les CDG)"]
["- apprentis"]
["- personnes bénéficiant d'une rémunération accessoire autorisée par la réglementation sur le cumul des emplois"]
["- vacataires, hors jury de concours"]
["- autres (agents non classables dans les catégories précédentes) : par exemple, les intermittents du spectacle, les vacataires, etc. Non compris les élus et comptables publics."]
[]
["* en fonction de la rémunération (au 31 décembre 2019 ou au moins un jour au cours de l'année 2019) croisée par le sexe (en colonnes)"]
["Pour l'indicateur 1.3.1(1) : "]
["- colonnes 1.3.1(1.1) et 1.3.1(1.2) : rémunération au 31 décembre 2019 (en nombre de personnes)"]
["- colonnes 1.3.1(1.3) et 1.3.1(1.4) : rémunération au moins un jour au cours de l'année 2019 (en nombre de personnes)"]
["Pour l'indicateur 1.3.1(2) : rémunération au moins un jour au cours de l'année 2019 (en ETPR)"]
[]
[]
["Quels sont les agents à recenser à l'indicateur 1.3.2 ?"]
[]
["* les personnes de droit public ou privé qui sont dans le cadre d'une mission temporaire"]
[]
["* mises à disposition par les CDG"]
[]
["* ou intérimaires"]
[]
["* présentes à la date du 31 décembre 2019"]
[]
["* ou présentes au moins 1 jour dans l’année 2019 "]
[]
[]
["Comment sont-ils recensés ?"]
[]
["*  par nature d’emploi « non permanent » (décliné par filière pour le personnel mis à disposition par les CDG ; en lignes) "]
["- personnes employées comme personnels remplaçants mis à disposition par le centre de gestion (par filière)"]
["- personnes employées dans le cadre du recours au service des entreprises mentionnées à l’article L. 1251-1 du code du travail (intérim) en référence à l’article 3-7 de la loi n° 84-53 du 26 janvier 1984"]
[]
["* en fonction de la présence (au 31 décembre 2019 ou au moins un jour au cours de l'année 2019) croisée par le sexe (en colonnes)"]
["- colonnes 1.3.2(1) et 1.3.2(2) : rémunération au 31 décembre 2019 "]
["- colonnes 1.3.2(3) et 1.3.2(4) : rémunération au moins un jour au cours de l'année 2019 "]
[]
["Remarques :"]
["- les agents qui ont été présents au 31/12/2019 ont, par définition, été présents au moins un jour dans l'année 2019. Ils doivent donc être recensés dans les deux colonnes 1.3.2(1) et 1.3.2(2)."]
["- si une personne a exercé sur plusieurs périodes distinctes au cours de l'année, il ne faut la compter qu’une fois dans les colonnes 1.3.2(3) ou1.3.2(4).  "]

{"sheet":"IND 1.3.1","index":28,"n_rows":83,"n_cols":11,"rows_kept":83,"cut":false,"hidden":false,"merged":[[12,7,12,9],[12,3,12,5],[0,3,0,4],[2,0,2,9],[4,0,4,9],[9,0,9,7],[8,0,8,7],[6,0,6,9],[7,0,7,9],[48,1,48,9],[44,1,44,9],[40,0,40,9],[42,1,43,9],[23,1,23,2],[25,1,25,2],[33,1,33,2],[29,1,29,2],[37,1,37,2],[27,1,27,2],[35,1,35,2],[31,1,31,2],[15,1,15,2],[19,1,19,2],[17,1,17,2],[21,1,21,2],[47,1,47,9],[60,1,60,2],[62,1,62,2],[57,3,57,5],[49,1,49,9],[50,1,50,9],[52,1,52,8],[53,1,53,8],[54,1,54,8],[64,1,64,2],[80,1,80,2],[78,1,78,2],[70,1,70,2],[82,1,82,2],[66,1,66,2],[68,1,68,2],[72,1,72,2],[74,1,74,2],[76,1,76,2]]}
[null,null,null,"Retour Sommaire"]
[]
["1.3.1  - Autres contractuels sur emploi non permanent, en effectif physique et en ETPR, selon le sexe"]
[]
["1.3.1 (1)  - Autres contractuels sur emploi non permanent en effectif physique"]
[]
["Champ : les tableaux qui suivent concernent les agents contractuels sur un emploi non permanent ayant été rémunérés au moins un jour durant l'année 2019 "]
["Remarques : "]
["- ces agents ne doivent pas avoir été recensés à l’indicateur 1.2.1."]
["- si une personne a exercé au cours de plusieurs périodes distinctes, ne la compter qu’une fois dans les colonnes 1.3.1(1.3) ou 1.3.1(1.4) ."]
[]
[null,null,null,"E1","E1","E1",null,"E2","E2","E2","effectif"]
[null,null,null,"Effectifs rémunérés\n au 31 décembre 2019",null,null,null,"Effectifs ayant été rémunérés au moins un jour entre le 1er janvier 2019 et le 31 décembre 2019"]
[null,null,null,"Hommes 1.3.1(1.1)","Femmes 1.3.1(1.2)","Total",null,"Hommes 1.3.1(1.3)","Femmes 1.3.1(1.4)","Total"]
[null,null,null,1,2,0,null,1,2,0,"sexe/emploi"]
[null,"Collaborateurs de cabinet (article 110 de la loi du 26 janvier 1984)",null,null,null,{"$f":"SUM(D16:E16)","v":0},null,null,null,{"$f":"SUM(H16:I16)","v":0},"01"]
[]
[null,"Assistants maternels",null,null,null,{"$f":"SUM(D18:E18)","v":0},null,null,null,{"$f":"SUM(H18:I18)","v":0},"02"]
[]
[null,"Assistants familiaux",null,null,null,{"$f":"SUM(D20:E20)","v":0},null,null,null,{"$f":"SUM(H20:I20)","v":0},"03"]
[]
[null,"Accueillants familiaux (Loi DALO de 2007)",null,null,null,{"$f":"SUM(D22:E22)","v":0},null,null,null,{"$f":"SUM(H22:I22)","v":0},"04"]
[]
[null,"Agents contractuels recrutés pour faire face à un accroissement temporaire d'activité ou un accroissement saisonnier d'activité (article 3 de la loi du 26 janvier 1984)",null,null,null,{"$f":"SUM(D24:E24)","v":0},null,null,null,{"$f":"SUM(H24:I24)","v":0},"05"]
[]
[null,"Personnes ayant bénéficié d'un emploi aidé",null,null,null,{"$f":"SUM(D26:E26)","v":0},null,null,null,{"$f":"SUM(H26:I26)","v":0},"06"]
[]
[null,"Contractuels employés par les CDG et mis à disposition des collectivités ( A renseigner uniquement par les CDG )",null,null,null,{"$f":"SUM(D28:E28)","v":0},null,null,null,{"$f":"SUM(H28:I28)","v":0},"09"]
[]
[null,"Apprentis",null,null,null,{"$f":"SUM(D30:E30)","v":0},null,null,null,{"$f":"SUM(H30:I30)","v":0},"10"]
[]
[null,"Personnes bénéficiant d'une rémunération accessoire autorisée par la réglementation sur le cumul des emplois",null,null,null,{"$f":"SUM(D32:E32)","v":0},null,null,null,{"$f":"SUM(H32:I32)","v":0},"11"]
[]
[null,"Vacataires (hors jury de concours)",null,null,null,{"$f":"SUM(D34:E34)","v":0},null,null,null,{"$f":"SUM(H34:I34)","v":0},"41"]
[]
[null,"Autres (agents non classables dans les catégories précédentes)",null,null,null,{"$f":"SUM(D36:E36)","v":0},null,null,null,{"$f":"SUM(H36:I36)","v":0},"12"]
[]
[null,"TOTAL",null,{"$f":"D16+D18+D20+D22+D24+D28+D30+D32+D36+D26+D34","v":0},{"$f":"E16+E18+E20+E22+E24+E28+E30+E32+E36+E26+E34","v":0},0,null,0,0,0,"00"]
[]
[]
["1.3.1 (2)  - Autres contractuels sur emploi non permanent en Equivalent Temps Plein Rémunéré "]
[]
[null,"Champ : les tableaux qui suivent concernent les agents contractuels sur emploi non permanent ayant été rémunérés au moins un jour durant l'année 2019 (hors heures supplémentaires et/ou complémentaires)."]
[]
[null,"Remarque : Ces agents ne doivent pas avoir été recensés à l’indicateur 1.2.1."]
[]
[]
[null,"Définition : l'Equivalent Temps Plein Rémunéré (ETPR) est proportionnel à l'activité d'un agent, mesuré par sa quotité de temps de travail et par sa période d'activité sur l'année. Par contre, il ne tient pas compte des heures supplémentaires et/ou complémentaires effectuées par l'agent."]
[null,"La base de calcul pour un agent à temps plein (35 heures), ayant été en activité toute l'année correspond au nombre total d'heures payées soit 1 820 heures pour une année."]
[null,"Les périodes d'activités rémunérées sont incluses dans cette base de calcul (congés, absence, etc...)."]
[null,"Le nombre d'heures payées à prendre en compte pour un agent, est le nombre d'heures annuelles cumulées au dernier jour de l'année ou au dernier jour de travail de l'agent."]
[]
[null,"Exemples : "]
[null,"- pour un  agent à temps complet, soit 1 820 heures travaillées > 1 ETPR"]
[null,"- pour un agent à temps non complet, par exemple à 1 204 heures travaillées > 1 204 / 1 820 = 0,66 ETPR                      "]
[]
[]
[null,null,null,"Nombre de contractuels sur emploi non permanent en Equivalent Temps Plein Rémunéré sur l'année 2019"]
[null,null,null,"Hommes 1.3.1(2.1)","Femmes 1.3.1(2.2)","Total"]
[null,null,null,1,2,0,"sexe/emploi"]
[null,"Collaborateurs de cabinet (article 110 de la loi du 26 janvier 1984)",null,null,null,{"$f":"SUM(D61:E61)","v":0},"01"]
[]
[null,"Assistants maternels",null,null,null,{"$f":"SUM(D63:E63)","v":0},"02"]
[]
[null,"Assistants familiaux",null,null,null,{"$f":"SUM(D65:E65)","v":0},"03"]
[]
[null,"Accueillants familiaux (Loi DALO de 2007)",null,null,null,{"$f":"SUM(D67:E67)","v":0},"04"]
[]
[null,"Agents contractuels recrutés pour faire face à un accroissement temporaire d'activité ou un accroissement saisonnier d'activité (article 3 de la loi du 26 janvier 1984)",null,null,null,{"$f":"SUM(D69:E69)","v":0},"05"]
[]
[null,"Personnes ayant bénéficié d'un emploi aidé",null,null,null,{"$f":"SUM(D71:E71)","v":0},"06"]
[]
[null,"Contractuels employés par les CDG et mis à disposition des collectivités ( A renseigner uniquement par les CDG )",null,null,null,{"$f":"SUM(D73:E73)","v":0},"09"]
[]
[null,"Apprentis",null,null,null,{"$f":"SUM(D75:E75)","v":0},"10"]
[]
[null,"Personnes bénéficiant d'une rémunération accessoire autorisée par la réglementation sur le cumul des emplois",null,null,null,{"$f":"SUM(D77:E77)","v":0},"11"]
[]
[null,"Vacataires (hors jury de concours)",null,null,null,{"$f":"SUM(D79:E79)","v":0},"41"]
[]
[null,"Autres (agents non classables dans les catégories précédentes)",null,null,null,{"$f":"SUM(D81:E81)","v":0},"12"]
[]
[null,"TOTAL",null,{"$f":"D61+D63+D65+D67+D69+D71+D73+D75+D77+D79+D81","v":0},{"$f":"E61+E63+E65+E67+E69+E71+E73+E75+E77+E79+E81","v":0},{"$f":"F61+F63+F65+F67+F69+F71+F73+F75+F77+F79+F81","v":0},"00"]

{"sheet":"IND 1.3.2","index":29,"n_rows":26,"n_cols":7,"rows_kept":26,"cut":false,"hidden":false,"merged":[[7,0,7,5],[10,1,10,2],[10,4,10,5],[0,1,0,2],[5,0,5,3],[6,0,6,3],[2,0,2,5],[4,0,4,5]]}
[null,"Retour Sommaire"]
[]
["1.3.2  - Recours à du personnel temporaire (mis à disposition par CDG décliné par filière et intérim), selon le sexe"]
[]
["Champ : personnes de droit public ou privé qui sont dans le cadre d'une mission temporaire et qui sont mises à disposition par les CDG ou intérimaires, ayant été présentes au moins un jour durant l'année 2019."]
["Remarques : "]
["- ces agents NE doivent PAS avoir été recensés à l’indicateur 1.2.1."]
["- si une personne a exercé au cours de plusieurs périodes distinctes, ne la compter qu’une fois dans les colonnes 1.3.2(3) ou 1.3.2(4)."]
[]
[null,"E1","E1",null,"E2","E2","eff3"]
[null,"Effectifs présents\n au 31 décembre 2019",null,null,"Effectifs présents au moins\nun jour entre le 1er janvier 2019\net le 31 décembre 2019"]
[null,"Hommes 1.3.2(1)","Femmes 1.3.2(2)",null,"Hommes 1.3.2(3)","Femmes 1.3.2(4)"]
[null,1,2,null,1,2,"sexe/emploi7"]
["Personnels remplaçants mis à disposition par le centre de gestion",{"$f":"SUM(B15:B24)","v":0},{"$f":"SUM(C15:C24)","v":0},null,{"$f":"SUM(E15:E24)","v":0},{"$f":"SUM(F15:F24)","v":0},"00"]
["FILIERE ADMINISTRATIVE",null,null,null,null,null,"A"]
["FILIERE TECHNIQUE",null,null,null,null,null,"T"]
["FILIERE CULTURELLE",null,null,null,null,null,"C"]
["FILIERE SPORTIVE",null,null,null,null,null,"S"]
["FILIERE SOCIALE",null,null,null,null,null,"M"]
["FILIERE MEDICO-SOCIALE",null,null,null,null,null,"O"]
["FILIERE MEDICO-TECHNIQUE",null,null,null,null,null,"E"]
["FILIERE POLICE MUNICIPALE",null,null,null,null,null,"P"]
["FILIERE INCENDIE ET SECOURS",null,null,null,null,null,"R"]
["FILIERE ANIMATION",null,null,null,null,null,"N"]
[]
["Personnels employés dans le cadre du recours au service des entreprises (intérim) ",null,null,null,null,null,"20"]

{"sheet":"Fiche 1.4.1-1.4.4","index":30,"n_rows":60,"n_cols":5,"rows_kept":60,"cut":false,"hidden":false,"merged":[[24,0,24,7],[27,0,27,7],[28,0,28,7],[29,0,29,7],[30,0,30,6],[59,0,59,7],[48,0,48,7],[51,0,51,7],[54,0,54,7],[31,0,31,6],[32,0,32,6],[34,0,34,7],[36,0,36,7],[40,0,40,7],[43,0,43,7],[44,0,44,7],[46,0,46,7],[55,0,55,7],[57,0,57,7],[38,0,38,7],[22,0,22,7],[23,0,23,7],[21,0,21,7],[0,4,0,5],[2,0,2,7],[5,0,5,7],[6,0,6,7],[9,0,9,7],[11,0,11,7],[13,0,13,6],[14,0,14,7],[15,0,15,7],[18,0,18,6],[20,0,20,7]]}
[null,null,null,null,"Retour Sommaire"]
[]
["1.4.1 - 1.4.4 - Nombre d'agents selon les positions statutaires particulières et par sexe, au 31/12/2019"]
[]
[]
["Les indicateurs de 1.4.1 à 1.4.2 recensent les effectifs en nombre de personnes physiques (1 personne = 1 unité)."]
["Ne pas remplir les cellules grisées (pré remplies par un zéro) qui font l’objet de calculs automatiques."]
[]
[]
["Quels sont les agents à recenser ?"]
[]
["* les fonctionnaires (titulaires et stagiaires) et les contractuels sur emploi permanent"]
[]
["* placés dans une position particulière au 31/12/2019 :"]
["- les fonctionnaires et agents contractuels sur emploi permanent qui se trouvent dans une position autre que celle de l’activité. Pour les contractuels, les congés sans traitement pour convenance personnelle sont à comptabiliser avec les disponibilités pour convenance personnelle."]
["- les fonctionnaires recrutés dans votre collectivité par la voie d’un détachement non suivi d’intégration."]
[]
[]
["Comment sont-ils recensés ?"]
[]
["* selon leur origine et par type de situation"]
["- indicateur 1.4.1 : agents originaires de votre collectivité ;"]
["- indicateur 1.4.2 : agents détachés dans la collectivité et originaires d’une autre structure ;"]
["- indicateur 1.4.3 : agents mis à disposition de votre collectivité et originaires d’une autre structure ;"]
["- indicateur 1.4.4 : fonctionnaires pris en charge par le CNFPT ou un CDG."]
[]
[]
["Indicateur 1.4.1 : agents originaires de votre collectivité"]
["* par positions statutaires particulières (en lignes)"]
["Remarque : certaines rubriques ne concernent pas les contractuels sur emploi permanent :"]
["- position hors cadres ;"]
["- congé spécial ;"]
["- détachement."]
[]
["* par structures d’accueil (accueillantes) pour les fonctionnaires détachés dans une autre structure (en lignes)"]
[]
["* par types d'emploi  ou changement de filière pour les fonctionnaires détachés au sein de leur propre collectivité (en lignes)"]
[]
["* les agents mis à disposition dans une autre structure sont également recensés (en lignes)"]
[]
["* et selon le sexe (en colonnes)"]
[]
[]
["Indicateur 1.4.2 : agents détachés dans la collectivité et originaires d’une autre structure"]
["Remarque : cet indicateur concerne uniquement les fonctionnaires"]
[]
["* par structures d'origine (en lignes)"]
[]
["* et selon le type d'emploi croisé par le sexe (en colonnes)"]
[]
[]
["Indicateur 1.4.3 : recensement des agents mis à disposition de votre collectivité et originaires d’une autre structure selon le statut et le sexe"]
[]
[]
["Indicateur 1.4.4 : fonctionnaires pris en charge par le CNFPT ou un CDG"]
["Remarque : seuls le CNFPT et les CDG doivent renseigner cet indicateur"]
[]
["* par ancienneté (en lignes)"]
[]
["* et selon le sexe (en colonnes)"]

{"sheet":"IND 1.4.1-1.4.4","index":31,"n_rows":65,"n_cols":8,"rows_kept":65,"cut":false,"hidden":false,"merged":[[0,1,0,2],[2,0,2,3],[4,0,4,3],[6,0,6,3],[58,0,58,3],[35,0,35,6],[54,0,54,4],[37,0,38,0],[49,0,50,0],[37,1,37,2],[37,3,37,4],[37,5,37,6],[47,0,47,4],[49,1,49,2],[56,0,56,3],[49,3,49,4]]}
[null,"Retour Sommaire"]
[]
["1.4 - Nombre d'agents selon les positions statutaires particulières et par sexe au 31/12/2019"]
[]
["Champ : les tableaux qui suivent concernent les fonctionnaires et contractuels sur emploi permanent, en positions statutaires particulières au 31/12/2019."]
[]
["1.4.1 Nombre d'agents originaires de la collectivité"]
[null,1,2,0,"sexe"]
["au 31/12/2019","Hommes","Femmes","Total","position1"]
["En congé parental (article 75)\nFonctionnaires et contractuels",null,null,{"$f":"B10+C10","v":0},10]
["En disponibilité (article 72) hors ceux mis en disponibilité d'office ou bénéficiaires d'un congé équivalent pour les contractuels\nFonctionnaires et contractuels",null,null,0,20]
["dont disponibilité de droit                                      ",null,null,0,21]
["En disponibilité d'office ou bénéficiaires d'un congé équivalent\nFonctionnaires et contractuels",null,null,0,22]
["En position hors cadres (article 70)\nFonctionnaires uniquement",null,null,0,79]
["En congé spécial (article 99)\nFonctionnaires uniquement",null,null,0,80]
[]
[" Détachés dans une autre structure (article 64) \nFonctionnaires uniquement :","Hommes","Femmes","Total"]
["Fonction publique d'Etat",null,null,{"$f":"B18+C18","v":0},41]
["Fonction publique hospitalière",null,null,{"$f":"B19+C19","v":0},42]
["Autre collectivité",null,null,{"$f":"B20+C20","v":0},43]
["Autres structures*",null,null,{"$f":"B21+C21","v":0},44]
[]
["*Par exemple : fonction publique d'un Etat de l'Union européenne (FPEUE)."]
[]
["Détachés au sein de leur propre collectivité :\nFonctionnaires uniquement","Hommes","Femmes","Total"]
["Détachés sur un emploi fonctionnel dans leur collectivité",null,null,{"$f":"B26+C26","v":0},51]
["Détachés sur un emploi de cabinet dans leur collectivité",null,null,{"$f":"B27+C27","v":0},52]
["Changement de filière",null,null,{"$f":"B28+C28","v":0},53]
[]
["Mis à disposition dans une autre structure (articles 61 et 136) Fonctionnaires et contractuels","Hommes","Femmes","Total"]
["Ensemble",null,null,{"$f":"B31+C31","v":0},70]
["dont mis à disposition d'une organisation syndicale",null,null,{"$f":"B32+C32","v":0},71]
[]
[]
[]
["     1.4.2 Nombre d'agents originaires d'une autre structure "]
[]
["au 31/12/2019","Emploi non fonctionnel",null,"Emploi fonctionnel",null,"Emploi de cabinet"]
[null,"Hommes","Femmes","Hommes","Femmes","Hommes","Femmes"]
["Détachés dans votre collectivité et issus de :",1,1,2,2,3,3,"emploi3/position2"]
["Fonction publique d'Etat",null,null,null,null,null,null,1]
["Fonction publique hospitalière",null,null,null,null,null,null,2]
["Autre collectivité",null,null,null,null,null,null,3]
["Autres structures* ",null,null,null,null,null,null,4]
[null,1,2,1,2,1,2,"sexe"]
["*par exemple : fonction publique d'un Etat de l'Union européenne (FPEUE)."]
[]
["1.4.3 Nombre d'agents originaires d'une autre structure mis à disposition (*)"]
[null,1,1,2,2,"statut1"]
["au 31/12/2019","Fonctionnaires",null,"Contractuels sur\nemploi permanent",null,"position3"]
[null,"Hommes","Femmes","Hommes","Femmes"]
["Mis à disposition de votre collectivité",null,null,null,null,1]
["dont originaire de la fonction publique d'Etat",null,null,null,null,2]
[null,1,2,1,2,"sexe"]
["(*) Décret n° 2008-580 du 18 juin 2008 relatif au régime de la mise à disposition applicable aux collectivités territoriales et aux établissements publics administratifs locaux."]
[]
["1.4.4 Fonctionnaires pris en charge par le CDG ou le CNFPT (articles 53 et 97) "]
[]
["Remarque : seuls le CNFPT et les CDG doivent renseigner cet indicateur"]
[null,1,2,0,"sexe"]
["au 31/12/2019","Hommes","Femmes","Total","position4"]
["Depuis moins d'1 an",null,null,{"$f":"SUM(B62:C62)","v":0},1]
["De 1 an à moins de 2 ans",null,null,{"$f":"SUM(B63:C63)","v":0},2]
["De 2 ans à moins de 5 ans",null,null,{"$f":"SUM(B64:C64)","v":0},3]
["5 ans et plus",null,null,{"$f":"SUM(B65:C65)","v":0},4]

{"sheet":"Fiche 1.5.0","index":32,"n_rows":55,"n_cols":4,"rows_kept":55,"cut":false,"hidden":false,"merged":[[43,0,43,11],[8,0,8,7],[10,0,10,7],[22,0,22,7],[18,0,18,11],[12,0,12,7],[14,0,14,7],[16,0,16,7],[20,0,20,7],[39,0,39,11],[40,0,40,11],[31,0,31,7],[26,0,26,7],[23,0,23,7],[24,0,24,7],[0,3,0,4],[4,0,4,7],[5,0,5,7],[2,0,2,16],[42,0,42,7],[35,0,35,7],[34,0,34,7],[36,0,36,7],[38,0,38,7],[41,0,41,16],[33,0,33,7],[28,0,28,11],[29,0,29,16],[27,0,27,7],[32,0,32,7],[30,0,30,16],[52,0,52,7],[44,0,44,7],[47,0,47,7],[48,0,48,7],[50,0,50,7],[49,0,49,11],[45,0,45,11]]}
[null,null,null,"Retour Sommaire"]
[]
["1.5.0- Départs dans l'année 2019"]
[]
["L’indicateur 1.5.0. recense les effectifs en nombre de personnes physiques (1 personne = 1 unité)."]
["Ne pas remplir les cellules grisées (pré remplies par un zéro) qui font l’objet de calculs automatiques."]
[]
[]
["Quels sont les agents à recenser ?"]
[]
["* les fonctionnaires "]
[]
["* et les contractuels occupant un emploi permanent (cf. fiche 1.2.1.)"]
[]
["* ayant quitté votre collectivité au cours de l’année 2019"]
[]
["* pour ce qui correspond au dernier mouvement de l'année "]
[]
["Remarque : Les agents contractuels qui ont cumulé des contrats avec des périodes fréquentes d'interruption ne doivent être comptés qu'une fois."]
[]
["Comment sont-ils recensés ?"]
[]
["* par statut :"]
["- tableau 1.5.0.1 : fonctionnaires "]
["- tableau 1.5.0.2 : contractuels occupant un emploi permanent "]
[]
["* selon le motif de leur départ, qu'il soit temporaire ou définitif (en lignes)"]
["motifs communs aux fonctionnaires et contractuels (tableaux 1.5.0.1 et 1.5.0.2) :"]
["- mise à disposition totale auprès d’une autre collectivité ou structure (articles 25 et 61 de la loi du 26 janvier 1984) "]
["- congé formation  (article 57 - 6° de la loi du 26 janvier 1984), subdivisé en \"moins d'un an\" et \"au-delà d'un an\" (Remarque : ne pas comptabiliser les agents en décharge d’activité de courte durée pour leur permettre de suivre un stage de formation)"]
["- congé parental (article 75 de la loi du 26 janvier 1984 pour les fonctionnaires - article 14 du décret n° 88-145 du 15 février 1988 pour les contractuels) "]
["- démission (article 96 de la loi du 26 janvier 1984) "]
["- départ à la retraite "]
["- licenciement "]
["- décès "]
["- transfert de compétence "]
["- autres (révocation, abandon de poste, perte de la nationalité française, etc.)"]
[]
["motifs concernant uniquement les fonctionnaires (tableau 1.5.0.1)  :"]
["- décharge totale d’activité de service pour exercice d’un mandat syndical (article 100-1 de la loi du 26 janvier 1984) "]
["- détachement auprès d’une autre collectivité ou structure (article 64 de la loi du 26 janvier 1984) ;"]
["- placement dans une position autre que l'activité ou le détachement (hors congé parental cité plus haut) : mise en disponibilité (de droit ou sur demande), congé parental, accomplissement du service national, congé spécial (articles 72  et 99 de la loi du 26 janvier 1984) ; "]
["- mutation dans une autre collectivité (article 51 de la loi du 26 janvier 1984) ;"]
["- fin de détachement auprès de votre collectivité d’un fonctionnaire issu d’une autre collectivité ou d’une autre Fonction Publique ;"]
["- décharge d'emploi et de fonction (autre que pour exercice d'un mandat syndical)"]
["- prise en charge par le CNFPT ou un CDG à l’issue de la période de surnombre (article 97 de la loi du 26 janvier 1984) ;"]
[]
["motifs concernant uniquement les contractuels (tableau 1.5.0.2)  :"]
["- congé sans traitement (convenances personnelles, suivi de conjoint) "]
["- fin de contrat non suivie d’une titularisation ou d’une nomination stagiaire (remplaçant et autre)"]
["- Agent contractuel nommé stagiaire au sein de la collectivité au cours de l'année"]
[]
["*selon le sexe et la catégorie hiérarchique (en colonnes)"]
[]
["Exemples de mouvements au sein de la collectivité"]

{"sheet":"IND 1.5.0","index":33,"n_rows":66,"n_cols":11,"rows_kept":66,"cut":false,"hidden":false,"merged":[[18,2,18,5],[18,6,18,9],[2,0,2,1],[12,0,12,2],[15,0,15,9],[6,0,6,9],[3,6,3,7],[0,2,0,3],[2,6,2,7],[3,0,3,1],[3,2,3,3],[3,4,3,5],[2,4,2,5],[2,2,2,3],[55,0,63,0],[46,0,46,9],[20,0,28,0],[29,0,39,0],[50,0,54,0],[48,2,48,5],[48,6,48,9]]}
[null,null,"Retour Sommaire"]
[]
["Nombre d'agents sur emploi permanent au 31/12/2018",null,"Nombre d'arrivées dans la collectivité en 2019",null,"Nombre de départs de la collectivité en 2019",null,"Nombre d'agents sur emploi permanent au 31/12/2019"]
[{"$f":"G4+E4-C4","v":0},null,{"$f":"'IND 1.5.2'!S93-'IND 1.5.2'!H93-'IND 1.5.2'!R93-'IND 1.5.2'!C93-'IND 1.5.2'!D93-'IND 1.5.2'!F93-'IND 1.5.2'!G93 + 'IND 1.5.3'!F12+'IND 1.5.3'!F13+'IND 1.5.3'!F98","v":0},null,{"$f":"F41+J41-F21-J21-F22-J22-F39-J39+F65+J65-F51-J51-F63-J63","v":0},null,{"$f":"'IND 1.1.1'!I376+'IND 1.2.1'!K91","v":0}]
[]
[]
["1.5.0 - Départs dans l'année 2019, par motifs de départ et selon le sexe et la catégorie"]
[]
["Champ : les tableaux qui suivent concernent d'une part les agents titulaires et stagiaires et, d'autre part, les agents contractuels sur emploi permanent"]
["Remarque : prendre en compte uniquement le dernier mouvement de l'année. Les agents contractuels qui ont cumulé des contrats avec des périodes fréquentes d'interruption ne doivent être comptés qu'une fois."]
[]
["Code couleur"]
["Agent rémunéré par la collectivité d'origine suite à son départ \"temporaire\" au cours de l'année 2019"]
["Agent non rémunéré ou indemnisé par la collectivité d'origine suite à son départ \"temporaire\" ou définitif au cours de l'année 2019"]
[]
["1.5.0.1 - Départs des fonctionnaires au cours de l'année 2019"]
[]
[null,null,1,1,1,1,2,2,2,2,"sexe"]
[null,"Fonctionnaires sur emploi permanent","Hommes",null,null,null,"Femmes"]
[null,"Motif de départ définitif ou \"temporaire\"","Cat. A","Cat. B","Cat. C","Total","Cat. A","Cat. B","Cat. C","Total","mouvement"]
["Départs \"temporaires\"",". Mise à disposition dans une autre collectivité \nou structure (articles 25 et 61 de la loi du 26 janvier 1984 ; ne prendre en compte que les mises à disposition complètes)",null,null,null,{"$f":"SUM(C21:E21)","v":0},null,null,null,{"$f":"SUM(G21:I21)","v":0},11]
[null,". Décharge totale de service pour exercice de mandats syndicaux (article 100)",null,null,null,0,null,null,null,0,14]
[null,". Congé formation indemnisé par la collectivité (max 1 an ; article 57 - 6° de la loi du 26 janvier 1984)",null,null,null,0,null,null,null,0,15]
[null,". Congé formation au-delà d'un an (article 57 - 6° de la loi du 26 janvier 1984)",null,null,null,0,null,null,null,0,20]
[null,". Détachement dans une autre structure (fonction publique d'Etat, fonction publique hospitalière ; article 64 de la loi du 26 janvier 1984)",null,null,null,0,null,null,null,0,12]
[null,". Mise en disponibilité",{"$f":"SUM(C27:C28)","v":0},{"$f":"SUM(D27:D28)","v":0},{"$f":"SUM(E27:E28)","v":0},0,{"$f":"SUM(G27:G28)","v":0},{"$f":"SUM(H27:H28)","v":0},{"$f":"SUM(I27:I28)","v":0},0,13]
[null,"                 - de droit",null,null,null,0,null,null,null,0,25]
[null,"             - sur demande",null,null,null,0,null,null,null,0,26]
[null,". Congé parental",null,null,null,{"$f":"SUM(C29:E29)","v":0},null,null,null,{"$f":"SUM(G29:I29)","v":0},21]
["Départs  \"définitifs\"",". Mutation (changement de collectivité ; article 51 de la loi du 26 janvier 1984)",null,null,null,0,null,null,null,0,16]
[null,". Fin de détachement dans votre collectivité (agents originaires d'autres structures:fonction publique d'Etat, fonction publique hospitalière, …dont le détachement dans votre collectivité s'est terminé dans l'année 2019)",null,null,null,0,null,null,null,0,17]
[null,". Décharge d'emploi et de fonctions pour exercice d'un mandat syndical",null,null,null,0,null,null,null,0,18]
[null,". Agent pris en charge par le CNFPT ou le CDG",null,null,null,0,null,null,null,0,22]
[null,". Démission",null,null,null,0,null,null,null,0,19]
[null,". Départ à la retraite",null,null,null,0,null,null,null,0,"1C"]
[null,". Licenciement",null,null,null,0,null,null,null,0,"1D"]
[null,". Décès",null,null,null,0,null,null,null,0,"1E"]
[null,". Transfert de compétence",null,null,null,0,null,null,null,0,"1G"]
[null,". Congé spécial",null,null,null,0,null,null,null,0,"1J"]
[null,". Autres cas (révocation, abandon de poste, perte de la nationalité française, etc.)",null,null,null,0,null,null,null,0,"1F"]
[null," Total",{"$f":"SUM(C21:C40)-C26","v":0},{"$f":"SUM(D21:D40)-D26","v":0},0,0,0,0,0,{"$f":"SUM(J21:J40)-J26","v":0},"1Z"]
[null,null,1,2,3,0,1,2,3,0,"categ"]
[]
[]
[]
[]
["1.5.0.2 - Départs des contractuels sur emploi permanent au cours de l'année 2019"]
[null,null,1,1,1,1,2,2,2,2,"sexe"]
[null,"Contractuels sur emploi permanent","Hommes",null,null,null,"Femmes"]
[null,"Motif de départ","Cat. A","Cat. B","Cat. C","Total","Cat. A","Cat. B","Cat. C","Total","mouvement"]
["Départs \"temporaires\"",". Mise à disposition dans une autre collectivité \nou structure  (articles 25 et 61 de la loi du 26 janvier 1984 ; ne prendre en compte que les mises à disposition complètes - ne concerne que les agents en CDI)",null,null,null,{"$f":"SUM(C51:E51)","v":0},null,null,null,{"$f":"SUM(G51:I51)","v":0},11]
[null,". Congé formation rémunéré par la collectivité (max 1 an ; article 57 - 6° de la loi du 26 janvier 1984)",null,null,null,0,null,null,null,0,15]
[null,". Congé formation au-delà d'un an ",null,null,null,0,null,null,null,0,20]
[null,". Congé parental",null,null,null,0,null,null,null,0,21]
[null,". Congés sans traitement (convenances personnelles, suivi de conjoint)",null,null,null,0,null,null,null,0,23]
["Départs  \"définitifs\"",". Démission",null,null,null,0,null,null,null,0,19]
[null,". Fin de contrat (ne pas inclure les agents contractuels mis en stage dans l'année 2019)",null,null,null,0,null,null,null,0,"1B"]
[null,"                 dont fin de contrat d'agent remplaçant article 3-1 (ne pas inclure les agents contractuels mis en stage dans l'année 2019)",null,null,null,0,null,null,null,0,"1H"]
[null,". Départ à la retraite",null,null,null,{"$f":"SUM(C59:E59)","v":0},null,null,null,{"$f":"SUM(G59:I59)","v":0},"1C"]
[null,". Licenciement",null,null,null,0,null,null,null,0,"1D"]
[null,". Décès",null,null,null,0,null,null,null,0,"1E"]
[null,". Transfert de compétence",null,null,null,0,null,null,null,0,"1G"]
[null,". Agent contractuel nommé stagiaire au sein de la collectivité au cours de l'année",null,null,null,0,null,null,null,0,"1K"]
[null,". Autres cas (révocation, abandon de poste, perte de la nationalité française, etc.)",null,null,null,0,null,null,null,0,"1F"]
[null," Total",{"$f":"SUM(C51:C64)-C58","v":0},0,0,0,0,0,0,0,"1Z"]
[null,null,1,2,3,0,1,2,3,0,"categ"]

{"sheet":"Fiche 1.5.1","index":34,"n_rows":34,"n_cols":3,"rows_kept":34,"cut":false,"hidden":false,"merged":[[0,2,0,3],[2,0,2,5],[5,0,5,5],[4,0,4,5],[15,0,15,5],[8,0,8,4],[10,0,10,5],[11,0,11,4],[13,0,13,5],[17,0,17,5],[32,0,32,5],[23,0,23,5],[24,0,24,5],[25,0,25,5],[27,0,27,5],[29,0,29,5],[30,0,30,5],[20,0,20,5],[22,0,22,5]]}
[null,null,"Retour Sommaire"]
[]
["1.5.1 - Arrivées d'agents sur emploi fonctionnel au cours de l'année 2019"]
[]
["L’indicateur 1.5.1. recense les effectifs en nombre de personnes physiques (1 personne = 1 unité)."]
["Ne pas remplir les cellules grisées (pré remplies par un zéro) qui font l’objet de calculs automatiques."]
[]
[]
["Quels sont les agents à recenser ?"]
[]
["* les fonctionnaires titulaires occupant un emploi fonctionnel en application de l'article 53 de la loi du 26 janvier 1984"]
["dont ceux appartenant au cadre d'emploi d'administrateur, d'attaché, d'ingénieur ou d'ingénieur en chef"]
[]
["* les agents contractuels recrutés sur un emploi fonctionnel en application de l'article 47 de la loi du 26 janvier 1984"]
[]
["* arrivés au cours de l'année 2019"]
[]
["* et rémunérés à la date du 31 décembre 2019 "]
[]
[]
["Comment sont-ils recensés ?"]
[]
["* par statut et fonction publique d'origine pour les fonctionnaires  : "]
[" - tableau 1 : fonctionnaires de la fonction publique territoriale "]
[" - tableau 2 : fonctionnaires issus d'une autre administration (FPE, FPH) "]
[" - tableau 3 : contractuels sur emplois permanents"]
[]
["* par emplois fonctionnels dans les filières concernées (administratives, techniques et d'incendie et secours ; en lignes)"]
[]
["* par cadre d'emplois  croisé par le sexe pour les fonctionnaires (en colonnes ; tableaux 1 et 2) "]
["       - les fonctionnaires des filières administratives et techniques occupant un emploi fonctionnel de direction doivent être recensés selon leur grade de détachement. Parmi ceux-ci, on comptabilise ceux relevant des cadres d'emplois d'administrateur, d'attaché ou d'ingénieur."]
[]
["* par sexe pour les contractuels sur emploi permanent (en colonnes ; tableau 3) "]
["       - les contractuels sur emploi permanent sont recensés uniquement sur l'emploi fonctionnel occupé."]

{"sheet":"IND 1.5.1","index":35,"n_rows":53,"n_cols":12,"rows_kept":53,"cut":false,"hidden":false,"merged":[[5,0,5,10],[0,2,0,3],[8,0,10,0],[9,1,9,2],[9,3,9,4],[9,5,9,6],[2,0,2,10],[8,1,8,10],[9,7,9,8],[9,9,9,10],[40,0,42,0],[40,1,41,2],[24,0,26,0],[25,1,25,2],[24,1,24,10],[25,7,25,8],[25,5,25,6],[25,3,25,4],[25,9,25,10]]}
[null,null,"Retour Sommaire"]
[]
["1.5.1 - Arrivées d'agents sur emploi fonctionnel au cours de l'année 2019, par statut d'origine, selon le grade de détachement et le sexe"]
[]
[]
["Champ : les tableaux qui suivent concernent les fonctionnaires et contractuels occupant un emploi fonctionnel, arrivés en 2019 et rémunérés au 31/12/2019."]
[]
["Tableau 1 : Fonctionnaires de la fonction publique territoriale"]
["Arrivées en 2019","Fonctionnaires de la fonction publique territoriale"]
[null,"Administrateurs",null,"Attachés",null,"Ingénieurs en chef",null,"Ingénieurs",null,"Autres"]
[null,"Hommes","Femmes","Hommes","Femmes","Hommes","Femmes","Hommes","Femmes","Hommes","Femmes"]
["Emplois fonctionnels administratifs :",1,2,1,2,1,2,1,2,1,2,"sexe/emploi1"]
["Directeur général des services ou directeur",null,null,null,null,null,null,null,null,null,null,"TAU2"]
["Directeur général adjoint des services ou directeur adjoint",null,null,null,null,null,null,null,null,null,null,"TAU1"]
["Emplois fonctionnels techniques :"]
["Directeur général des services techniques",null,null,null,null,null,null,null,null,null,null,"TTU2"]
["Directeur des services techniques",null,null,null,null,null,null,null,null,null,null,"TTU1"]
["Emplois fonctionnels d'incendie et secours :"]
["Directeur départemental des services d'incendie et secours",null,null,null,null,null,null,null,null,null,null,"TRB2"]
["Directeur départemental adjoint des services d'incendie et secours",null,null,null,null,null,null,null,null,null,null,"TRB1"]
["TOTAL EMPLOIS FONCTIONNELS",{"$f":"B13+B14+B16+B17+B19+B20","v":0},{"$f":"C13+C14+C16+C17+C19+C20","v":0},0,0,0,0,0,0,0,0,"00X3"]
[null,1,1,2,2,3,3,4,4,5,5,"origine"]
[]
["Tableau 2 : Fonctionnaires issus d'une autre administration (FPE, FPH)"]
["Arrivées en 2019","Fonctionnaires issus d'une autre administration (FPE, FPH)"]
[null,"Administrateurs",null,"Attachés",null,"Ingénieurs en chef",null,"Ingénieurs",null,"Autres"]
[null,"Hommes","Femmes","Hommes","Femmes","Hommes","Femmes","Hommes","Femmes","Hommes","Femmes"]
["Emplois fonctionnels administratifs :",1,2,1,2,1,2,1,2,1,2,"sexe/emploi1"]
["Directeur général des services ou directeur",null,null,null,null,null,null,null,null,null,null,"TAU2"]
["Directeur général adjoint des services ou directeur adjoint",null,null,null,null,null,null,null,null,null,null,"TAU1"]
["Emplois fonctionnels techniques :"]
["Directeur général des services techniques",null,null,null,null,null,null,null,null,null,null,"TTU2"]
["Directeur des services techniques",null,null,null,null,null,null,null,null,null,null,"TTU1"]
["Emplois fonctionnels d'incendie et secours :"]
["Directeur départemental des services d'incendie et secours",null,null,null,null,null,null,null,null,null,null,"TRB2"]
["Directeur départemental adjoint des services d'incendie et secours",null,null,null,null,null,null,null,null,null,null,"TRB1"]
["TOTAL EMPLOIS FONCTIONNELS",{"$f":"B29+B30+B32+B33+B35+B36","v":0},0,0,0,0,0,0,0,0,0,"00X3"]
[null,1,1,2,2,3,3,4,4,5,5,"origine"]
[]
["Tableau 3 : Contractuels sur emploi permanent"]
["Arrivées en 2019","Contractuels sur emploi permanent"]
[]
[null,"Hommes","Femmes"]
["Emplois fonctionnels administratifs :",1,2,"sexe/emploi1"]
["Directeur général des services ou directeur",null,null,"TAU2"]
["Directeur général adjoint des services ou directeur adjoint",null,null,"TAU1"]
["Emplois fonctionnels techniques :"]
["Directeur général des services techniques",null,null,"TTU2"]
["Directeur des services techniques",null,null,"TTU1"]
["Emplois fonctionnels d'incendie et secours :"]
["Directeur départemental des services d'incendie et secours",null,null,"TRB2"]
["Directeur départemental adjoint des services d'incendie et secours",null,null,"TRB1"]
["TOTAL EMPLOIS FONCTIONNELS",{"$f":"B45+B46+B48+B49+B51+B52","v":0},{"$f":"C45+C46+C48+C49+C51+C52","v":0},"00X3"]

{"sheet":"Fiche 1.5.2","index":36,"n_rows":44,"n_cols":4,"rows_kept":44,"cut":false,"hidden":false,"merged":[[28,0,28,7],[14,0,14,7],[16,0,16,7],[9,0,9,7],[26,0,26,7],[27,0,27,7],[11,0,11,7],[13,0,13,7],[21,0,21,7],[25,0,25,7],[22,0,22,7],[24,0,24,7],[19,0,19,7],[0,3,0,4],[2,0,2,7],[4,0,4,7],[5,0,5,7],[8,0,8,7],[43,0,43,7],[29,0,29,7],[30,0,30,7],[31,0,31,7],[33,0,33,7],[34,0,34,7],[41,0,41,7],[35,0,35,7],[37,0,37,7],[39,0,39,7],[38,0,38,7]]}
[null,null,null,"Retour Sommaire"]
[]
["1.5.2 - Arrivées de fonctionnaires dans l'année 2019"]
[]
["L’indicateur 1.5.2. recense les effectifs en nombre de personnes physiques (1 personne = 1 unité)."]
["Ne pas remplir les cellules grisées (pré remplies par un zéro) qui font l’objet de calculs automatiques."]
[]
[]
["Quels sont les agents à recenser ?"]
["* les fonctionnaires stagiaires et titulaires (cf. fiche 1.1.1.)"]
[]
["* recrutés dans votre collectivité au cours de l’année 2019"]
[]
["* pour ce qui correspond au premier mouvement de l'année "]
["Exemple : les agents qui demeurent dans la collectivité après un changement de statut ne doivent pas être comptés ici."]
[]
["* et rémunérés à la date du 31 décembre 2019"]
[]
[]
["Comment sont-ils recensés ?"]
[]
["* par filière déclinée par cadre d'emplois (en lignes)"]
["Remarque importante : les fonctionnaires recrutés sur un emploi fonctionnel de direction doivent être comptabilisés uniquement dans leurs cadres d'emplois et grades respectifs même s'ils ont déjà été comptabilisés dans l'indicateur 1.5.1."]
[]
["* selon le motif de recrutement"]
["- colonnes 1.5.2(0) à 1.5.2(2) : par recrutement direct "]
["- colonnes 1.5.2(3) à 1.5.2(5) : par voie de concours ou de sélection professionnelle "]
["- colonne 1.5.2(6) : recrutement correspondant à l'article 38 de la loi du 26 janvier 1984 "]
["- colonne 1.5.2(7) : par intégration directe (article 13bis alinéa 1 et 14 de la loi du 13 juillet 1983, et article 68-1 de la loi du 26 janvier 1984)"]
["- colonne 1.5.2(8) : par voie de mutation d’une autre collectivité "]
["- colonnes 1.5.2(9) à 1.5.2(12) : par voie de détachement d’une autre structure "]
["Remarque : Ne pas comptabiliser les fonctionnaires détachés au sein de votre collectivité."]
[]
["- colonne 1.5.2(13) : par transfert de compétence (dont reprise d'activité) "]
["- colonnes 1.5.2(14) et 1.5.2(15) : par voie de réintégration après une disponibilité ou autre (congé parental, détachement) "]
["- colonne 1.5.2(16) : retour d'agents en position particulière."]
[]
["* selon les caractéristiques de leur emploi et le sexe (en colonnes) "]
["- colonnes 1.5.2(17) et 1.5.2(18) : temps complet"]
["- colonnes 1.5.2(19) et 1.5.2(20) : temps non complet"]
[]
["Rappel (cf. fiche 1.1.1) : ne pas confondre \"temps non complet\" qui est une caractéristique de l'emploi (exprimée en 35èmes) et \"temps partiel\" qui est une modalité d'exercice (exprimée en pourcentage de temps plein) pour un agent occupant un emploi à temps complet."]
[]
["Remarque : les agents recensés dans les colonnes 1.5.2(0) à 1.5.2(16) sont à nouveau recensés dans les colonnes 1.5.2(17) à 1.5.2(20), tous motifs de recrutement confondus. Par conséquent, le total des colonnes 1.5.2(0) à 1.5.2(16) doit être égal au total des colonnes 1.5.2(17) à 1.5.2(20)."]

{"sheet":"IND 1.5.2","index":37,"n_rows":95,"n_cols":24,"rows_kept":95,"cut":false,"hidden":false,"merged":[[0,5,0,6],[4,0,4,8],[5,0,5,9],[2,0,2,22],[12,13,13,13],[10,19,10,22],[12,14,13,14],[10,0,14,0],[12,10,13,10],[12,21,12,22],[12,19,12,20],[12,7,13,7],[11,19,11,22],[12,11,13,11],[12,12,13,12],[11,10,11,13],[12,4,12,6],[12,1,12,3],[12,8,13,8],[10,1,10,17],[12,17,13,17],[11,14,11,17],[12,15,12,16],[12,9,13,9],[11,1,11,9]]}
[null,null,null,null,null,"Retour Sommaire"]
[]
["1.5.2 - Arrivées de fonctionnaires dans l'année 2019, par cadre d'emplois, selon le motif de recrutement "]
[]
["Champ : le tableau qui suit concerne les fonctionnaires occupant un emploi permanent, arrivés au cours de l'année 2019 et rémunérés au 31/12/2019."]
["Remarque importante : les agents recrutés sur des emplois fonctionnels doivent être uniquement comptabilisés dans leurs cadres d'emplois d'origine."]
[]
["FPE : Fonction publique d'Etat,      FPH : Fonction publique hospitalière,      FPEUE : Fonction publique d'un Etat de l'Union Européenne"]
[]
[null,11,13,15,21,22,23,30,40,50,61,62,63,64,80,70,71,90,"00",1,2,1,2,"recrutement/sexe"]
["Recrutements","Fonctionnaires",null,null,null,null,null,null,null,null,null,null,null,null,null,null,null,null,null,"Fonctionnaires"]
[null,"Par",null,null,null,null,null,null,null,null,"Par voie de détachement d'agents",null,null,null,"Par",null,null,null,null,"Recrutements"]
[null," Recrutement direct",null,null,"Voie de concours, Sélection pro",null,null,"Article 38","Intégration directe","Voie de mutation","de la FPE","de la FPH","d'autres collectivités territoriales","d'autres organismes (par ex.: FPEUE)","Transfert de compétence","Réintégration\nagents non rémunérés pendant la période d'absence :",null,"Retours d'agents en positions particulières ayant été rémunérés pendant la période d'absence","Total","Temps complet",null,"Temps non complet"]
[null,"Nouvel arrivant dans la collectivité","Agent déjà présent en 2019 en tant que contractuel permanent","Agent déjà présent en 2019 en tant que contractuel non permanent ","Lauréat nouvel arrivant dans la collectivité","Lauréat déjà présent en 2019 en tant que contractuel permanent","Lauréat déjà présent en 2019 en tant que contractuel non permanent",null,null,null,null,null,null,null,null,"retour de disponibilité","autres cas",null,null,"Hommes","Femmes","Hommes","Femmes"]
[null,"1.5.2 (0)","1.5.2 (1)","1.5.2 (2)","1.5.2(3)"," 1.5.2(4)"," 1.5.2(5)","1.5.2 (6)","1.5.2(7)","1.5.2(8)","1.5.2(9)","1.5.2(10)","1.5.2(11)","1.5.2(12)","1.5.2(13)","1.5.2(14)","1.5.2(15)","1.5.2(16)",null,"1.5.2(17)","1.5.2(18)","1.5.2(19)"," 1.5.2(20)"]
["FILIERE ADMINISTRATIVE",null,null,null,null,null,null,null,null,null,null,null,null,null,null,null,null,null,null,10,10,20,20,"temps"]
["Administrateurs",null,null,null,null,null,null,null,null,null,null,null,null,null,null,null,null,null,{"$f":"SUM(B17:R17)","v":0},null,null,null,null,"AD"]
["Attachés",null,null,null,null,null,null,null,null,null,null,null,null,null,null,null,null,null,0,null,null,null,null,"AT"]
["Secrétaires de mairie",null,null,null,null,null,null,null,null,null,null,null,null,null,null,null,null,null,0,null,null,null,null,"AS"]
["Rédacteurs",null,null,null,null,null,null,null,null,null,null,null,null,null,null,null,null,null,0,null,null,null,null,"AR"]
["Adjoints administratifs",null,null,null,null,null,null,null,null,null,null,null,null,null,null,null,null,null,0,null,null,null,null,"AJ"]
["FILIERE ADMINISTRATIVE",{"$f":"SUM(B17:B21)","v":0},0,0,0,0,0,0,0,0,0,0,0,0,0,0,0,0,0,{"$f":"SUM(T17:T21)","v":0},{"$f":"SUM(U17:U21)","v":0},{"$f":"SUM(V17:V21)","v":0},{"$f":"SUM(W17:W21)","v":0},"A"]
["FILIERE TECHNIQUE"]
["Ingénieurs en chef",null,null,null,null,null,null,null,null,null,null,null,null,null,null,null,null,null,{"$f":"SUM(B24:R24)","v":0},null,null,null,null,"TN"]
["Ingénieurs",null,null,null,null,null,null,null,null,null,null,null,null,null,null,null,null,null,{"$f":"SUM(B25:R25)","v":0},null,null,null,null,"TP"]
["Techniciens ",null,null,null,null,null,null,null,null,null,null,null,null,null,null,null,null,null,0,null,null,null,null,"TT"]
["Agents de maîtrise",null,null,null,null,null,null,null,null,null,null,null,null,null,null,null,null,null,0,null,null,null,null,"TM"]
["Adjoints techniques",null,null,null,null,null,null,null,null,null,null,null,null,null,null,null,null,null,0,null,null,null,null,"TH"]
["Adjoints techniques des établissements d'enseignement",null,null,null,null,null,null,null,null,null,null,null,null,null,null,null,null,null,0,null,null,null,null,"TA"]
["FILIERE TECHNIQUE",{"$f":"SUM(B24:B29)","v":0},{"$f":"SUM(C24:C29)","v":0},0,0,0,0,0,0,0,0,0,0,0,0,0,0,0,0,{"$f":"SUM(T24:T29)","v":0},{"$f":"SUM(U24:U29)","v":0},{"$f":"SUM(V24:V29)","v":0},{"$f":"SUM(W24:W29)","v":0},"T"]
["FILIERE CULTURELLE"]
["Conservateurs du patrimoine",null,null,null,null,null,null,null,null,null,null,null,null,null,null,null,null,null,0,null,null,null,null,"CM"]
["Conservateurs des bibliothèques",null,null,null,null,null,null,null,null,null,null,null,null,null,null,null,null,null,0,null,null,null,null,"CH"]
["Attachés de conservation du patrimoine",null,null,null,null,null,null,null,null,null,null,null,null,null,null,null,null,null,0,null,null,null,null,"CA"]
["Bibliothécaires",null,null,null,null,null,null,null,null,null,null,null,null,null,null,null,null,null,0,null,null,null,null,"CB"]
["Directeurs d'établissements d'enseignement artistique",null,null,null,null,null,null,null,null,null,null,null,null,null,null,null,null,null,0,null,null,null,null,"CD"]
["Professeurs d'enseignement artistique",null,null,null,null,null,null,null,null,null,null,null,null,null,null,null,null,null,0,null,null,null,null,"CP"]
["Assistants de conservation du patrimoine et des bibliothèques",null,null,null,null,null,null,null,null,null,null,null,null,null,null,null,null,null,0,null,null,null,null,"CG"]
["Assistants d'enseignement artistique",null,null,null,null,null,null,null,null,null,null,null,null,null,null,null,null,null,0,null,null,null,null,"CS"]
["Adjoints territoriaux du patrimoine",null,null,null,null,null,null,null,null,null,null,null,null,null,null,null,null,null,0,null,null,null,null,"CJ"]
["FILIERE CULTURELLE",{"$f":"SUM(B32:B40)","v":0},0,0,0,0,0,0,0,0,0,0,0,0,0,0,0,0,0,{"$f":"SUM(T32:T40)","v":0},{"$f":"SUM(U32:U40)","v":0},{"$f":"SUM(V32:V40)","v":0},{"$f":"SUM(W32:W40)","v":0},"C"]
["FILIERE SPORTIVE"]
["Conseillers des APS",null,null,null,null,null,null,null,null,null,null,null,null,null,null,null,null,null,{"$f":"SUM(B43:R43)","v":0},null,null,null,null,"SC"]
["Educateurs des APS",null,null,null,null,null,null,null,null,null,null,null,null,null,null,null,null,null,{"$f":"SUM(B44:R44)","v":0},null,null,null,null,"SE"]
["Opérateurs des APS",null,null,null,null,null,null,null,null,null,null,null,null,null,null,null,null,null,{"$f":"SUM(B45:R45)","v":0},null,null,null,null,"SP"]
["FILIERE SPORTIVE",{"$f":"SUM(B43:B45)","v":0},0,{"$f":"SUM(D43:D45)","v":0},0,0,0,0,0,0,0,0,0,0,0,0,0,0,{"$f":"SUM(B46:R46)","v":0},{"$f":"SUM(T43:T45)","v":0},{"$f":"SUM(U43:U45)","v":0},{"$f":"SUM(V43:V45)","v":0},{"$f":"SUM(W43:W45)","v":0},"S"]
["FILIERE SOCIALE"]
["Conseillers socio-éducatifs",null,null,null,null,null,null,null,null,null,null,null,null,null,null,null,null,null,{"$f":"SUM(B48:R48)","v":0},null,null,null,null,"MM"]
["Assistants socio-éducatifs",null,null,null,null,null,null,null,null,null,null,null,null,null,null,null,null,null,0,null,null,null,null,"MT"]
["Educateurs de jeunes enfants",null,null,null,null,null,null,null,null,null,null,null,null,null,null,null,null,null,0,null,null,null,null,"ME"]
["Moniteurs-éducateurs et intervenants familiaux",null,null,null,null,null,null,null,null,null,null,null,null,null,null,null,null,null,0,null,null,null,null,"MB"]
["Agents spécialisés des écoles maternelles (ASEM)",null,null,null,null,null,null,null,null,null,null,null,null,null,null,null,null,null,0,null,null,null,null,"MD"]
["Agents sociaux",null,null,null,null,null,null,null,null,null,null,null,null,null,null,null,null,null,0,null,null,null,null,"MP"]
["FILIERE SOCIALE",{"$f":"SUM(B48:B53)","v":0},0,0,0,0,0,0,0,0,0,0,0,0,0,0,0,0,0,{"$f":"SUM(T48:T53)","v":0},{"$f":"SUM(U48:U53)","v":0},{"$f":"SUM(V48:V53)","v":0},{"$f":"SUM(W48:W53)","v":0},"M"]
["FILIERE MEDICO-SOCIALE"]
["Médecins",null,null,null,null,null,null,null,null,null,null,null,null,null,null,null,null,null,{"$f":"SUM(B56:R56)","v":0},null,null,null,null,"OD"]
["Psychologues ",null,null,null,null,null,null,null,null,null,null,null,null,null,null,null,null,null,0,null,null,null,null,"OH"]
["Sages-femmes",null,null,null,null,null,null,null,null,null,null,null,null,null,null,null,null,null,0,null,null,null,null,"OF"]
["Cadres de santé paramédicaux",null,null,null,null,null,null,null,null,null,null,null,null,null,null,null,null,null,0,null,null,null,null,"OG"]
["Puéricultrices cadres de santé",null,null,null,null,null,null,null,null,null,null,null,null,null,null,null,null,null,0,null,null,null,null,"OC"]
["Puéricultrices*",null,null,null,null,null,null,null,null,null,null,null,null,null,null,null,null,null,0,null,null,null,null,"OX"]
["Cadres de santé infirmiers, rééducateurs et assistants médico-techniques",null,null,null,null,null,null,null,null,null,null,null,null,null,null,null,null,null,0,null,null,null,null,"OA"]
["Infirmiers en soins généraux",null,null,null,null,null,null,null,null,null,null,null,null,null,null,null,null,null,0,null,null,null,null,"OB"]
["Infirmiers",null,null,null,null,null,null,null,null,null,null,null,null,null,null,null,null,null,0,null,null,null,null,"ON"]
["Auxiliaires de puériculture",null,null,null,null,null,null,null,null,null,null,null,null,null,null,null,null,null,0,null,null,null,null,"OJ"]
["Auxiliaires de soins",null,null,null,null,null,null,null,null,null,null,null,null,null,null,null,null,null,0,null,null,null,null,"OK"]
["FILIERE MEDICO-SOCIALE",{"$f":"SUM(B56:B66)","v":0},0,0,0,0,0,0,0,0,0,0,0,0,0,0,0,0,0,{"$f":"SUM(T56:T66)","v":0},{"$f":"SUM(U56:U66)","v":0},{"$f":"SUM(V56:V66)","v":0},{"$f":"SUM(W56:W66)","v":0},"O"]
["FILIERE MEDICO-TECHNIQUE"]
["Biologistes, vétérinaires, pharmaciens",null,null,null,null,null,null,null,null,null,null,null,null,null,null,null,null,null,{"$f":"SUM(B69:R69)","v":0},null,null,null,null,"EB"]
["Techniciens paramédicaux",null,null,null,null,null,null,null,null,null,null,null,null,null,null,null,null,null,{"$f":"SUM(B70:R70)","v":0},null,null,null,null,"ET"]
["FILIERE MEDICO-TECHNIQUE",{"$f":"SUM(B69:B70)","v":0},0,0,0,0,0,0,0,0,0,0,0,0,0,0,0,0,{"$f":"SUM(B71:R71)","v":0},{"$f":"SUM(T69:T70)","v":0},{"$f":"SUM(U69:U70)","v":0},{"$f":"SUM(V69:V70)","v":0},{"$f":"SUM(W69:W70)","v":0},"E"]
["FILIERE POLICE MUNICIPALE"]
["Directeur de police municipale",null,null,null,null,null,null,null,null,null,null,null,null,null,null,null,null,null,{"$f":"SUM(B73:R73)","v":0},null,null,null,null,"PU"]
["Chefs de service de police municipale",null,null,null,null,null,null,null,null,null,null,null,null,null,null,null,null,null,{"$f":"SUM(B74:R74)","v":0},null,null,null,null,"PC"]
["Agents de police municipale",null,null,null,null,null,null,null,null,null,null,null,null,null,null,null,null,null,{"$f":"SUM(B75:R75)","v":0},null,null,null,null,"PG"]
["Gardes-champêtres",null,null,null,null,null,null,null,null,null,null,null,null,null,null,null,null,null,{"$f":"SUM(B76:R76)","v":0},null,null,null,null,"PH"]
["FILIERE POLICE MUNICIPALE",{"$f":"SUM(B73:B76)","v":0},0,0,0,0,0,0,0,0,0,0,0,0,0,0,0,0,{"$f":"SUM(B77:R77)","v":0},{"$f":"SUM(T73:T76)","v":0},{"$f":"SUM(U73:U76)","v":0},{"$f":"SUM(V73:V76)","v":0},{"$f":"SUM(W73:W76)","v":0},"P"]
[]
["Contrôleurs, colonels",null,null,null,null,null,null,null,null,null,null,null,null,null,null,null,null,null,{"$f":"SUM(B79:R79)","v":0},null,null,null,null,"RH"]
["Capitaines, commandants, lieutenants-colonels",null,null,null,null,null,null,null,null,null,null,null,null,null,null,null,null,null,0,null,null,null,null,"RC"]
["Médecins, pharmaciens",null,null,null,null,null,null,null,null,null,null,null,null,null,null,null,null,null,0,null,null,null,null,"RD"]
["Lieutenants",null,null,null,null,null,null,null,null,null,null,null,null,null,null,null,null,null,0,null,null,null,null,"RL"]
["Cadres de santé",null,null,null,null,null,null,null,null,null,null,null,null,null,null,null,null,null,0,null,null,null,null,"RF"]
["Infirmiers",null,null,null,null,null,null,null,null,null,null,null,null,null,null,null,null,null,0,null,null,null,null,"RG"]
["Sous-officiers",null,null,null,null,null,null,null,null,null,null,null,null,null,null,null,null,null,0,null,null,null,null,"RS"]
["Sapeurs et caporaux",null,null,null,null,null,null,null,null,null,null,null,null,null,null,null,null,null,0,null,null,null,null,"RU"]
["FILIERE INCENDIE-SECOURS",{"$f":"SUM(B79:B86)","v":0},0,0,0,0,0,0,0,0,0,0,0,0,0,0,0,0,0,{"$f":"SUM(T79:T86)","v":0},{"$f":"SUM(U79:U86)","v":0},{"$f":"SUM(V79:V86)","v":0},{"$f":"SUM(W79:W86)","v":0},"R"]
["FILIERE ANIMATION"]
["Animateurs",null,null,null,null,null,null,null,null,null,null,null,null,null,null,null,null,null,{"$f":"SUM(B89:R89)","v":0},null,null,null,null,"NN"]
["Adjoints d'animation",null,null,null,null,null,null,null,null,null,null,null,null,null,null,null,null,null,{"$f":"SUM(B90:R90)","v":0},null,null,null,null,"NJ"]
["FILIERE ANIMATION",{"$f":"SUM(B89:B90)","v":0},0,0,0,0,0,0,0,0,0,0,0,0,0,0,0,0,{"$f":"SUM(B91:R91)","v":0},{"$f":"SUM(T89:T90)","v":0},{"$f":"SUM(U89:U90)","v":0},{"$f":"SUM(V89:V90)","v":0},{"$f":"SUM(W89:W90)","v":0},"N"]
[]
["TOTAL",{"$f":"B54+B67+B71+B77+B87+B91+B46+B41+B30+B22","v":0},{"$f":"C54+C67+C71+C77+C87+C91+C46+C41+C30+C22","v":0},0,0,0,0,0,0,0,0,0,0,0,0,0,0,0,0,0,0,0,0,"00"]
[]
["* Comptabiliser les puéricultrices du cadre d'emplois du décret n° 92-859 du 28 août 1992 modifié et du cadre d'emplois du décret n° 2014-923 du 18 août 2014."]

{"sheet":"Fiche 1.5.3","index":38,"n_rows":29,"n_cols":4,"rows_kept":29,"cut":false,"hidden":false,"merged":[[9,0,9,7],[11,0,11,7],[0,3,0,4],[2,0,2,7],[5,0,5,7],[6,0,6,7],[24,0,24,7],[26,0,26,7],[28,0,28,7],[13,0,13,7],[15,0,15,7],[17,0,17,7],[20,0,20,7],[22,0,22,7],[23,0,23,7]]}
[null,null,null,"Retour Sommaire"]
[]
["1.5.3 - Arrivées de contractuels sur emploi permanent dans l'année 2019"]
[]
[]
["L’indicateur 1.5.3. recense les effectifs en nombre de personnes physiques (1 personne = 1 unité)."]
["Ne pas remplir les cellules grisées (pré remplies par un zéro) qui font l’objet de calculs automatiques."]
[]
[]
["Quels sont les agents à recenser ?"]
[]
["* les agents contractuels"]
[]
["* sur un emploi permanent (cf. fiche 1.2.1 pour la notion d’emploi permanent)"]
[]
["* recrutés dans votre collectivité au cours de l’année 2019 "]
[]
["* et rémunérés en date du 31 décembre 2019"]
[]
[]
["Comment sont-ils recensés ?"]
[]
["* par type de recrutement :"]
["- tableau 1 : recrutement de remplaçants, réintégrations et retours (une ligne pour chacun) "]
["- tableau 2 : recrutement sur un emploi permanent, hors recrutements figurant dans le tableau 1."]
[]
["* par filières déclinées par cadres d'emplois (tableau 2 ; en lignes)"]
[]
["* selon les caractéristiques de leur emploi (temps complet ou non complet) et selon le sexe (tableaux 1 et 2 ;en colonnes) "]

{"sheet":"IND 1.5.3","index":39,"n_rows":101,"n_cols":7,"rows_kept":101,"cut":false,"hidden":false,"merged":[[2,0,2,5],[0,1,0,2],[9,1,9,2],[9,3,9,4],[100,0,100,5],[17,0,18,0],[17,1,17,5],[8,1,8,5],[9,5,10,5],[18,1,18,2],[18,3,18,4],[18,5,19,5],[8,0,10,0]]}
[null,"Retour Sommaire"]
[]
["1.5.3 - Arrivées de contractuels sur emploi permanent dans l'année 2019, par filière et cadre d'emplois, selon les caractéristiques de l'emploi et le sexe"]
[]
[]
["Champ : les tableaux suivants concernent les agents contractuels sur un emploi permanent, arrivés au cours de l'année 2019 et rémunérés au 31/12/2019"]
[]
["Tableau 1 : recrutements de remplaçants, réintégrations et retours"]
[null,"Contractuels\n"]
[null,"Temps complet",null,"Temps non complet",null,"Total"]
[null,"Hommes","Femmes","Hommes","Femmes",null,"cadre1"]
["Remplaçants",null,null,null,null,{"$f":"SUM(B12:E12)","v":0},"XA"]
["Réintégration (agent non rémunéré pendant la période) ",null,null,null,null,{"$f":"SUM(B13:E13)","v":0},"XB"]
["Retours (agent rémunéré pendant la période)",null,null,null,null,{"$f":"SUM(B14:E14)","v":0},"XC"]
[]
[]
["Tableau 2 : recrutements sur emploi permanent (hors remplaçants, réintégrations et retours)"]
[null,"Contractuels\n(assimilés aux cadres d'emplois)"]
[null,"Temps complet",null,"Temps non complet",null,"Total"]
["Cadres d'emplois","Hommes","Femmes","Hommes","Femmes"]
["FILIERE ADMINISTRATIVE"]
["Administrateurs",null,null,null,null,{"$f":"SUM(B22:E22)","v":0},"AD"]
["Attachés",null,null,null,null,0,"AT"]
["Secrétaires de mairie",null,null,null,null,0,"AS"]
["Rédacteurs",null,null,null,null,0,"AR"]
["Adjoints administratifs",null,null,null,null,0,"AJ"]
["FILIERE ADMINISTRATIVE",{"$f":"SUM(B22:B26)","v":0},{"$f":"SUM(C22:C26)","v":0},{"$f":"SUM(D22:D26)","v":0},{"$f":"SUM(E22:E26)","v":0},0,"A"]
["FILIERE TECHNIQUE"]
["Ingénieurs en chef",null,null,null,null,{"$f":"SUM(B29:E29)","v":0},"TN"]
["Ingénieurs",null,null,null,null,0,"TP"]
["Techniciens ",null,null,null,null,0,"TT"]
["Agents de maîtrise",null,null,null,null,0,"TM"]
["Adjoints techniques",null,null,null,null,0,"TH"]
["Adjoints techniques des établissements d'enseignement",null,null,null,null,0,"TA"]
["FILIERE TECHNIQUE",{"$f":"SUM(B29:B34)","v":0},{"$f":"SUM(C29:C34)","v":0},{"$f":"SUM(D29:D34)","v":0},{"$f":"SUM(E29:E34)","v":0},{"$f":"SUM(F29:F34)","v":0},"T"]
["FILIERE CULTURELLE"]
["Conservateurs du patrimoine",null,null,null,null,{"$f":"SUM(B37:E37)","v":0},"CM"]
["Conservateurs des bibliothèques",null,null,null,null,{"$f":"SUM(B38:E38)","v":0},"CH"]
["Attachés de conservation du patrimoine",null,null,null,null,0,"CA"]
["Bibliothécaires",null,null,null,null,0,"CB"]
["Directeurs d'établissements d'enseignement artistique",null,null,null,null,0,"CD"]
["Professeurs d'enseignement artistique",null,null,null,null,0,"CP"]
["Assistants de conservation du patrimoine et des bibliothèques",null,null,null,null,0,"CG"]
["Assistants d'enseignement artistique",null,null,null,null,0,"CS"]
["Adjoints territoriaux du patrimoine",null,null,null,null,0,"CJ"]
["FILIERE CULTURELLE",{"$f":"SUM(B37:B45)","v":0},{"$f":"SUM(C37:C45)","v":0},{"$f":"SUM(D37:D45)","v":0},{"$f":"SUM(E37:E45)","v":0},0,"C"]
["FILIERE SPORTIVE"]
["Conseillers des APS",null,null,null,null,0,"SC"]
["Educateurs des APS",null,null,null,null,0,"SE"]
["Opérateurs des APS",null,null,null,null,0,"SP"]
["FILIERE SPORTIVE",{"$f":"SUM(B48:B50)","v":0},{"$f":"SUM(C48:C50)","v":0},{"$f":"SUM(D48:D50)","v":0},{"$f":"SUM(E48:E50)","v":0},0,"S"]
["FILIERE SOCIALE"]
["Conseillers socio-éducatifs",null,null,null,null,0,"MM"]
["Assistants socio-éducatifs",null,null,null,null,0,"MT"]
["Educateurs de jeunes enfants",null,null,null,null,0,"ME"]
["Moniteurs-éducateurs et intervenants familiaux",null,null,null,null,0,"MB"]
["Agents spécialisés des écoles maternelles (ASEM)",null,null,null,null,0,"MD"]
["Agents sociaux",null,null,null,null,0,"MP"]
["FILIERE SOCIALE",{"$f":"SUM(B53:B58)","v":0},{"$f":"SUM(C53:C58)","v":0},{"$f":"SUM(D53:D58)","v":0},{"$f":"SUM(E53:E58)","v":0},0,"M"]
["FILIERE MEDICO-SOCIALE"]
["Médecins",null,null,null,null,0,"OD"]
["Psychologues ",null,null,null,null,0,"OH"]
["Sages-femmes",null,null,null,null,0,"OF"]
["Cadres de santé paramédicaux",null,null,null,null,0,"OG"]
["Puéricultrices cadres de santé",null,null,null,null,0,"OC"]
["Puéricultrices*",null,null,null,null,0,"OX"]
["Cadres de santé infirmiers, rééducateurs et assistants médico-techniques",null,null,null,null,0,"OA"]
["Infirmiers en soins généraux",null,null,null,null,0,"OB"]
["Infirmiers",null,null,null,null,0,"ON"]
["Auxiliaires de puériculture",null,null,null,null,0,"OJ"]
["Auxiliaires de soins",null,null,null,null,0,"OK"]
["FILIERE MEDICO-SOCIALE",{"$f":"SUM(B61:B71)","v":0},{"$f":"SUM(C61:C71)","v":0},{"$f":"SUM(D61:D71)","v":0},{"$f":"SUM(E61:E71)","v":0},0,"O"]
["FILIERE MEDICO-TECHNIQUE"]
["Biologistes, vétérinaires, pharmaciens",null,null,null,null,0,"EB"]
["Techniciens paramédicaux",null,null,null,null,0,"ET"]
["FILIERE MEDICO-TECHNIQUE",{"$f":"SUM(B74:B75)","v":0},{"$f":"SUM(C74:C75)","v":0},{"$f":"SUM(D74:D75)","v":0},{"$f":"SUM(E74:E75)","v":0},0,"E"]
["FILIERE POLICE MUNICIPALE"]
["Directeur de police municipale",null,null,null,null,{"$f":"SUM(B78:E78)","v":0},"PU"]
["Chefs de service de police municipale",null,null,null,null,{"$f":"SUM(B79:E79)","v":0},"PC"]
["Agents de police municipale",null,null,null,null,{"$f":"SUM(B80:E80)","v":0},"PG"]
["Gardes-champêtres",null,null,null,null,{"$f":"SUM(B81:E81)","v":0},"PH"]
["FILIERE POLICE MUNICIPALE",{"$f":"SUM(B78:B81)","v":0},{"$f":"SUM(C78:C81)","v":0},{"$f":"SUM(D78:D81)","v":0},{"$f":"SUM(E78:E81)","v":0},{"$f":"SUM(B82:E82)","v":0},"P"]
["FILIERE INCENDIE ET SECOURS"]
["Contrôleurs, colonels",null,null,null,null,{"$f":"SUM(B84:E84)","v":0},"RH"]
["Capitaines, commandants, lieutenants-colonels",null,null,null,null,0,"RC"]
["Médecins, pharmaciens",null,null,null,null,0,"RD"]
["Lieutenants",null,null,null,null,0,"RL"]
["Cadres de santé",null,null,null,null,0,"RF"]
["Infirmiers",null,null,null,null,0,"RG"]
["Sous-officiers",null,null,null,null,0,"RS"]
["Sapeurs et caporaux",null,null,null,null,0,"RU"]
["FILIERE INCENDIE-SECOURS",{"$f":"SUM(B84:B91)","v":0},{"$f":"SUM(C84:C91)","v":0},{"$f":"SUM(D84:D91)","v":0},{"$f":"SUM(E84:E91)","v":0},0,"R"]
["FILIERE ANIMATION"]
["Animateurs",null,null,null,null,0,"NN"]
["Adjoints d'animation",null,null,null,null,0,"NJ"]
["FILIERE ANIMATION",{"$f":"SUM(B94:B95)","v":0},{"$f":"SUM(C94:C95)","v":0},{"$f":"SUM(D94:D95)","v":0},{"$f":"SUM(E94:E95)","v":0},0,"N"]
[]
["TOTAL",{"$f":"B96+B92+B82+B76+B72+B59+B51+B46+B35+B27","v":0},{"$f":"C96+C92+C82+C76+C72+C59+C51+C46+C35+C27","v":0},{"$f":"D96+D92+D82+D76+D72+D59+D51+D46+D35+D27","v":0},{"$f":"E96+E92+E82+E76+E72+E59+E51+E46+E35+E27","v":0},{"$f":"SUM(B98:E98)","v":0},"00"]
[null,10,10,20,20,"00","temps"]
[null,1,2,1,2,0,"sexe"]
["* Comptabiliser les puéricultrices du cadre d'emplois du décret n° 92-859 du 28 août 1992 modifié et du cadre d'emplois du décret n° 2014-923 du 18 août 2014."]

{"sheet":"Fiche 1.5.4-1.5.7","index":40,"n_rows":70,"n_cols":5,"rows_kept":70,"cut":false,"hidden":false,"merged":[[44,0,44,7],[67,0,67,7],[41,0,41,7],[65,0,65,7],[32,0,32,7],[34,0,34,7],[33,0,33,7],[37,0,37,7],[39,0,39,7],[69,0,69,7],[46,0,46,7],[49,0,49,7],[51,0,51,7],[53,0,53,7],[56,0,56,7],[60,0,60,7],[62,0,62,7],[58,0,58,7],[0,4,0,5],[2,0,2,7],[5,0,5,7],[6,0,6,7],[9,0,9,7],[11,0,11,7],[12,0,12,7],[20,0,20,7],[23,0,23,7],[25,0,25,7],[14,0,14,7],[13,0,13,7],[27,0,27,7],[30,0,30,7],[16,0,16,7],[17,0,17,7],[18,0,18,7]]}
[null,null,null,null,"Retour Sommaire"]
[]
["1.5.4-1.5.7 - Titularisations,  avancements, accompagnements professionnels dans l'année 2019"]
[]
[]
["Les indicateurs 1.5.4 à 1.5.7 recensent les effectifs en nombre de personnes physiques (1 personne = 1 unité)."]
["Ne pas remplir les cellules grisées (pré remplies par un zéro) qui font l’objet de calculs automatiques."]
[]
[]
["Quels sont les agents à recenser à l’indicateur 1.5.4 ?"]
[]
["* les fonctionnaires stagiaires ayant fait l’objet, au cours de l’année 2019, d’une décision :"]
["- de titularisation,"]
["- de prolongation exceptionnelle de stage,"]
["- de refus de titularisation."]
[]
["* les agents contractuels (sur emplois permanents ou non) ayant fait l’objet, au cours de l’année 2019, d’une décision :"]
["- de titularisation en application de l'article 38 de la loi du 26 janvier 1984 (travailleurs en situation de handicap),"]
["- de nomination stagiaire."]
[]
["* les nouveaux arrivants nommés directement stagiaires, au cours de l'année 2019."]
[]
[]
["Comment sont-ils recensés ?"]
[]
["* par statut initial, en fonction des objets de décisions (déclinés ci-dessus ; en lignes)"]
[]
["* et selon le sexe (en colonnes)"]
[]
[]
["Quels sont les agents à recenser à l’indicateur 1.5.5  ?"]
[]
["* les fonctionnaires ayant fait l’objet, au cours de l’année 2019, d’une décision d'avancement :"]
["- de grade"]
["- ou d’échelon"]
[]
[]
["Comment sont-ils recensés ?"]
[]
["* par type d'avancement (échelon ou grade), selon les modalités de l'avancement pour les grades (en lignes)"]
[]
["* et selon le sexe (en colonnes)"]
[]
[]
["Quels sont les agents à recenser à l’indicateur 1.5.6  ?"]
[]
["*  les fonctionnaires ayant bénéficié d'un avancement de grade au cours de l'année 2019 "]
[]
[]
["Comment sont-ils recensés ?"]
[]
["* par filière (en lignes)"]
[]
["* et selon la catégorie et le sexe (en colonnes)"]
[]
[]
["Quels sont les agents à recenser à l’indicateur 1.5.7  ?"]
[]
["*  les fonctionnaires "]
[]
["*  et les contractuels sur emploi permanent "]
[]
["*  ayant bénéficié d'un accompagnement par un conseiller en évolution professionnelle au cours de l'année 2019 "]
[]
[]
["Comment sont-ils recensés ?"]
[]
["* selon la catégorie (en lignes)"]
[]
["* et le sexe (en colonnes)"]

{"sheet":"IND 1.5.4-1.5.5","index":41,"n_rows":36,"n_cols":4,"rows_kept":36,"cut":false,"hidden":false,"merged":[[6,0,6,2],[0,1,0,2],[3,0,3,2],[20,0,20,2]]}
[null,"Retour Sommaire"]
[]
[]
["1.5.4-1.5.5 Titularisations et avancements dans l'année 2019"]
[]
[]
["1.5.4 Titularisations et stages au cours de l'année 2019"]
[]
["Champ : le tableau qui suit concerne les fonctionnaires, ayant fait l'objet d'une décision, au cours de l'année 2019."]
[null,1,2,"sexe/statut tit"]
[null,"Hommes","Femmes"]
["Agents stagiaires titularisés à l'issue de leur stage",null,null,10]
["Prolongation de stage",null,null,20]
["Titularisations prononcées en application de l'article 38 de la loi n° 84-53 du 26 janvier 1984 (travailleurs en situation de handicap)",null,null,30]
["Refus de titularisation",null,null,40]
["Nouveaux arrivants directement nommés stagiaires dans l'année 2019",null,null,50]
["Agents contractuels permanents (déjà présents) nommés stagiaires dans l'année 2019",null,null,60]
["Agents contractuels non permanents (déjà présents) nommés stagiaires dans l'année 2019",null,null,70]
[]
[]
["1.5.5 Avancements dans l'année 2019"]
[]
["Champ : le tableau qui suit concerne les fonctionnaires ayant connu un avancement d'échelon ou de grade, au cours de l'année 2019."]
[null,1,2,"sexe/avancement"]
["Nombre de fonctionnaires ayant connu au cours de l'année un :","Hommes","Femmes"]
["             . avancement d'échelon",null,null,1]
["             . avancement de grade",{"$f":"B30+B31+B34","v":0},{"$f":"C30+C31+C34","v":0},2]
[]
["Nombre de fonctionnaires ayant connu au cours de l'année un avancement de grade à la suite d'une :","Hommes","Femmes"]
["             . promotion au choix",null,null,3]
["             . réussite à un examen professionnel de promotion interne :",{"$f":"B32+B33","v":0},{"$f":"C32+C33","v":0},4]
["                              - ayant entrainé une \"nomination stagiaire\"",null,null,5]
["                              - n'ayant pas entrainé une \"nomination stagiaire\"",null,null,6]
["             .réussite à un concours :",{"$f":"B35+B36","v":0},{"$f":"C35+C36","v":0},7]
["                               - ayant entrainé \"une nomination stagiaire\"",null,null,8]
["                               - n'ayant pas entrainé \"une nomination stagiaire\"",null,null,9]

{"sheet":"IND 1.5.6","index":42,"n_rows":23,"n_cols":8,"rows_kept":23,"cut":false,"hidden":false,"merged":[[7,1,7,6],[0,2,0,3],[7,0,8,0],[8,1,8,2],[8,3,8,4],[8,5,8,6],[2,0,2,6]]}
[null,null,"Retour Sommaire"]
[]
["1.5.6 Avancements de grade dans l'année 2019 par filière et catégorie hiérarchique"]
[]
["Champ : le tableau qui suit concerne les fonctionnaires ayant connu un avancement de grade, au cours de l'année 2019 et rémunérés au 31/12/2019."]
[]
[null,1,1,2,2,3,3,"categ_hier"]
["Nombre de fonctionnaires bénéficiant d'un avancement de grade en 2019","Suite à l'avancement de grade"]
[null,"CATEGORIE A",null,"CATEGORIE B",null,"CATEGORIE C"]
["Filières","Hommes 1.5.6(1)","Femmes 1.5.6(2)","Hommes 1.5.6(3)","Femmes 1.5.6(4)","Hommes 1.5.6(5)","Femmes 1.5.6(6)"]
[null,1,2,1,2,1,2,"sexe/cadre"]
["FILIERE ADMINISTRATIVE",null,null,null,null,null,null,"A"]
["FILIERE TECHNIQUE",null,null,null,null,null,null,"T"]
["FILIERE CULTURELLE",null,null,null,null,null,null,"C"]
["FILIERE SPORTIVE",null,null,null,null,null,null,"S"]
["FILIERE SOCIALE",null,null,null,null,null,null,"M"]
["FILIERE MEDICO-SOCIALE",null,null,null,null,null,null,"O"]
["FILIERE MEDICO-TECHNIQUE",null,null,null,null,null,null,"E"]
["FILIERE POLICE MUNICIPALE",null,null,null,null,null,null,"P"]
["FILIERE INCENDIE ET SECOURS",null,null,null,null,null,null,"R"]
["FILIERE ANIMATION",null,null,null,null,null,null,"N"]
[]
["TOTAL",{"$f":"SUM(B12:B21)","v":0},0,0,0,0,0,"00"]

{"sheet":"IND 1.5.7","index":43,"n_rows":10,"n_cols":4,"rows_kept":10,"cut":false,"hidden":false,"merged":[[0,2,0,3],[2,0,2,6],[4,0,4,6]]}
[null,null,"Retour Sommaire"]
[]
["1.5.7. Nombre d'agents fonctionnaires et contractuels sur emploi permanent ayant bénéficié d'un accompagnement par un conseiller en évolution professionnelle en 2019"]
[]
["Champ : le tableau qui suit concerne les fonctionnaires et contratuels sur emploi permanent  ayant bénéficié d'un accompagnement par un conseiller en évolution professionnelle au cours de l'année 2019"]
[null,1,2,"sexe/categ"]
[null,"Hommes","Femmes"]
["Catégorie A",null,null,1]
["Catégorie B",null,null,2]
["Catégorie C",null,null,3]

{"sheet":"Fiche 1.6.1-1.6.2","index":44,"n_rows":66,"n_cols":4,"rows_kept":66,"cut":false,"hidden":false,"merged":[[27,0,27,7],[6,0,6,7],[9,0,9,7],[0,3,0,4],[2,0,2,7],[4,0,4,7],[5,0,5,7],[46,0,46,7],[11,0,11,7],[13,0,13,7],[15,0,15,7],[17,0,17,7],[19,0,19,7],[21,0,21,7],[35,0,35,7],[36,0,36,7],[22,0,22,7],[24,0,24,7],[28,0,28,7],[31,0,31,7],[32,0,32,7],[33,0,33,7],[26,0,26,7],[39,0,39,7],[41,0,41,7],[43,0,43,7],[44,0,44,7],[45,0,45,7],[63,0,63,7],[65,0,65,7],[47,0,47,7],[49,0,49,7],[50,0,50,7],[51,0,51,7],[54,0,54,7],[55,0,55,7],[58,0,58,7],[59,0,59,7],[61,0,61,7],[62,0,62,7]]}
[null,null,null,"Retour Sommaire"]
[]
["1.6.1-1.6.2  - Bénéficiaires de l'obligation d'emploi (travailleurs en situation de handicap)"]
[]
["L'indicateur 1.6.1 recense les effectifs en nombre de personnes physiques (1 personne = 1 unité)."]
["L'indicateur 1.6.2(1) recense les dépenses en euros."]
["Ne pas remplir les cellules grisées (pré remplies par un zéro), ni celles de l'indicateur 1.6.2(2) qui font l’objet de calculs automatiques."]
[]
[]
["Quels sont les agents à recenser à l’indicateur 1.6.1 ?"]
[]
["* les fonctionnaires (titulaires et stagiaires)"]
[]
["* et les contractuels (sur emploi permanent ou non permanent)"]
[]
["* occupant un emploi de travailleur en situation de handicap (i.e. bénéficiaires de l'obligation d'emploi)"]
[]
["* rémunérés au 31/12/2019"]
[]
["Remarque : ces agents, s'ils sont présents dans la collectivité, sont à recenser quelle que soit sa taille (y compris celles ayant moins de 20 agents)"]
[]
["Précision sur les personnes bénéficiaires de l'obligation d'emploi :"]
["Les bénéficiaires de l’obligation d’emploi sont définis à l’article L. 5212-13 du code du travail (les travailleurs reconnus handicapés par la CDAPH, les titulaires de l'allocation aux adultes handicapés, etc). S’y ajoutent les agents reclassés ou en période de préparation au reclassement, les bénéficiaires d’une allocation temporaire d’invalidité et les titulaires d’un emploi réservé."]
[]
["Si votre collectivité en compte (réponse : oui, à la question filtre), comment sont-ils recensés ?"]
[]
["* par type d'emploi"]
["- tableau 1 : emploi permanent"]
["- tableau 2 : emploi NON permanent (ne concerne que les contractuels)"]
[]
[]
["Tableau 1 :"]
["* par catégorie (en lignes)"]
["* selon le statut et le sexe (en colonnes)"]
[]
["Tableau 2 :"]
["* par sexe "]
[]
[]
["Quelles sont les dépenses à recenser à l'indicateur 1.6.2 (1)?"]
[]
["L'indicateur 1.6.2 totalise les montants en euros (€) des dépenses mentionnées aux I, II, III et IV de l'article 6 du décret numéro 2006-501 du 3 mai 2006"]
[]
["Il s’agit des dépenses mentionnées à l'article L323-8-6-1 du code du travail et à l’article 6 du décret n° 2006-501 du 10 juin 2006 relatif au fond pour l'insertion des personnes en situation de handicap dans la fonction publique : "]
["-I : sous-traitance : contrats avec les entreprises adaptées, ESAT, etc (dépenses réalisées en application de l'article L. 323-8 du code du travail, mentionnées au troisième alinéa de l'article L. 323-8-6-1 de ce même code). Les dépenses sont égales au prix des fournitures et prestations figurant au contrat."]
["-II : dépenses en vue de faciliter l’insertion professionnelle des personnes en situation de handicap mentionnées au troisième alinéa du IV de l'article L. 328-8-6-1 du code du travail."]
["-III : dépenses pour accueillir ou maintenir dans l’emploi les personnes lourdement handicapées, mentionnées au troisième alinéa du IV de l'article L. 328-8-6-1 du code du travail. La totalité de ces dépenses est comptabilisée par l'employeur pour le double de son montant dès lors qu'elle dépasse, pour l'agent concerné, 35% du traitement annuel minimum servi à un agent occupant à temps complet un emploi public apprécié au 31 décembre de l'année écoulée (17 490,24 euros). Dans le cas contraire, la dépense n'est pas prise en compte au III mais pourra éventuellement selon sa nature être intégrée à la ligne des dépenses de type II (dépenses affectées à des mesures en vue de faciliter l'insertion professionnelle)."]
["-IV : dépenses  d’aménagement de poste de travail pour maintien dans l’emploi des agents reconnus inaptes à l’exercice de leur fonctions et ne relevant pas des catégories d’agents mentionnées à l’article 2 du décret. Le coût de la dépense pour un agent (la dépense doit donc être individualisée) doit excéder 10 % du traitement brut annuel minimum (17 169,12 euros) pour être pris en compte."]
[]
["Comment sont calculées les unités déductibles à l'indicateur 1.6.2 (1)?"]
["Ces dépenses, énumérées ci-dessus dans I, II,III et IV, sont converties en unités déductibles du nombre d'unités manquantes pour atteindre le taux d'emploi minimal de 6 % imposé par la loi. Le nombre d'unités manquantes correspond à la différence entre le nombre total de personnes rémunérées par l'employeur auquel est appliquée la proportion de 6%, arrondi à l'unité inférieure, et celui des bénéficiaires de l'obligation d'emploi (article L. 323-8-6-1 du code du travail). "]
["La conversion des dépenses en unités déductibles s'effectue de la manière suivante : somme des montants de dépenses de l'année écoulée/montant du traitement brut annuel minimum de la fonction publique au 31 décembre de l'année écoulée (17 375,78 euros). Le nombre d'unités déductibles est plafonné à la moitié du nombre d'agents qui devraient effectivement être rémunérés par l'employeur pour respecter l'obligation d'emploi (article 4 du décret n° 2006-501 relatif au FIPHFP)."]
[]
["Remarques :"]
["- pour le calcul des dépenses comme celui des unités déductibles, il est conseillé de se reporter au guide d'aide à la déclaration annuelle au FIPHFP sur le site du FIPHFP."]
["- ici, les unités déductibles font l'objet d'un calcul automatique et ne doivent donc pas être remplies."]
[]
[]
["Que recense l'indicateur 1.6.2 (2)?"]
["L'indicateur 1.6.2 (2) recense les taux d'emploi direct et légal des personnes en situation de handicap (BOETH)."]
[]
["Comment sont calculés les taux d'emploi à l'indicateur 1.6.2 (2)?"]
["Le taux d’emploi direct est le taux d'emploi de travailleur en situation de handicap : (bénéficiaires de l’obligation d’emploi/effectif total)X100."]
["Le taux d’emploi légal prend en compte les travailleurs en situation de handicap et les dépenses donnant lieu à unités déductibles : [(bénéficiaires de l’obligation d’emploi+nombre d’unités déductibles)/effectif total] X100."]
[]
["Remarque : ici, les taux d'emploi font l'objet d'un calcul automatique et ne doivent donc pas être remplis."]

{"sheet":"IND 1.6.1","index":45,"n_rows":26,"n_cols":9,"rows_kept":26,"cut":false,"hidden":false,"merged":[[0,3,0,5],[2,0,2,8],[7,0,7,7],[24,1,24,2],[24,3,24,4],[13,1,14,2],[13,3,14,4],[23,1,23,4],[4,0,4,8]]}
[null,null,null,"Retour Sommaire"]
[]
["1.6.1 - Nombre d'agents en situation de handicap (y compris reclassés) par catégorie hiérarchique, statut et sexe "]
[]
["Champ : le tableau qui suit concerne les fonctionnaires et contractuels (sur emploi permanent ou non permanent), en situation de handicap, rémunérés au 31/12/2019"]
["Remarque : seules les collectivités ayant répondu 'oui' à la question suivante doivent remplir les tableaux 1 et 2."]
[]
["Y a-t-il, parmi les agents de votre collectivité, des agents bénéficiant de l'obligation d'emploi - travailleurs handicapés (BOETH), y compris reclassés ?",null,null,null,null,null,null,null,"(vide)"]
[]
[]
[]
["Si oui, indiquez le nombre d'agents concernés :",1,2,1,2,"sexe"]
["tableau 1 : emploi permanent",1,1,2,2,"statut3/categ_hier"]
[null,"Titulaires et stagiaires",null,"Contractuels sur emploi permanent"]
[]
["Catégorie hiérarchique","Hommes","Femmes","Hommes","Femmes"]
["A",null,null,null,null,1]
["B",null,null,null,null,2]
["C",null,null,null,null,3]
[]
[]
[null,1,2,1,2,"sexe"]
["tableau 2 : emploi NON permanent",3,3,4,4,"statut3"]
[null,"Contractuels sur emploi NON permanent"]
[null,"TOTAL",null,"Dont apprentis"]
[null,"Hommes","Femmes","Hommes","Femmes"]

{"sheet":"IND 1.6.2","index":46,"n_rows":24,"n_cols":2,"rows_kept":24,"cut":false,"hidden":false,"merged":[[23,0,23,4],[0,1,0,2],[2,0,2,4],[4,0,4,4],[8,0,8,3],[10,0,10,1],[18,0,18,1]]}
[null,"Retour Sommaire"]
[]
["1.6.2 -Respect de l'obligation d'emploi : dépenses réalisées couvrant partiellement l'obligation d'emploi (ouvrant droit à réduction des unités manquantes) et taux d'emploi"]
[]
["Champ : toutes les collectivités sont concernées y compris celles de moins de 20 agents."]
[4]
["MarchesEtablissementsTravailProtege","MontantTotal"]
[null,{"$f":"IF(B12=\"\",\"\",B12)","v":""}]
["Remarque : Tous les montants doivent être exprimés en euros (arrondir à l'euro supérieur)."]
[]
["1.6.2 (1) -  Dépenses réalisées couvrant partiellement l'obligation d'emploi "]
["Montant total des marchés passés dans l'année (sous-traitance) *"]
["Dépenses affectées à des mesures adoptées en vue de faciliter l'insertion professionnelle des personnes en situation de handicap dans la fonction publique"]
["Dépenses réalisées par l'employeur pour accueillir ou maintenir dans l'emploi des personnes lourdement handicapées"]
["Dépenses d'aménagement des postes de travail effectuées pour maintenir dans leur emploi les agents reconnus inaptes à l'exercice de leurs fonctions dans les conditions réglementaires applicables à la fonction publique territoriale et qui n'appartiennent pas à l'une des catégories mentionnées à l'article 2 du décret."]
["Unités déductibles **",{"$f":"SUM(B12:B15)/17375.78","v":0}]
[]
[]
["                        1.6.2 (2) - Taux d'emploi (calculé sur le champ des emplois permanents)"]
["Nombre de travailleurs en situation de handicap sur emploi permanent employés par la collectivité au 31.12.2019",{"$f":"SUM('IND 1.6.1'!B17:E19)","v":0}]
["Taux d'emploi direct des travailleurs en situation de handicap",{"$f":"IF(('IND 1.1.1'!I376+'IND 1.2.1'!K91)=0,\"-\",B20/('IND 1.1.1'!I376+'IND 1.2.1'!K91)*100)","v":"-"}]
["Taux d'emploi légal des travailleurs en situation de handicap",{"$f":"IF(('IND 1.1.1'!I376+'IND 1.2.1'!K91)=0,\"-\",(B20+B16)/('IND 1.1.1'!I376+'IND 1.2.1'!K91)*100)","v":"-"}]
[]
["(*) Les employeurs peuvent s'acquitter partiellement de l'obligation d'emploi instituée par l'article L. 323-1 en passant des contrats de fournitures de sous-traitance ou de prestations de services avec des entreprises adaptées, des centres de distribution de travail à domicile ou des centres d'aide par le travail. Cette exonération, dont les modalités et les limites sont fixées par voie réglementaire, est proportionnelle au volume de travail fourni à ces ateliers et centres. en application du premier alinéa de l’article L.323-8 du code du travail. Montant total exprimé en euros, TTC.\n\n(**) Les unités déductibles sont le résultat de la conversion en unités du montant en euro des quatre types de dépenses couvrant partiellement l’obligation. Le nombre d'unités déductibles est égal au quotient obtenu en divisant le montant des dépenses réalisées en application du premier alinéa de l'article L. 323-8 et de celles affectées à des mesures adoptées en vue de faciliter l'insertion professionnelle des personnes en situation de handicap dans la fonction publique (art. 6 du décret n°2006-501 relatif au FIPHFP), par le traitement brut annuel minimum servi à un agent occupant à temps complet un emploi public apprécié au 31 décembre de l'année 2019 (17 375,78 €).\n"]

{"sheet":"IND 1.7.1","index":47,"n_rows":58,"n_cols":7,"rows_kept":58,"cut":false,"hidden":false,"merged":[[36,0,46,0],[0,1,0,2],[3,0,3,4],[12,0,22,0],[24,0,34,0],[5,0,5,4]]}
[null,"Retour Sommaire"]
[]
[]
["1.7.1 - Répartition par sexe et tranche d'âge des effectifs des fonctionnaires et des contractuels présents dans les effectifs au 31/12/2019"]
[]
["Champ : les tableaux qui suivent concernent les fonctionnaires titulaires et stagiaires et les contractuels occupant un emploi permanent ou un emploi non permanement, présents au 31/12/2019."]
["Remarque : Ne pas remplir les cellules grisées (pré remplies par un zéro) qui font l’objet de calculs automatiques."]
[]
[]
["Sexe","Age*","Titulaires et stagiaires","Contractuels occupant un emploi permanent","Contractuels occupant un emploi non permanent"]
[null,null,"1.7.1 (1)","1.7.1 (2)","1.7.1 (3)"]
[null,null,1,2,3,"Statut/Sexe","AGE"]
["HOMMES","moins de 25 ans",null,null,null,1,"01"]
[null,"25 à 29 ans",null,null,null,1,"02"]
[null,"30 à 34 ans",null,null,null,1,"03"]
[null,"35 à 39 ans",null,null,null,1,"04"]
[null,"40 à 44 ans",null,null,null,1,"05"]
[null,"45 à 49 ans",null,null,null,1,"06"]
[null,"50 à 54 ans",null,null,null,1,"07"]
[null,"55 à 59 ans",null,null,null,1,"08"]
[null,"60 à 64 ans",null,null,null,1,"09"]
[null,"65 ans et plus",null,null,null,1,10]
[null,"TOTAL",{"$f":"SUM(C13:C22)","v":0},{"$f":"SUM(D13:D22)","v":0},{"$f":"SUM(E13:E22)","v":0},1,"00"]
[]
["FEMMES","moins de 25 ans",null,null,null,2,"01"]
[null,"25 à 29 ans",null,null,null,2,"02"]
[null,"30 à 34 ans",null,null,null,2,"03"]
[null,"35 à 39 ans",null,null,null,2,"04"]
[null,"40 à 44 ans",null,null,null,2,"05"]
[null,"45 à 49 ans",null,null,null,2,"06"]
[null,"50 à 54 ans",null,null,null,2,"07"]
[null,"55 à 59 ans",null,null,null,2,"08"]
[null,"60 à 64 ans",null,null,null,2,"09"]
[null,"65 ans et plus",null,null,null,2,10]
[null,"TOTAL",{"$f":"SUM(C25:C34)","v":0},{"$f":"SUM(D25:D34)","v":0},{"$f":"SUM(E25:E34)","v":0},2,"00"]
[]
["ENSEMBLE","moins de 25 ans",{"$f":"SUM(C13,C25)","v":0},{"$f":"SUM(D13,D25)","v":0},{"$f":"SUM(E13,E25)","v":0},0,"01"]
[null,"25 à 29 ans",0,0,0,0,"02"]
[null,"30 à 34 ans",0,0,0,0,"03"]
[null,"35 à 39 ans",0,0,0,0,"04"]
[null,"40 à 44 ans",0,0,0,0,"05"]
[null,"45 à 49 ans",0,0,0,0,"06"]
[null,"50 à 54 ans",0,0,0,0,"07"]
[null,"55 à 59 ans",0,0,0,0,"08"]
[null,"60 à 64 ans",0,0,0,0,"09"]
[null,"65 ans et plus",0,0,0,0,10]
[null,"TOTAL",0,0,0,0,"00"]
["* Age atteint au 31/12/2019","Année de naissance"]
["moins de 25 ans","1995 et années suivantes"]
["25 à 29 ans","1990 à 1994"]
["30 à 34 ans","1985 à 1989"]
["35 à 39 ans","1980 à 1984"]
["40 à 44 ans","1975 à 1979"]
["45 à 49 ans","1970 à 1974"]
["50 à 54 ans","1965 à 1969"]
["55 à 59 ans","1960 à 1964"]
["60 à 64 ans","1955 à 1959"]
["65 ans et plus","1954 et avant"]

{"sheet":"Fiche 2.1.0","index":48,"n_rows":13,"n_cols":3,"rows_kept":13,"cut":false,"hidden":false,"merged":[[12,0,13,6],[0,2,0,3],[2,0,2,6],[4,0,5,6],[9,0,10,6]]}
[null,null,"Retour Sommaire"]
[]
["2.1.0 - Nombre de jours accordés pour l'ensemble des agents"]
[]
["L'indicateur 2.1.0 recense les jours d'absence accordés par l'employeur à l'ensemble de ses agents. Il s'inscrit dans le prolongement des conclusions du rapport Laurent de 2016 sur le temps de travail qui préconise notamment une meilleure connaissance du temps de travail dans la FPT. A noter que les bilans sociaux FPE et FPH seront également complétés en ce sens."]
[]
[]
[" * Quels jours d'absence doivent être recensés ? "]
[]
[" - les autorisations exceptionnelles d'absences (traditions locales, congés supplémentaires de type jour du maire ou fermeture exceptionnelle) c'est-à-dire accordées en sus des congés réglementaires ; ne sont pas ici recensées les autorisations spéciales d'absence (ASA) qui doivent uniquement être comptabilisées à l'indicateur 2.1.1  ; "]
[]
[]
[" -  les jours d'absence dont bénéficient les agents au titre des droits acquis (cycles de travail antérieurs au 1er janvier 2002)."]

{"sheet":"IND 2.1.0","index":49,"n_rows":10,"n_cols":3,"rows_kept":10,"cut":false,"hidden":false,"merged":[[0,2,0,3],[2,0,2,1],[4,0,4,1]]}
[null,null,"Retour Sommaire"]
[]
["2.1.0 - Nombre de journées de congés supplémentaires accordées à l'ensemble des agents"]
[]
["Remarque : Remplir le nombre de jours accordés uniquement si vous avez répondu 'oui' à la question située au-dessus."]
[]
[null,"Nombre de jours accordés à l'ensemble des agents"]
["Droits acquis (cycles de travail délibérés avant le 1er janvier 2002)"]
["Votre collectivité accorde-t-elle des journées de congés supplémentaires à l'ensemble de ses agents au-delà du nombre de jours de congés légal (exemples : journées liées aux traditions locales, journée du maire, ponts, etc.) hors droits acquis et jours de fractionnement ?","(vide)"]
["Nombre de jours accordés à l'ensemble des agents (Exemple: 2 ponts = 2 jours)"]

{"sheet":"IND 2.1.1","index":50,"n_rows":61,"n_cols":15,"rows_kept":61,"cut":false,"hidden":false,"merged":[[0,3,0,4],[17,1,19,1],[14,1,16,1],[2,0,2,13],[3,0,3,13],[5,0,5,13],[7,0,7,7],[6,0,6,13],[20,0,22,1],[32,3,32,13],[48,3,48,13],[9,5,10,6],[9,3,10,4],[9,7,10,8],[14,0,19,0],[54,0,59,0],[54,1,56,1],[57,1,59,1],[38,0,43,0],[41,1,43,1],[38,1,40,1]]}
[null,null,null,"Retour Sommaire"]
[]
["2.1.1 - Nombre de fonctionnaires ayant été absents au moins un jour dans l'année,\npar motif (hors formations, journées de grève et absences syndicales) présents dans les effectifs au 31/12/2019"]
["Champ : les tableaux qui suivent concernent les fonctionnaires présents dans les effectifs au 31 décembre 2019."]
[]
["Remarques :"]
["- Pour les agents à employeurs multiples : saisir la même période d'absence pour tous les employeurs."]
["- Ne pas remplir les cellules grisées "]
[]
[null,null,null,"Nombre de fonctionnaires\n(titulaires et stagiaires) *",null,"Nombre de journées d'absence (en jours calendaires)",null,"Nombre d'arrêts**"]
[]
[null,null,null,"Hommes","Femmes","Hommes","Femmes","Hommes","Femmes"]
[null,null,null,"NbAgentsH","NbAgentsF","NbJoursH","NbJoursF"]
[null,null,null,1,2,1,2,1,2,"sexe/motif"]
["Medical","Compressible","Pour maladie ordinaire",null,null,null,null,null,null,"01"]
[null,null,"Pour accidents du travail imputables au service ",null,null,null,null,null,null,"03"]
[null,null,"Pour accidents du travail imputables au trajet ",null,null,null,null,null,null,"04"]
[null,"Non-compressible","Pour longue maladie, disponibilité d'office et grave maladie ",null,null,null,null,null,null,"02"]
[null,null,"Pour maladie de longue durée",null,null,null,null,null,null,"10"]
[null,null,"Pour maladie professionnelle, maladie imputable au \n  service ou à caractère professionnel ",null,null,null,null,null,null,"05"]
["Autres raisons",null,"Pour maternité ou adoption (1)",null,null,null,null,null,null,"06"]
[null,null,"Pour naissance ou adoption (3 jours), pour paternité et accueil de l'enfant (11 jours ou 18 jours en cas de naissance multiple) et congé d’adoption (article 57-5° de la loi du 26 janvier 1984)",null,null,null,null,null,null,"07"]
[null,null,"Pour autorisation spéciale d'absence (enfant malade, mariage, décès, concours, fonctions électives, participation au Comité d'Oeuvres Sociales, réserviste, pompier volontaire, ...) ou formation particulière (ex : BAFA), hors motif syndical ou de représentation ",null,null,null,null,null,null,"09"]
[null,null,"Total",{"$f":"SUM(D15:D23)","v":0},0,0,0,0,0,"00"]
[]
[null,null,"* Si un agent a été absent sur plusieurs périodes dans l'année, ne le compter qu'une seule fois."]
[null,null,"** Si un arrêt est prolongé, ne le compter qu'une seule fois. Ne comptabiliser que les arrêts ayant donné lieu à une absence. "]
[]
[null,null,"Les congés pour couches pathologiques sont à inclure : "]
[null,null," (1) - en congé maternité pour les fonctionnaires ;"]
[null,null," - en congé maladie pour les contractuels."]
[]
[null,null,null,"Nombre de fonctionnaires* présents dans les effectifs au 31/12/2019"]
[]
[]
[null,null,null,"Moins de 25 ans","25 ans à 29 ans","30 ans à 34 ans","35 ans à 39 ans","40 ans à 44 ans","45 ans à 49 ans","50 ans à 54 ans","55 ans à 59 ans","60 ans à 64 ans","65 ans et plus","TOTAL"]
[null,null,null,"AgeMoins25","Age25A29","Age30A34","Age35A39","Age40A44","Age45A49","Age50A54","Age55A59","Age60A64","Age65APlus",null,"age/motif"]
[null,null,null,"01","02","03","04","05","06","07","08","09",10,"00","age/motif"]
["Medical","Compressible","Pour maladie ordinaire",null,null,null,null,null,null,null,null,null,null,{"$f":"SUM(D39:M39)","v":0},"01"]
[null,null,"Pour accidents du travail imputables au service ",null,null,null,null,null,null,null,null,null,null,0,"03"]
[null,null,"Pour accidents du travail imputables au trajet ",null,null,null,null,null,null,null,null,null,null,0,"04"]
[null,"Non-compressible","Pour longue maladie, disponibilité d'office et grave maladie ",null,null,null,null,null,null,null,null,null,null,0,"02"]
[null,null,"Pour maladie de longue durée",null,null,null,null,null,null,null,null,null,null,0,"10"]
[null,null,"Pour maladie professionnelle, maladie imputable au \n  service ou à caractère professionnel ",null,null,null,null,null,null,null,null,null,null,0,"05"]
[null,null,"Total",{"$f":"SUM(D39:D44)","v":0},{"$f":"SUM(E39:E44)","v":0},0,0,0,0,0,0,0,0,{"$f":"SUM(N39:N44)","v":0},"00"]
[]
[null,null,"* si un agent a été absent sur plusieurs périodes dans l'année, ne le compter qu'une seule fois"]
[]
[null,null,null,"Nombre de journées d'absence des fonctionnaires présents dans les effectifs au 31/12/2019"]
[]
[]
[null,null,null,"Moins de 25 ans","25 ans à 29 ans","30 ans à 34 ans","35 ans à 39 ans","40 ans à 44 ans","45 ans à 49 ans","50 ans à 54 ans","55 ans à 59 ans","60 ans à 64 ans","65 ans et plus","TOTAL"]
[null,null,null,"AgeMoins25","Age25A29","Age30A34","Age35A39","Age40A44","Age45A49","Age50A54","Age55A59","Age60A64","Age65APlus",null,"age/motif"]
[null,null,null,"01","02","03","04","05","06","07","08","09",10,"00","age/motif"]
["Medical","Compressible","Pour maladie ordinaire",null,null,null,null,null,null,null,null,null,null,{"$f":"SUM(D55:M55)","v":0},"01"]
[null,null,"Pour accidents du travail imputables au service ",null,null,null,null,null,null,null,null,null,null,0,"03"]
[null,null,"Pour accidents du travail imputables au trajet ",null,null,null,null,null,null,null,null,null,null,0,"04"]
[null,"Non-compressible","Pour longue maladie, disponibilité d'office et grave maladie ",null,null,null,null,null,null,null,null,null,null,0,"02"]
[null,null,"Pour maladie de longue durée",null,null,null,null,null,null,null,null,null,null,0,"10"]
[null,null,"Pour maladie professionnelle, maladie imputable au \n  service ou à caractère professionnel ",null,null,null,null,null,null,null,null,null,null,0,"05"]
[null,null,"Total",{"$f":"SUM(D55:D60)","v":0},0,0,0,0,0,0,0,0,0,0,"00"]

{"sheet":"IND 2.1.2","index":51,"n_rows":58,"n_cols":15,"rows_kept":58,"cut":false,"hidden":false,"merged":[[32,3,32,13],[47,3,47,13],[14,0,19,0],[14,1,16,1],[17,1,19,1],[20,0,22,1],[0,3,0,4],[2,0,2,13],[9,3,10,4],[9,5,10,6],[9,7,10,8],[4,0,4,13],[5,0,5,13],[6,0,6,13],[7,0,7,7],[51,0,56,0],[51,1,53,1],[54,1,56,1],[36,0,41,0],[36,1,38,1],[39,1,41,1]]}
[null,null,null,"Retour Sommaire"]
[]
["2.1.2 - Nombre de CONTRACTUELS SUR EMPLOI PERMANENT ayant été absents au moins un jour dans l'année, \npar motif (hors formations, journées de grève et absences syndicales) présents au 31/12/2019"]
[]
["Champ : les tableaux qui suivent concernent les contractuels sur emploi permanent présents dans les effectifs au 31 décembre 2019."]
["Remarques :"]
["- Pour les agents à employeurs multiples : saisir la même période d'absence pour tous les employeurs."]
["- Ne pas remplir les cellules grisées "]
[]
[null,null,null,"Nombre de contractuels\nsur emploi permanent *",null,"Nombre de journées d'absence",null,"Nombre d'arrêts**"]
[]
[null,null,null,"Hommes","Femmes","Hommes","Femmes","Hommes","Femmes"]
[null,null,null,"NbAgentsH","NbAgentsF","NbJoursH","NbJoursF"]
[null,null,null,1,2,1,2,1,2,"sexe/motif"]
["Medical","Compressible","Pour maladie ordinaire",null,null,null,null,null,null,"01"]
[null,null,"Pour accidents du travail imputables au service ",null,null,null,null,null,null,"03"]
[null,null,"Pour accidents du travail imputables au trajet ",null,null,null,null,null,null,"04"]
[null,"Non-compressible","Pour longue maladie, disponibilité d'office et grave maladie ",null,null,null,null,null,null,"02"]
[null,null,"Pour maladie de longue durée",null,null,null,null,null,null,"10"]
[null,null,"Pour maladie professionnelle, maladie imputable au service ou à caractère professionnel ",null,null,null,null,null,null,"05"]
["Autres raisons",null,"Pour maternité ou adoption (1)",null,null,null,null,null,null,"06"]
[null,null,"Pour naissance ou adoption (3 jours), pour paternité et accueil de l'enfant (11 jours ou 18 jours en cas de naissance multiple), pour hospitalisation immédiate de l’enfant à la naissance (30 jours) et pour congé d’adoption (article 10 du décret n° 88-145 du 15 février 1988)",null,null,null,null,null,null,"08"]
[null,null,"Pour autorisation spéciale d'absence (enfant malade, mariage, décès, concours, fonctions électives, participation au Comité d'Oeuvres Sociales, réserviste, pompier volontaire, ...) ou formation particulière (ex : BAFA), hors motif syndical ou de représentation ",null,null,null,null,null,null,"09"]
[null,null,"Total",{"$f":"SUM(D15:D23)","v":0},0,0,0,0,0,"00"]
[]
[null,null,"* Si un agent a été absent sur plusieurs périodes dans l'année, ne le compter qu'une seule fois."]
[null,null,"** Si un arrêt est prolongé, ne le compter qu'une seule fois. Ne comptabiliser que les arrêts ayant donné lieu à une absence. "]
[]
[null,null,"Les congés pour couches pathologiques sont à inclure : "]
[null,null,"(1)  - en congé maternité pour les fonctionnaires ;"]
[null,null," - en congé maladie pour les contractuels."]
[]
[null,null,null,"Nombre de contractuels sur emploi permanent * présents au 31/12/2019"]
[]
[null,null,null,"Moins de 25 ans","25 ans à 29 ans","30 ans à 34 ans","35 ans à 39 ans","40 ans à 44 ans","45 ans à 49 ans","50 ans à 54 ans","55 ans à 59 ans","60 ans à 64 ans","65 ans et plus","TOTAL"]
[null,null,null,"01","02","03","04","05","06","07","08","09",10,"00","age/motif"]
["Medical","Compressible","Pour maladie ordinaire",null,null,null,null,null,null,null,null,null,null,{"$f":"SUM(D37:M37)","v":0},"01"]
[null,null,"Pour accidents du travail imputables au service ",null,null,null,null,null,null,null,null,null,null,0,"03"]
[null,null,"Pour accidents du travail imputables au trajet ",null,null,null,null,null,null,null,null,null,null,0,"04"]
[null,"Non-compressible","Pour longue maladie, disponibilité d'office et grave maladie ",null,null,null,null,null,null,null,null,null,null,0,"02"]
[null,null,"Pour maladie de longue durée",null,null,null,null,null,null,null,null,null,null,0,"10"]
[null,null,"Pour maladie professionnelle, maladie imputable au service ou à caractère professionnel ",null,null,null,null,null,null,null,null,null,null,0,"05"]
[null,null,"Total",{"$f":"SUM(D37:D42)","v":0},{"$f":"SUM(E37:E42)","v":0},0,0,0,0,0,0,0,0,{"$f":"SUM(N37:N42)","v":0},"00"]
[]
[null,null,"* si un agent a été absent sur plusieurs périodes dans l'année, ne le compter qu'une seule fois."]
[]
[]
[null,null,null,"Nombre de journées d'absence des contractuels sur emploi permanent présents au 31/12/2019"]
[]
[null,null,null,"Moins de 25 ans","25 ans à 29 ans","30 ans à 34 ans","35 ans à 39 ans","40 ans à 44 ans","45 ans à 49 ans","50 ans à 54 ans","55 ans à 59 ans","60 ans à 64 ans","65 ans et plus","TOTAL"]
[null,null,null,"01","02","03","04","05","06","07","08","09",10,"00","age/motif"]
["Medical","Compressible","Pour maladie ordinaire",null,null,null,null,null,null,null,null,null,null,{"$f":"SUM(D52:M52)","v":0},"01"]
[null,null,"Pour accidents du travail imputables au service ",null,null,null,null,null,null,null,null,null,null,0,"03"]
[null,null,"Pour accidents du travail imputables au trajet ",null,null,null,null,null,null,null,null,null,null,0,"04"]
[null,"Non-compressible","Pour longue maladie, disponibilité d'office et grave maladie ",null,null,null,null,null,null,null,null,null,null,0,"02"]
[null,null,"Pour maladie de longue durée",null,null,null,null,null,null,null,null,null,null,0,"10"]
[null,null,"Pour maladie professionnelle, maladie imputable au service ou à caractère professionnel ",null,null,null,null,null,null,null,null,null,null,0,"05"]
[null,null,"Total",{"$f":"SUM(D52:D57)","v":0},{"$f":"SUM(E52:E57)","v":0},0,0,0,0,0,0,0,0,{"$f":"SUM(N52:N57)","v":0},"00"]

{"sheet":"IND 2.1.3","index":52,"n_rows":60,"n_cols":15,"rows_kept":60,"cut":false,"hidden":false,"merged":[[53,0,58,0],[53,1,55,1],[56,1,58,1],[15,0,20,0],[15,1,17,1],[18,1,20,1],[21,0,23,1],[2,0,2,13],[0,3,0,4],[41,1,43,1],[38,0,43,0],[4,0,4,13],[5,0,5,13],[6,0,6,13],[7,0,7,7],[50,3,50,13],[38,1,40,1],[10,5,11,6],[10,7,11,8],[35,3,35,13],[10,3,11,4]]}
[null,null,null,"Retour Sommaire"]
[]
["2.1.3 - Nombre de CONTRACTUELS SUR EMPLOI NON PERMANENT ayant été absents au moins un jour dans l'année,\n par motif (hors formations, journées de grève et absences syndicales) présents au 31/12/2019"]
[]
["Champ : les tableaux qui suivent concernent les contractuels sur emploi NON permanent présents dans les effectifs au 31 décembre 2019."]
["Remarques :"]
["- Pour les agents à employeurs multiples : saisir la même période d'absence pour tous les employeurs."]
["- Ne pas remplir les cellules grisées "]
[]
[]
[null,null,null,"Nombre de contractuels\nsur emploi non permanent *",null,"Nombre de journées d'absence",null,"Nombre d'arrêts**"]
[]
[null,null,null,"Hommes","Femmes","Hommes","Femmes","Hommes","Femmes"]
[null,null,null,"NbAgentsH","NbAgentsF","NbJoursH","NbJoursF"]
[null,null,null,1,2,1,2,1,2,"sexe/motif"]
["Medical","Compressible","Pour maladie ordinaire",null,null,null,null,null,null,"01"]
[null,null,"Pour accidents du travail imputables au service ",null,null,null,null,null,null,"03"]
[null,null,"Pour accidents du travail imputables au trajet ",null,null,null,null,null,null,"04"]
[null,"Non-compressible","Pour longue maladie, disponibilité d'office et grave maladie ",null,null,null,null,null,null,"02"]
[null,null,"Pour maladie de longue durée",null,null,null,null,null,null,"10"]
[null,null,"Pour maladie professionnelle, maladie imputable au service ou à caractère professionnel ",null,null,null,null,null,null,"05"]
["Autres raisons",null,"Pour maternité ou adoption (1)",null,null,null,null,null,null,"06"]
[null,null,"Pour naissance ou adoption (3 jours), pour paternité et accueil de l'enfant (11 jours ou 18 jours en cas de naissance multiple), pour hospitalisation immédiate de l’enfant à la naissance (30 jours) et pour congé d’adoption (article 10 du décret n° 88-145 du 15 février 1988)",null,null,null,null,null,null,"08"]
[null,null,"Pour autorisation spéciale d'absence (enfant malade, mariage, décès, concours, fonctions électives, participation au Comité d'Oeuvres Sociales, réserviste, pompier volontaire, ...) ou formation particulière (ex : BAFA), hors motif syndical ou de représentation ",null,null,null,null,null,null,"09"]
[null,null,"Total",{"$f":"SUM(D16:D24)","v":0},0,0,0,0,0,"00"]
[]
[null,null,"* Si un agent a été absent sur plusieurs périodes dans l'année, ne le compter qu'une seule fois."]
[null,null,"** Si un arrêt est prolongé, ne le compter qu'une seule fois. Ne comptabiliser que les arrêts ayant donné lieu à une absence. "]
[]
[null,null,"Les congés pour couches pathologiques sont à inclure : "]
[null,null,"(1)  - en congé maternité pour les fonctionnaires ;"]
[null,null," - en congé maladie pour les contractuels."]
[]
[]
[]
[null,null,null,"Nombre de contractuels sur emploi non permanent * présents au 31/12/2019"]
[null,null,null,"Moins de 25 ans","25 ans à 29 ans","30 ans à 34 ans","35 ans à 39 ans","40 ans à 44 ans","45 ans à 49 ans","50 ans à 54 ans","55 ans à 59 ans","60 ans à 64 ans","65 ans et plus","TOTAL"]
[null,null,null,"01","02","03","04","05","06","07","08","09",10,"00","age/motif"]
["Medical","Compressible","Pour maladie ordinaire",null,null,null,null,null,null,null,null,null,null,{"$f":"SUM(D39:M39)","v":0},"01"]
[null,null,"Pour accidents du travail imputables au service ",null,null,null,null,null,null,null,null,null,null,0,"03"]
[null,null,"Pour accidents du travail imputables au trajet ",null,null,null,null,null,null,null,null,null,null,0,"04"]
[null,"Non-compressible","Pour longue maladie, disponibilité d'office et grave maladie ",null,null,null,null,null,null,null,null,null,null,0,"02"]
[null,null,"Pour maladie de longue durée",null,null,null,null,null,null,null,null,null,null,0,"10"]
[null,null,"Pour maladie professionnelle, maladie imputable au service ou à caractère professionnel ",null,null,null,null,null,null,null,null,null,null,0,"05"]
[null,null,"Total",{"$f":"SUM(D39:D44)","v":0},{"$f":"SUM(E39:E44)","v":0},0,0,0,0,0,0,0,0,{"$f":"SUM(N39:N44)","v":0},"00"]
[]
[null,null,"* si un agent a été absent sur plusieurs périodes dans l'année, ne le compter qu'une seule fois."]
[]
[]
[]
[null,null,null,"Nombre de journées d'absence des contractuels sur emploi non permanent présents au 31/12/2019"]
[null,null,null,"Moins de 25 ans","25 ans à 29 ans","30 ans à 34 ans","35 ans à 39 ans","40 ans à 44 ans","45 ans à 49 ans","50 ans à 54 ans","55 ans à 59 ans","60 ans à 64 ans","65 ans et plus","TOTAL"]
[null,null,null,"01","02","03","04","05","06","07","08","09",10,"00","age/motif"]
["Medical","Compressible","Pour maladie ordinaire",null,null,null,null,null,null,null,null,null,null,{"$f":"SUM(D54:M54)","v":0},"01"]
[null,null,"Pour accidents du travail imputables au service ",null,null,null,null,null,null,null,null,null,null,0,"03"]
[null,null,"Pour accidents du travail imputables au trajet ",null,null,null,null,null,null,null,null,null,null,0,"04"]
[null,"Non-compressible","Pour longue maladie, disponibilité d'office et grave maladie ",null,null,null,null,null,null,null,null,null,null,0,"02"]
[null,null,"Pour maladie de longue durée",null,null,null,null,null,null,null,null,null,null,0,"10"]
[null,null,"Pour maladie professionnelle, maladie imputable au service ou à caractère professionnel ",null,null,null,null,null,null,null,null,null,null,0,"05"]
[null,null,"Total",{"$f":"SUM(D54:D59)","v":0},{"$f":"SUM(E54:E59)","v":0},0,0,0,0,0,0,0,0,{"$f":"SUM(N54:N59)","v":0},"00"]

{"sheet":"IND 2.1.4-2.1.6","index":53,"n_rows":37,"n_cols":4,"rows_kept":37,"cut":false,"hidden":false,"merged":[[31,0,31,2],[27,0,27,2],[30,0,30,2],[0,1,0,2],[3,0,3,2],[6,0,6,2],[15,0,15,2],[18,0,18,2],[7,0,7,2],[19,0,19,2]]}
[null,"Retour Sommaire"]
[]
[]
["2.1.4 - Congés de paternité et d'accueil de l'enfant des agents FONCTIONNAIRES ET CONTRACTUELS,\npar catégorie hiérarchique"]
[]
[]
["Champ : le tableau qui suit concerne les fonctionnaires et contractuels sur emploi permanent ayant bénéficié d'un congé paternité ou d'accueil de l'enfant au cours de l'année 2019."]
["Remarque : si un agent a été absent sur plusieurs périodes dans l'année, ne le compter qu'une seule fois."]
[]
[null,"Nombre d'agents ","Nombre total de journées d'absence au titre des congés de paternité et d'accueil de l'enfant","Categ_hier"]
["Catégorie A",null,null,1]
["Catégorie B",null,null,2]
["Catégorie C",null,null,3]
[]
[]
["2.1.5 - Congés de présence parentale des FONCTIONNAIRES ET CONTRACTUELS,\npar catégorie hiérarchique"]
[]
[]
["Champ : le tableau qui suit concerne les fonctionnaires et contractuels sur emploi permanent ayant bénéficié d'un congé de présence parentale au cours de l'année 2019."]
["Remarque : si un agent a été absent sur plusieurs périodes dans l'année, ne le compter qu'une seule fois."]
[]
[null,"Nombre d'agents ","Nombre total de journées d'absence au titre du congé de présence parentale","Categ_hier"]
["Catégorie A",null,null,1]
["Catégorie B",null,null,2]
["Catégorie C",null,null,3]
[]
[]
["2.1.6 - Congés de solidarité familiale des FONCTIONNAIRES ET CONTRACTUELS,\npar catégorie hiérarchique"]
[]
[]
["Champ : le tableau qui suit concerne les fonctionnaires et contractuels sur un emploi permanent ayant bénéficié d'un congé de solidarité familiale au cours de l'année 2019."]
["Remarque : si un agent a été absent sur plusieurs périodes dans l'année, ne le compter qu'une seule fois."]
[]
[null,"Nombre d'agents ","Nombre total de journées d'absence au titre du congé de solidarité familiale","Categ_hier"]
["Catégorie A",null,null,1]
["Catégorie B",null,null,2]
["Catégorie C",null,null,3]

{"sheet":"IND 2.1.7","index":54,"n_rows":20,"n_cols":9,"rows_kept":20,"cut":false,"hidden":false,"merged":[[19,0,19,4],[19,5,19,6],[15,0,15,4],[18,0,18,4],[18,5,18,6],[16,0,16,4],[16,5,16,6],[15,5,15,6],[0,1,0,2],[3,0,3,6],[5,0,5,6],[8,5,8,6],[12,5,12,6],[8,0,8,4],[9,0,9,4],[9,5,9,6],[11,0,11,4],[11,5,11,6],[12,0,12,4]]}
[null,"Retour Sommaire"]
[]
[]
["2.1.7 - Entretiens avant et après des congés de 6 mois ou plus"]
[]
["Champ : les tableaux qui suivent concernent les agents sur emploi permanent, en 2019."]
[]
["Départ en congé",null,null,null,null,null,null,"motif","sexe"]
["Y a-t-il eu des hommes qui sont partis en congé de 6 mois ou plus au cours de l'année  dans votre collectivité ?",null,null,null,null,"(vide)",null,1,1]
["Si oui, y a-t-il eu un départ en congé sans entretien ?",null,null,null,null,"(vide)",null,2,1]
[]
["Y a-t-il eu des femmes qui sont parties en congé de 6 mois ou plus au cours de l'année  dans votre collectivité ?",null,null,null,null,"(vide)",null,1,2]
["Si oui, y a-t-il eu un départ en congé sans entretien ?",null,null,null,null,"(vide)",null,2,2]
[]
["Retour de congé"]
["Y a-t-il eu des hommes qui sont revenus au cours de l'année d'un congé de 6 mois ou plus dans votre collectivité ?",null,null,null,null,"(vide)",null,3,1]
["Si oui, y a-t-il eu un retour de congé sans entretien ?",null,null,null,null,"(vide)",null,4,1]
[]
["Y a-t-il eu des femmes qui sont revenues au cours de l'année d'un congé de 6 mois ou plus dans votre collectivité ?",null,null,null,null,"(vide)",null,3,2]
["Si oui, y a-t-il eu un retour de congé sans entretien ?",null,null,null,null,"(vide)",null,4,2]

{"sheet":"Fiche 2.2.1-2.2.7","index":55,"n_rows":124,"n_cols":8,"rows_kept":124,"cut":false,"hidden":false,"merged":[[20,0,20,7],[6,0,6,7],[8,0,8,7],[14,0,14,7],[15,0,15,7],[0,3,0,4],[2,0,2,7],[4,0,4,7],[5,0,5,7],[19,0,19,7],[17,0,17,7],[18,0,18,7],[9,0,9,7],[10,0,10,7],[11,0,11,7],[13,0,13,7],[29,0,29,7],[30,0,30,7],[21,0,21,7],[22,0,22,7],[23,0,23,7],[24,0,24,7],[26,0,26,7],[28,0,28,7],[61,0,61,7],[62,0,62,7],[45,0,45,7],[46,0,46,7],[38,0,38,7],[39,0,39,7],[40,0,40,7],[41,0,41,7],[43,0,43,7],[44,0,44,7],[70,2,70,7],[73,2,73,7],[33,0,33,7],[34,0,34,7],[35,0,35,7],[37,0,37,7],[47,0,47,7],[48,0,48,7],[55,0,55,7],[56,0,56,7],[64,0,64,7],[67,2,67,7],[50,0,50,7],[52,0,52,7],[57,0,57,7],[58,0,58,7],[103,0,103,7],[106,0,106,7],[85,0,85,7],[87,0,87,7],[89,0,89,7],[92,0,92,7],[81,0,81,1],[82,0,82,7],[96,0,96,7],[99,0,99,7],[83,0,83,7],[84,0,84,7],[108,0,108,7],[123,0,123,7],[111,0,111,7],[115,0,115,7],[118,0,118,7],[119,0,119,7],[120,0,120,7],[122,0,122,7],[109,0,109,7],[110,0,110,7]]}
[null,null,null,"Retour Sommaire"]
[]
["2.2.1 - 2.2.7 - Temps de travail"]
[]
["Modalités d'organisation du temps de travail"]
["L'indicateur 2.2.1. recense les effectifs en nombre de personnes physiques (1 personne = 1 unité)."]
["Ne pas remplir les cellules grisées (pré remplies par un zéro) qui font l’objet de calculs automatiques. "]
[]
["Quels sont les agents à recenser ?"]
["* les fonctionnaires stagiaires et titulaires"]
["* les contractuels occupant un emploi permanent à temps complet"]
["* rémunérés au 31/12/2019"]
[]
["Remarques :"]
["- pour les fonctionnaires, il s'agit des agents recensés aux indicateurs  1.1.2(1) et 1.1.2(2)"]
["- pour les contractuels, il s'agit des agents recensés à l'indicateur  1.2.2"]
[]
["Comment sont-ils recensés ?"]
["* selon le cycle de travail qui leur est applicable en référence à la délibération prise pour l’application du décret n° 2001-623 du 12 juillet 2001 relatif à l’aménagement et à la réduction du temps de travail dans la fonction publique territoriale (en lignes) :"]
["- cycle hebdomadaire"]
["- cycle mensuel"]
["- cycle saisonnier"]
["- cycle annuel"]
["- autres cycles"]
["- forfait"]
[]
["* et selon le sexe (en colonnes)"]
[]
["Remarques :"]
["- un agent n'est compté qu'une seule fois."]
["- les collectivités ayant répondu 'oui' à la question des cycles de travail délibérés avant le 1er janvier 2002 devront recenser ces agents  sur la ligne correspondante."]
[]
[]
["Contraintes particulières concernant le temps de travail"]
["L'indicateur 2.2.2. recense les effectifs en nombre de personnes physiques (1 personne = 1 unité)."]
["Ne pas remplir les cellules grisées (pré remplies par un zéro) qui font l’objet de calculs automatiques. "]
[]
["Quels sont les agents à recenser ?"]
["* les fonctionnaires stagiaires et titulaires"]
["* les contractuels occupant un emploi permanent à temps complet"]
["* faisant l'objet de contraintes particulières concernant l'organisation du travail"]
["* et rémunérés au 31/12/2019"]
[]
["Comment sont-ils recensés ?"]
["*selon les contraintes suivantes (en lignes)"]
["- horaires décalés ;"]
["- travail de nuit ;"]
["- travail le week-end ;"]
["- travail au forfait (équipes de direction, cadres ou personnels itinérants ayant un forfait de jours de RTT sans décompte horaire)."]
[]
["*et selon le sexe (en colonnes)"]
[]
["Remarque : les collectivités ayant des agents liés à des sujétions qui induisent une diminution du temps de travail devront l'indiquer."]
[]
[]
["Compte Epargne Temps"]
["L'indicateur 2.2.3. recense les effectifs en nombre de personnes physiques (1 personne = 1 unité)."]
["Ne pas remplir les cellules grisées (pré remplies par un zéro) qui font l’objet de calculs automatiques. "]
["Cet indicateur recense le nombre d'agents avec un compte épargne temps (CET), dont ceux avec un compte ouvert au cours de l’année 2019."]
[]
["Précisions :"]
["Le compte épargne-temps a été institué par le décret n°2004-878 du 26 août 2004. Il permet aux agents occupant un emploi permanent (titulaires ou non, à temps complet ou non) d'accumuler des droits à congés rémunérés. Il est ouvert à la demande de l'agent et est de droit dès lors que l'agent en fait la demande écrite."]
["L'agent titulaire d'un compte peut épargner le nombre de jours souhaité à condition que le nombre de jours de congés pris dans l'année ne soit pas inférieur à 20."]
[]
["Tous les tableaux de l'indicateur 2.2.3 sont renseignés par catégorie hiérarchique et par sexe."]
[]
[" ","2.2.3.1","Nombre d'agents ayant un compte épargne temps"]
[null,null,"Ce tableau compte le nombre d'agents avec un CET pour les agents présents dans la collectivité locale au 31/12/2019, dont ceux ouverts dans l'année 2019."]
[]
[" ","2.2.3.2","Nombre de jours accumulés"]
[null,null,"Ce tableau compte :\n - d'une part,  le nombre de jours accumulés au 31/12/2019 hors jours y compris versés au titre de l'année 2019 pour les agents présents dans la collectivité locale au 31/12/2019\n - d'autre part,  le nombre de jours versés au titre de l'année 2019 pour les agents présents dans la collectivité locale au 31/12/2019"]
[]
[" ","2.2.3.3","Nombre de jours consommés"]
[null,null,"Ce tableau compte le nombre de jours consommés en 2019 par type de consommation, pour les agents étant passés par la collectivité locale même s'ils n'y sont plus au 31/12/2019"]
[null,null,"Les jours accumulés sur le compte épargne temps peuvent être  : "]
[null,null,"- utilisés sous forme de jours de congés"]
[null,null,"- indemnisés"]
[null,null,"- versés au régime de retraite additionnel dans la fonction publique (Rafp)"]
[null,null,"- donnés au bénéfice d'un agent public (article 1er du décret n° 2015-580 du 28 mai 2015)"]
[]
[]
["Télétravail"]
["L'indicateur 2.2.4. recense les effectifs en nombre de personnes physiques (1 personne = 1 unité)."]
["Pour les collectivités ayant délibéré sur la mise en place du télétravail, cet indicateur recense :"]
["- les agents ayant demandé à bénéficier du télétravail au cours de l'année 2019"]
["- et les agents exerçant leur activité dans le cadre du télétravail au 31/12/2019"]
[]
["Remarque : un agent ayant demandé à bénéficier du télétravail au cours de l'année 2019 et exerçant en télétravail au 31/12/2019 sera comptabilisé deux fois."]
[]
["Ces agents sont recensés par sexe et catégorie hiérarchique."]
[]
["Précision :"]
["Aux termes de l'article 133 de la loi n° 2012-347 du 12 mars 2012, les fonctionnaires relevant de la loi du 13 juillet 1983 portant droits et obligations des fonctionnaires peuvent exercer leurs fonctions dans le cadre du télétravail tel qu'il est défini au premier alinéa de l'article L. 1222-9 du Code du travail. Le décret n° 2016-151 du 11 février 2016 relatif aux conditions et modalités de mise en oeuvre du télétravail dans la fonction publique et la magistrature en fixe les modalités de mise en oeuvre."]
[]
[]
["Charte du temps"]
["L’indicateur 2.2.5 recense l'existence de charte(s) du temps au sein de la collectivité."]
[]
["Précision :"]
["Une charte du temps vise à une meilleure articulation entre vie personnelle et professionnelle. Elle décrit les modalités d'organisation du travail au sein de la collectivité en prenant en compte les nécessités d'organisation du travail et les souhaits des personnels en concertation avec les représentants du personnel et l'encadrement. Voir circulaire du 8 juillet 2013 relative à la mise en oeuvre du protocole d'accord du 8 mars 2013 sur l'égalité professionnelle entre les femmes et les hommes, ainsi que la circulaire du 31 mars 2017 relative à l'application des règles en matière de temps de travail dans les trois versants de la fonction publique."]
[]
[]
["Nombre de jours de carence"]
["L’indicateur 2.2.6 recense le nombre de jours de carence et les sommes retenues en montant brut au titre de l’application de la journée de carence. ","L’indicateur 2.2.6 recense le nombre de jours de carence et les sommes retenues en montant brute au titre de l’application de la journée de carence. ","L’indicateur 2.2.6 recense le nombre de jours de carence et les sommes retenues en montant brute au titre de l’application de la journée de carence. ","L’indicateur 2.2.6 recense le nombre de jours de carence et les sommes retenues en montant brute au titre de l’application de la journée de carence. ","L’indicateur 2.2.6 recense le nombre de jours de carence et les sommes retenues en montant brute au titre de l’application de la journée de carence. ","L’indicateur 2.2.6 recense le nombre de jours de carence et les sommes retenues en montant brute au titre de l’application de la journée de carence. ","L’indicateur 2.2.6 recense le nombre de jours de carence et les sommes retenues en montant brute au titre de l’application de la journée de carence. ","L’indicateur 2.2.6 recense le nombre de jours de carence et les sommes retenues en montant brute au titre de l’application de la journée de carence. "]
[]
["Précision"]
["En application de l'article 115 de la loi n° 2017-1837 du 30 décembre 2017 de finances pour 2018, les agents publics titulaires, stagiaires et contractuels en congé de maladie ordinaire ne bénéficient du maintien de leur rémunération par l'employeur qu'à compter du deuxième jour de ce congé. \nLe premier jour de congé de maladie, appelé jour de carence, fait l’objet d’une retenue dans les conditions précisées par la circulaire du 15 février 2018 relative au non-versement de la rémunération au titre du premier jour de congé de maladie des agents publics civils et militaires.","En application de l'article 115 de la loi n° 2017-1837 du 30 décembre 2017 de\nfinances pour 2018, les agents publics titulaires, stagiaires et contractuels en congé de maladie\nordinaire ne bénéficient du maintien de leur rémunération par l'employeur qu'à compter du\ndeuxième jour de ce congé. ","En application de l'article 115 de la loi n° 2017-1837 du 30 décembre 2017 de\nfinances pour 2018, les agents publics titulaires, stagiaires et contractuels en congé de maladie\nordinaire ne bénéficient du maintien de leur rémunération par l'employeur qu'à compter du\ndeuxième jour de ce congé. ","En application de l'article 115 de la loi n° 2017-1837 du 30 décembre 2017 de\nfinances pour 2018, les agents publics titulaires, stagiaires et contractuels en congé de maladie\nordinaire ne bénéficient du maintien de leur rémunération par l'employeur qu'à compter du\ndeuxième jour de ce congé. ","En application de l'article 115 de la loi n° 2017-1837 du 30 décembre 2017 de\nfinances pour 2018, les agents publics titulaires, stagiaires et contractuels en congé de maladie\nordinaire ne bénéficient du maintien de leur rémunération par l'employeur qu'à compter du\ndeuxième jour de ce congé. ","En application de l'article 115 de la loi n° 2017-1837 du 30 décembre 2017 de\nfinances pour 2018, les agents publics titulaires, stagiaires et contractuels en congé de maladie\nordinaire ne bénéficient du maintien de leur rémunération par l'employeur qu'à compter du\ndeuxième jour de ce congé. ","En application de l'article 115 de la loi n° 2017-1837 du 30 décembre 2017 de\nfinances pour 2018, les agents publics titulaires, stagiaires et contractuels en congé de maladie\nordinaire ne bénéficient du maintien de leur rémunération par l'employeur qu'à compter du\ndeuxième jour de ce congé. ","En application de l'article 115 de la loi n° 2017-1837 du 30 décembre 2017 de\nfinances pour 2018, les agents publics titulaires, stagiaires et contractuels en congé de maladie\nordinaire ne bénéficient du maintien de leur rémunération par l'employeur qu'à compter du\ndeuxième jour de ce congé. "]
[]
["Précisions "]
["- Le jour de carence ne s'applique pas aux congés suivants : congé pour invalidité temporaire imputable au service, congé pour accident de service ou accident du travail et maladie professionnelle, congé de longue maladie, congé de longue durée, congé de grave maladie, congé du blessé (pour les militaires), congé de maladie accordé dans les trois ans après un premier congé de maladie au titre d'une même affection de longue durée (ALD) au sens de l’article L. 324-1 du code de la sécurité sociale, et lorsque la maladie provient de l’une des causes exceptionnelles prévues aux articles L. 27 et L. 35 du code des pensions civiles et militaires de retraite.  ","le jour de carence ne s'applique pas aux congés suivants : congé pour invalidité temporaire imputable au service, congé pour accident de service ou accident du travail et maladie professionnelle, congé de longue maladie, congé de longue durée, congé de grave maladie, congé du blessé (pour les militaires), congé de maladie accordé dans les trois ans après un premier congé de maladie au titre d'une même affection de longue durée (ALD) au sens de l’article L. 324-1 du code de la sécurité sociale, et lorsque la maladie provient de l’une des causes exceptionnelles prévues aux articles L. 27 et L. 35 du code des pensions civiles et militaires de retraite. De plus, le jour de carence ne s'applique pas au deuxième arrêt de travail lorsque l'agent n'a pas repris le travail plus de 48 heures entre les deux congés de maladie et que les deux arrêts de travail ont la même cause. Enfin, la loi n° 2019-828 du 6 août 2019 de transformation de la fonction publique a introduit un nouveau cas de non application du jour de carence en cas de congé de maladie accordé après la déclaration de grossesse et avant le début du congé de maternité. ","le jour de carence ne s'applique pas aux congés suivants : congé pour invalidité temporaire imputable au service, congé pour accident de service ou accident du travail et maladie professionnelle, congé de longue maladie, congé de longue durée, congé de grave maladie, congé du blessé (pour les militaires), congé de maladie accordé dans les trois ans après un premier congé de maladie au titre d'une même affection de longue durée (ALD) au sens de l’article L. 324-1 du code de la sécurité sociale, et lorsque la maladie provient de l’une des causes exceptionnelles prévues aux articles L. 27 et L. 35 du code des pensions civiles et militaires de retraite. De plus, le jour de carence ne s'applique pas au deuxième arrêt de travail lorsque l'agent n'a pas repris le travail plus de 48 heures entre les deux congés de maladie et que les deux arrêts de travail ont la même cause. Enfin, la loi n° 2019-828 du 6 août 2019 de transformation de la fonction publique a introduit un nouveau cas de non application du jour de carence en cas de congé de maladie accordé après la déclaration de grossesse et avant le début du congé de maternité. ","le jour de carence ne s'applique pas aux congés suivants : congé pour invalidité temporaire imputable au service, congé pour accident de service ou accident du travail et maladie professionnelle, congé de longue maladie, congé de longue durée, congé de grave maladie, congé du blessé (pour les militaires), congé de maladie accordé dans les trois ans après un premier congé de maladie au titre d'une même affection de longue durée (ALD) au sens de l’article L. 324-1 du code de la sécurité sociale, et lorsque la maladie provient de l’une des causes exceptionnelles prévues aux articles L. 27 et L. 35 du code des pensions civiles et militaires de retraite. De plus, le jour de carence ne s'applique pas au deuxième arrêt de travail lorsque l'agent n'a pas repris le travail plus de 48 heures entre les deux congés de maladie et que les deux arrêts de travail ont la même cause. Enfin, la loi n° 2019-828 du 6 août 2019 de transformation de la fonction publique a introduit un nouveau cas de non application du jour de carence en cas de congé de maladie accordé après la déclaration de grossesse et avant le début du congé de maternité. ","le jour de carence ne s'applique pas aux congés suivants : congé pour invalidité temporaire imputable au service, congé pour accident de service ou accident du travail et maladie professionnelle, congé de longue maladie, congé de longue durée, congé de grave maladie, congé du blessé (pour les militaires), congé de maladie accordé dans les trois ans après un premier congé de maladie au titre d'une même affection de longue durée (ALD) au sens de l’article L. 324-1 du code de la sécurité sociale, et lorsque la maladie provient de l’une des causes exceptionnelles prévues aux articles L. 27 et L. 35 du code des pensions civiles et militaires de retraite. De plus, le jour de carence ne s'applique pas au deuxième arrêt de travail lorsque l'agent n'a pas repris le travail plus de 48 heures entre les deux congés de maladie et que les deux arrêts de travail ont la même cause. Enfin, la loi n° 2019-828 du 6 août 2019 de transformation de la fonction publique a introduit un nouveau cas de non application du jour de carence en cas de congé de maladie accordé après la déclaration de grossesse et avant le début du congé de maternité. ","le jour de carence ne s'applique pas aux congés suivants : congé pour invalidité temporaire imputable au service, congé pour accident de service ou accident du travail et maladie professionnelle, congé de longue maladie, congé de longue durée, congé de grave maladie, congé du blessé (pour les militaires), congé de maladie accordé dans les trois ans après un premier congé de maladie au titre d'une même affection de longue durée (ALD) au sens de l’article L. 324-1 du code de la sécurité sociale, et lorsque la maladie provient de l’une des causes exceptionnelles prévues aux articles L. 27 et L. 35 du code des pensions civiles et militaires de retraite. De plus, le jour de carence ne s'applique pas au deuxième arrêt de travail lorsque l'agent n'a pas repris le travail plus de 48 heures entre les deux congés de maladie et que les deux arrêts de travail ont la même cause. Enfin, la loi n° 2019-828 du 6 août 2019 de transformation de la fonction publique a introduit un nouveau cas de non application du jour de carence en cas de congé de maladie accordé après la déclaration de grossesse et avant le début du congé de maternité. ","le jour de carence ne s'applique pas aux congés suivants : congé pour invalidité temporaire imputable au service, congé pour accident de service ou accident du travail et maladie professionnelle, congé de longue maladie, congé de longue durée, congé de grave maladie, congé du blessé (pour les militaires), congé de maladie accordé dans les trois ans après un premier congé de maladie au titre d'une même affection de longue durée (ALD) au sens de l’article L. 324-1 du code de la sécurité sociale, et lorsque la maladie provient de l’une des causes exceptionnelles prévues aux articles L. 27 et L. 35 du code des pensions civiles et militaires de retraite. De plus, le jour de carence ne s'applique pas au deuxième arrêt de travail lorsque l'agent n'a pas repris le travail plus de 48 heures entre les deux congés de maladie et que les deux arrêts de travail ont la même cause. Enfin, la loi n° 2019-828 du 6 août 2019 de transformation de la fonction publique a introduit un nouveau cas de non application du jour de carence en cas de congé de maladie accordé après la déclaration de grossesse et avant le début du congé de maternité. ","le jour de carence ne s'applique pas aux congés suivants : congé pour invalidité temporaire imputable au service, congé pour accident de service ou accident du travail et maladie professionnelle, congé de longue maladie, congé de longue durée, congé de grave maladie, congé du blessé (pour les militaires), congé de maladie accordé dans les trois ans après un premier congé de maladie au titre d'une même affection de longue durée (ALD) au sens de l’article L. 324-1 du code de la sécurité sociale, et lorsque la maladie provient de l’une des causes exceptionnelles prévues aux articles L. 27 et L. 35 du code des pensions civiles et militaires de retraite. De plus, le jour de carence ne s'applique pas au deuxième arrêt de travail lorsque l'agent n'a pas repris le travail plus de 48 heures entre les deux congés de maladie et que les deux arrêts de travail ont la même cause. Enfin, la loi n° 2019-828 du 6 août 2019 de transformation de la fonction publique a introduit un nouveau cas de non application du jour de carence en cas de congé de maladie accordé après la déclaration de grossesse et avant le début du congé de maternité. "]
["- De plus, le jour de carence ne s'applique pas au deuxième arrêt de travail lorsque l'agent n'a pas repris le travail plus de 48 heures entre les deux congés de maladie et que les deux arrêts de travail ont la même cause.","De plus, le jour de carence ne s'applique pas au deuxième arrêt de travail lorsque l'agent n'a pas repris le travail plus de 48 heures entre les deux congés de maladie et que les deux arrêts de travail ont la même cause","De plus, le jour de carence ne s'applique pas au deuxième arrêt de travail lorsque l'agent n'a pas repris le travail plus de 48 heures entre les deux congés de maladie et que les deux arrêts de travail ont la même cause","De plus, le jour de carence ne s'applique pas au deuxième arrêt de travail lorsque l'agent n'a pas repris le travail plus de 48 heures entre les deux congés de maladie et que les deux arrêts de travail ont la même cause","De plus, le jour de carence ne s'applique pas au deuxième arrêt de travail lorsque l'agent n'a pas repris le travail plus de 48 heures entre les deux congés de maladie et que les deux arrêts de travail ont la même cause","De plus, le jour de carence ne s'applique pas au deuxième arrêt de travail lorsque l'agent n'a pas repris le travail plus de 48 heures entre les deux congés de maladie et que les deux arrêts de travail ont la même cause","De plus, le jour de carence ne s'applique pas au deuxième arrêt de travail lorsque l'agent n'a pas repris le travail plus de 48 heures entre les deux congés de maladie et que les deux arrêts de travail ont la même cause","De plus, le jour de carence ne s'applique pas au deuxième arrêt de travail lorsque l'agent n'a pas repris le travail plus de 48 heures entre les deux congés de maladie et que les deux arrêts de travail ont la même cause"]
["- Enfin, la loi n° 2019-828 du 6 août 2019 de transformation de la fonction publique a introduit un nouveau cas de non application du jour de carence en cas de congé de maladie accordé après la déclaration de grossesse et avant le début du congé de maternité.","Enfin, la loi n° 2019-828 du 6 août 2019 de transformation de la fonction publique a introduit un nouveau cas de non application du jour de carence en cas de congé de maladie accordé après la déclaration de grossesse et avant le début du congé de maternité.","Enfin, la loi n° 2019-828 du 6 août 2019 de transformation de la fonction publique a introduit un nouveau cas de non application du jour de carence en cas de congé de maladie accordé après la déclaration de grossesse et avant le début du congé de maternité.","Enfin, la loi n° 2019-828 du 6 août 2019 de transformation de la fonction publique a introduit un nouveau cas de non application du jour de carence en cas de congé de maladie accordé après la déclaration de grossesse et avant le début du congé de maternité.","Enfin, la loi n° 2019-828 du 6 août 2019 de transformation de la fonction publique a introduit un nouveau cas de non application du jour de carence en cas de congé de maladie accordé après la déclaration de grossesse et avant le début du congé de maternité.","Enfin, la loi n° 2019-828 du 6 août 2019 de transformation de la fonction publique a introduit un nouveau cas de non application du jour de carence en cas de congé de maladie accordé après la déclaration de grossesse et avant le début du congé de maternité.","Enfin, la loi n° 2019-828 du 6 août 2019 de transformation de la fonction publique a introduit un nouveau cas de non application du jour de carence en cas de congé de maladie accordé après la déclaration de grossesse et avant le début du congé de maternité.","Enfin, la loi n° 2019-828 du 6 août 2019 de transformation de la fonction publique a introduit un nouveau cas de non application du jour de carence en cas de congé de maladie accordé après la déclaration de grossesse et avant le début du congé de maternité."]
[]
[]
["Modalités de contrôle des arrêts de maladie"]
["L’indicateur 2.2.7 recense les modalités de contrôle des arrêts de maladie telles que rappelées par la circulaire du 31 mars 2017 relative au renforcement de la politique de prévention et de contrôle des absences pour raison de santé dans la fonction publique.","L’indicateur 2.2.7 recense les modalités de contrôle des arrêts de maladie telles que rappelées par la circulaire du 31 mars 2017 relative au renforcement de la politique de prévention et de contrôle des absences pour raison de santé dans la fonction publique.","L’indicateur 2.2.7 recense les modalités de contrôle des arrêts de maladie telles que rappelées par la circulaire du 31 mars 2017 relative au renforcement de la politique de prévention et de contrôle des absences pour raison de santé dans la fonction publique.","L’indicateur 2.2.7 recense les modalités de contrôle des arrêts de maladie telles que rappelées par la circulaire du 31 mars 2017 relative au renforcement de la politique de prévention et de contrôle des absences pour raison de santé dans la fonction publique.","L’indicateur 2.2.7 recense les modalités de contrôle des arrêts de maladie telles que rappelées par la circulaire du 31 mars 2017 relative au renforcement de la politique de prévention et de contrôle des absences pour raison de santé dans la fonction publique.","L’indicateur 2.2.7 recense les modalités de contrôle des arrêts de maladie telles que rappelées par la circulaire du 31 mars 2017 relative au renforcement de la politique de prévention et de contrôle des absences pour raison de santé dans la fonction publique.","L’indicateur 2.2.7 recense les modalités de contrôle des arrêts de maladie telles que rappelées par la circulaire du 31 mars 2017 relative au renforcement de la politique de prévention et de contrôle des absences pour raison de santé dans la fonction publique.","L’indicateur 2.2.7 recense les modalités de contrôle des arrêts de maladie telles que rappelées par la circulaire du 31 mars 2017 relative au renforcement de la politique de prévention et de contrôle des absences pour raison de santé dans la fonction publique."]
[]
["Précisions"]
["Le contrôle administratif porte sur le respect des règles de transmission des arrêts de maladie ainsi que sur le respect des autorisations de cumul d’activités de l’agent.","Le contrôle administratif porte sur le respect des règles de transmission des arrêts de maladie ainsi que sur le respect des autorisations de cumul d’activités de l’agent.","Le contrôle administratif porte sur le respect des règles de transmission des arrêts de maladie ainsi que sur le respect des autorisations de cumul d’activités de l’agent.","Le contrôle administratif porte sur le respect des règles de transmission des arrêts de maladie ainsi que sur le respect des autorisations de cumul d’activités de l’agent.","Le contrôle administratif porte sur le respect des règles de transmission des arrêts de maladie ainsi que sur le respect des autorisations de cumul d’activités de l’agent.","Le contrôle administratif porte sur le respect des règles de transmission des arrêts de maladie ainsi que sur le respect des autorisations de cumul d’activités de l’agent.","Le contrôle administratif porte sur le respect des règles de transmission des arrêts de maladie ainsi que sur le respect des autorisations de cumul d’activités de l’agent.","Le contrôle administratif porte sur le respect des règles de transmission des arrêts de maladie ainsi que sur le respect des autorisations de cumul d’activités de l’agent."]
["Le fonctionnaire doit transmettre à l'autorité territoriale dont il relève un avis d'interruption de travail dans un délai de quarante-huit heures. En cas de manquement à cette obligation, l'autorité territoriale informe l'agent de la réduction de la rémunération à laquelle il s'expose en cas de nouvel envoi tardif dans une période de vingt-quatre mois.\nSi, dans cette période, l'agent transmet de nouveau tardivement un avis d'interruption de travail, l'autorité territoriale est fondée à réduire de moitié sa rémunération entre la date de prescription de l'arrêt et la date effective d'envoi de l'avis d'arrêt de travail.\nLa réduction de la rémunération n'est pas applicable si le fonctionnaire est hospitalisé ou s'il justifie, dans le délai de huit jours, de son incapacité à transmettre l'avis d'interruption de travail dans le délai imparti (article 15 du décret n° 87-602 du 30 juillet 1987). ","un contrôle administratif des autorisations de cumul d’activités de l’agent placé en congé de maladie peut être effectué par l’employeur afin de s’assurer que l’activité exercée au titre du cumul est compatible avec l’état de santé ayant justifié le placement en congé de maladie","un contrôle administratif des autorisations de cumul d’activités de l’agent placé en congé de maladie peut être effectué par l’employeur afin de s’assurer que l’activité exercée au titre du cumul est compatible avec l’état de santé ayant justifié le placement en congé de maladie","un contrôle administratif des autorisations de cumul d’activités de l’agent placé en congé de maladie peut être effectué par l’employeur afin de s’assurer que l’activité exercée au titre du cumul est compatible avec l’état de santé ayant justifié le placement en congé de maladie","un contrôle administratif des autorisations de cumul d’activités de l’agent placé en congé de maladie peut être effectué par l’employeur afin de s’assurer que l’activité exercée au titre du cumul est compatible avec l’état de santé ayant justifié le placement en congé de maladie","un contrôle administratif des autorisations de cumul d’activités de l’agent placé en congé de maladie peut être effectué par l’employeur afin de s’assurer que l’activité exercée au titre du cumul est compatible avec l’état de santé ayant justifié le placement en congé de maladie","un contrôle administratif des autorisations de cumul d’activités de l’agent placé en congé de maladie peut être effectué par l’employeur afin de s’assurer que l’activité exercée au titre du cumul est compatible avec l’état de santé ayant justifié le placement en congé de maladie","un contrôle administratif des autorisations de cumul d’activités de l’agent placé en congé de maladie peut être effectué par l’employeur afin de s’assurer que l’activité exercée au titre du cumul est compatible avec l’état de santé ayant justifié le placement en congé de maladie"]
["Un contrôle administratif des autorisations de cumul d’activités de l’agent placé en congé de maladie peut également être effectué par l’employeur afin de s’assurer que l’activité exercée au titre du cumul est compatible avec l’état de santé ayant justifié le placement en congé de maladie"]
[]
["Le contrôle médical vise à s’assurer que l’agent placé en congé de maladie remplit les conditions liées à son état de santé pour bénéficier de ce congé.","Le contrôle médical vise à s’assurer que l’agent placé en congé de maladie remplit les conditions liées à son état de santé pour bénéficier de ce congé.","Le contrôle médical vise à s’assurer que l’agent placé en congé de maladie remplit les conditions liées à son état de santé pour bénéficier de ce congé.","Le contrôle médical vise à s’assurer que l’agent placé en congé de maladie remplit les conditions liées à son état de santé pour bénéficier de ce congé.","Le contrôle médical vise à s’assurer que l’agent placé en congé de maladie remplit les conditions liées à son état de santé pour bénéficier de ce congé.","Le contrôle médical vise à s’assurer que l’agent placé en congé de maladie remplit les conditions liées à son état de santé pour bénéficier de ce congé.","Le contrôle médical vise à s’assurer que l’agent placé en congé de maladie remplit les conditions liées à son état de santé pour bénéficier de ce congé.","Le contrôle médical vise à s’assurer que l’agent placé en congé de maladie remplit les conditions liées à son état de santé pour bénéficier de ce congé."]
["L’autorité hiérarchique peut ordonner une contre-visite médicale assurée par un médecin agréé à laquelle l’agent doit se soumettre sous peine d’interruption du versement de sa rémunération et de perte du bénéfice du congé, après mise en demeure, en cas de refus répétés et sans motif valable de se soumettre au contrôle (articles 15, 29 et 34 du décret du 30 juillet 1987 précité applicables aux fonctionnaires relevant du régime spécial – article 42 du décret n°91-298 du 20 mars 1991 pour les fonctionnaires relevant du régime général de la sécurité sociale - article 12 décret n°88-145 du 15 février 1988 pour les agents contractuels).","L’autorité hiérarchique peut ordonner une contre-visite médicale assurée par un médecin agréé à laquelle l’agent doit se soumettre sous peine d’interruption du versement de sa rémunération et de perte du bénéfice du congé, après mise en demeure, en cas de refus répétés et sans motif valable de se soumettre au contrôle (articles 15, 29 et 34 du décret du 30 juillet 1987 précité applicables aux fonctionnaires relevant du régime spécial – article 42 du décret n°91-298 du 20 mars 1991 pour les fonctionnaires relevant du régime général de la sécurité sociale - article 12 décret n°88-145 du 15 février 1988 pour les agents contractuels).","L’autorité hiérarchique peut ordonner une contre-visite médicale assurée par un médecin agréé à laquelle l’agent doit se soumettre sous peine d’interruption du versement de sa rémunération et de perte du bénéfice du congé, après mise en demeure, en cas de refus répétés et sans motif valable de se soumettre au contrôle (articles 15, 29 et 34 du décret du 30 juillet 1987 précité applicables aux fonctionnaires relevant du régime spécial – article 42 du décret n°91-298 du 20 mars 1991 pour les fonctionnaires relevant du régime général de la sécurité sociale - article 12 décret n°88-145 du 15 février 1988 pour les agents contractuels).","L’autorité hiérarchique peut ordonner une contre-visite médicale assurée par un médecin agréé à laquelle l’agent doit se soumettre sous peine d’interruption du versement de sa rémunération et de perte du bénéfice du congé, après mise en demeure, en cas de refus répétés et sans motif valable de se soumettre au contrôle (articles 15, 29 et 34 du décret du 30 juillet 1987 précité applicables aux fonctionnaires relevant du régime spécial – article 42 du décret n°91-298 du 20 mars 1991 pour les fonctionnaires relevant du régime général de la sécurité sociale - article 12 décret n°88-145 du 15 février 1988 pour les agents contractuels).","L’autorité hiérarchique peut ordonner une contre-visite médicale assurée par un médecin agréé à laquelle l’agent doit se soumettre sous peine d’interruption du versement de sa rémunération et de perte du bénéfice du congé, après mise en demeure, en cas de refus répétés et sans motif valable de se soumettre au contrôle (articles 15, 29 et 34 du décret du 30 juillet 1987 précité applicables aux fonctionnaires relevant du régime spécial – article 42 du décret n°91-298 du 20 mars 1991 pour les fonctionnaires relevant du régime général de la sécurité sociale - article 12 décret n°88-145 du 15 février 1988 pour les agents contractuels).","L’autorité hiérarchique peut ordonner une contre-visite médicale assurée par un médecin agréé à laquelle l’agent doit se soumettre sous peine d’interruption du versement de sa rémunération et de perte du bénéfice du congé, après mise en demeure, en cas de refus répétés et sans motif valable de se soumettre au contrôle (articles 15, 29 et 34 du décret du 30 juillet 1987 précité applicables aux fonctionnaires relevant du régime spécial – article 42 du décret n°91-298 du 20 mars 1991 pour les fonctionnaires relevant du régime général de la sécurité sociale - article 12 décret n°88-145 du 15 février 1988 pour les agents contractuels).","L’autorité hiérarchique peut ordonner une contre-visite médicale assurée par un médecin agréé à laquelle l’agent doit se soumettre sous peine d’interruption du versement de sa rémunération et de perte du bénéfice du congé, après mise en demeure, en cas de refus répétés et sans motif valable de se soumettre au contrôle (articles 15, 29 et 34 du décret du 30 juillet 1987 précité applicables aux fonctionnaires relevant du régime spécial – article 42 du décret n°91-298 du 20 mars 1991 pour les fonctionnaires relevant du régime général de la sécurité sociale - article 12 décret n°88-145 du 15 février 1988 pour les agents contractuels).","L’autorité hiérarchique peut ordonner une contre-visite médicale assurée par un médecin agréé à laquelle l’agent doit se soumettre sous peine d’interruption du versement de sa rémunération et de perte du bénéfice du congé, après mise en demeure, en cas de refus répétés et sans motif valable de se soumettre au contrôle (articles 15, 29 et 34 du décret du 30 juillet 1987 précité applicables aux fonctionnaires relevant du régime spécial – article 42 du décret n°91-298 du 20 mars 1991 pour les fonctionnaires relevant du régime général de la sécurité sociale - article 12 décret n°88-145 du 15 février 1988 pour les agents contractuels)."]

{"sheet":"IND 2.2.1-2.2.4","index":56,"n_rows":93,"n_cols":11,"rows_kept":93,"cut":false,"hidden":false,"merged":[[2,0,2,7],[5,0,5,7],[30,0,30,5],[42,0,42,9],[33,3,33,5],[22,1,22,2],[7,0,7,5],[9,0,9,6],[51,0,51,1],[49,0,49,1],[11,3,11,5],[28,0,28,7],[20,1,20,2],[44,0,44,5],[38,1,38,2],[48,0,48,1],[47,0,47,1],[46,4,46,5],[92,0,92,7],[79,0,79,2],[82,0,82,7],[84,4,85,6],[84,1,85,3],[91,0,91,7],[66,8,66,9],[35,1,35,2],[36,1,36,2],[46,2,46,3],[37,1,37,2],[40,0,40,6],[46,0,46,1],[56,2,56,3],[61,0,61,1],[59,0,59,1],[66,4,66,5],[66,0,66,1],[50,0,50,1],[60,0,60,1],[54,0,54,7],[56,0,56,1],[76,0,76,7],[56,4,56,5],[57,0,57,1],[58,0,58,1],[66,6,66,7],[66,2,66,3],[71,0,71,1],[64,0,64,7],[70,0,70,1],[69,0,69,1],[68,0,68,1],[67,0,67,1]]}
[null,null,null,"Retour Sommaire"]
[]
["2.2. - Temps de travail"]
[]
[]
["2.2.1 - Modalités d'organisation du temps de travail "]
[]
["Champ : le tableau qui suit concerne les agents occupant un emploi permanent à temps complet (qu'ils travaillent à temps plein ou à temps partiel) présents au 31 décembre 2019."]
[]
["Avez-vous, parmi vos agents sur emploi permanent à temps complet, des agents concernés par des cycles de travail délibérés avant le 1er janvier 2002 ?",null,null,null,null,null,null,"(vide)"]
[]
[null,null,null,"Nombre de fonctionnaires et de contractuels sur emploi permanent à temps complet concernés au 31 décembre 2019"]
[null,null,null,"Hommes ","Femmes","Total","cycle1"]
[null,"Agents sur cycle hebdomadaire",null,null,null,{"$f":"SUM(D14:E14)","v":0},1]
[null,"Cycle mensuel",null,null,null,0,2]
[null,"Cycle saisonnier",null,null,null,0,3]
[null,"Cycle annuel",null,null,null,0,4]
[null,"Autre cycle",null,null,null,0,5]
[null,"Forfait",null,null,null,0,6]
[null,"Total tous types de cycles",null,{"$f":"SUM(D14:D19)","v":0},{"$f":"SUM(E14:E19)","v":0},{"$f":"SUM(F14:F19)","v":0},0]
[null,"dont cycles de travail délibérés avant le 1er janvier 2002",null,null,null,{"$f":"SUM(D21:E21)","v":0},7]
[null,null,null,1,2,0,"sexe"]
[null,"Rappel : nombre total d'agents concernés",null,null,null,{"$f":"'IND 1.1.1'!B376+'IND 1.2.1'!L91","v":0}]
[]
[]
[]
[]
[]
["2.2.2 - Contraintes particulières concernant le temps de travail "]
[]
["Champ : le tableau qui suit concerne les agents occupant un emploi permanent à temps complet (qu'ils travaillent à temps plein ou à temps partiel) présents au 31 décembre 2019."]
[]
[]
[null,null,null,"Nombre de fonctionnaires et de contractuels sur emploi permanent à temps complet concernés au 31 décembre 2019"]
[null,null,null,"Hommes ","Femmes","Total","cycle2"]
[null,"Horaires décalés",null,null,null,{"$f":"SUM(D36:E36)","v":0},1]
[null,"Travail de nuit",null,null,null,{"$f":"SUM(D37:E37)","v":0},2]
[null,"Travail le week-end",null,null,null,{"$f":"SUM(D38:E38)","v":0},3]
[null,"Forfait",null,null,null,{"$f":"SUM(D39:E39)","v":0},4]
[null,null,null,1,2,0,"sexe"]
["Avez-vous, parmi vos agents sur emploi permanent à temps complet, des agents liés à des sujétions qui induisent une diminution du temps de travail ?",null,null,null,null,null,null,"(vide)"]
[]
["2.2.3 - Compte épargne-temps"]
[]
["Champ : le tableau qui suit concerne les agents sur emploi permanent, présents dans la collectivité locale au 31/12/2019."]
[]
["2.2.3.1 Nombre d'agents ayant un compte épargne temps (CET) ",null,"Nombre d'agents ayant un compte épargne temps (CET) au 31/12/2019",null,"dont nombre d'agents ayant ouvert un compte épargne temps (CET) en 2019",null,"Nombre total d'agents ayant un compte épargne temps (CET) au 31/12/2019","dont nombre d'agents ayant ouvert un compte épargne temps (CET) en 2019"]
[null,null,"Hommes","Femmes","Hommes","Femmes","Total","Total","categ_hier"]
["Catégorie A",null,null,null,null,null,{"$f":"SUM(C49:D49)","v":0},{"$f":"SUM(E49:F49)","v":0},1]
["Catégorie B",null,null,null,null,null,{"$f":"SUM(C50:D50)","v":0},{"$f":"SUM(E50:F50)","v":0},2]
["Catégorie C",null,null,null,null,null,{"$f":"SUM(C51:D51)","v":0},{"$f":"SUM(E51:F51)","v":0},3]
["Toutes catégories",null,{"$f":"SUM(C49:C51)","v":0},0,0,0,0,0,0]
[null,null,1,1,2,2,1,2,"annee_compte"]
[null,null,1,2,1,2,0,0,"sexe"]
["Champ : le tableau qui suit concerne les agents sur emploi permanent, présents dans la collectivité locale au 31/12/2019."]
[]
["2.2.3.2 Nombre de jours accumulés",null,"Nombre de jours accumulés au 31/12/2019",null,"dont nombre de jours versés au titre de l'année 2019",null,"Nombre de jours accumulés au 31/12/2019","dont nombre de jours versés au titre de l'année 2019"]
[null,null,"Hommes","Femmes","Hommes","Femmes","Total","Total","categ_hier"]
["Catégorie A",null,null,null,null,null,{"$f":"SUM(C59:D59)","v":0},{"$f":"SUM(E59:F59)","v":0},1]
["Catégorie B",null,null,null,null,null,{"$f":"SUM(C60:D60)","v":0},{"$f":"SUM(E60:F60)","v":0},2]
["Catégorie C",null,null,null,null,null,{"$f":"SUM(C61:D61)","v":0},{"$f":"SUM(E61:F61)","v":0},3]
["Toutes catégories",null,{"$f":"SUM(C59:C61)","v":0},0,0,0,0,0,0]
[null,null,1,1,2,2,1,2,"annee_jour"]
[null,null,1,2,1,2,0,0,"sexe"]
["Champ : le tableau qui suit concerne tous les agents sur emploi permanent passés par la collectivité locale même s'ils n'y sont plus au 31/12/2019."]
[]
["2.2.3.3 Nombre de jours utilisés par type de consommation (cf. décret n° 2010-531 du 20 mai 2010)",null,"Nombre de jours utilisés sous forme de congés en 2019",null,"Nombre de jours indemnisés en 2019",null,"Nombre de jours pris en compte au titre de la  Rafp* en 2019",null,"Nombre de jours donnés au bénéfice d'un agent public en 2019"]
[null,null,"Hommes","Femmes","Hommes","Femmes","Hommes","Femmes","Hommes","Femmes","categ_hier"]
["Catégorie A",null,null,null,null,null,null,null,null,null,1]
["Catégorie B",null,null,null,null,null,null,null,null,null,2]
["Catégorie C",null,null,null,null,null,null,null,null,null,3]
["Toutes catégories",null,{"$f":"SUM(C69:C71)","v":0},0,0,0,0,0,0,0,0]
[null,null,1,1,2,2,3,3,4,4,"Type conso"]
[null,null,1,2,1,2,1,2,1,2,"sexe"]
["* Régime de retraite additionnel dans la fonction publique (Rafp)."]
[]
["2.2.4 - Télétravail"]
[]
[]
["Avez-vous délibéré sur la mise en place du  télétravail ?",null,null,"(vide)"]
["Si oui, renseigner le tableau suivant :"]
[]
["Champ : le tableau qui suit concerne les agents présents dans la collectivité locale au 31/12/2019."]
[]
[null,"Hommes",null,null,"Femmes"]
[]
[null,"Catégorie A","Catégorie B","Catégorie C","Catégorie A","Catégorie B","Catégorie C"]
["Nombre d’agents ayant demandé à bénéficier du télétravail au cours de l'année 2019"]
["Nombre d’agents exerçant leurs fonctions dans le cadre du télétravail (article 133 de la loi du 12 mars 2012) au 31/12/2019"]
[null,1,1,1,2,2,2,"sexe"]
[null,1,2,3,1,2,3,"categ"]
["Définition du télétravail : Article L. 1222-9 du Code du travail :\nSans préjudice de l'application, s'il y a lieu, des dispositions du présent code protégeant les travailleurs à domicile, le télétravail désigne toute forme d'organisation du travail dans laquelle un travail qui aurait également pu être exécuté dans les locaux de l'employeur est effectué par un salarié hors de ces locaux de façon (régulière et) volontaire en utilisant les technologies de l'information et de la communication. (dans le cadre d'un contrat de travail ou d'un avenant à celui-ci.)"]
["Article 133 de la loi du 12 mars 2012 :\nLes fonctionnaires relevant de la loi n° 83-634 du 13 juillet 1983 portant droits et obligations des fonctionnaires peuvent exercer leurs fonctions dans le cadre du télétravail tel qu'il est défini au premier alinéa de l'article L. 1222-9 du code du travail. L'exercice des fonctions en télétravail est accordé à la demande du fonctionnaire et après accord du chef de service. Il peut y être mis fin à tout moment, sous réserve d'un délai de prévenance. Les fonctionnaires télétravailleurs bénéficient des droits prévus par la législation et la réglementation applicables aux agents exerçant leurs fonctions dans les locaux de leur employeur public.\nLe présent article est applicable aux agents publics non fonctionnaires et aux magistrats. Un décret en Conseil d'Etat fixe, après concertation avec les organisations syndicales représentatives de la fonction publique, les conditions d'application du présent article, notamment en ce qui concerne les modalités d'organisation du télétravail et les conditions dans lesquelles la commission administrative paritaire compétente peut être saisie par le fonctionnaire intéressé en cas de refus opposé à sa demande de télétravail ainsi que les possibilités de recours ponctuel au télétravail."]

{"sheet":"IND 2.2.5","index":57,"n_rows":5,"n_cols":6,"rows_kept":5,"cut":false,"hidden":false,"merged":[[2,0,2,5],[0,1,0,3]]}
[null,"Retour Sommaire"]
[]
["2.2.5 Charte du temps"]
[]
["Votre collectivité dispose-t-elle d'une charte du temps au 31/12/2019 ?",null,null,null,null,"(vide)"]

{"sheet":"IND 2.2.6","index":58,"n_rows":34,"n_cols":9,"rows_kept":34,"cut":false,"hidden":false,"merged":[[25,7,26,7],[4,0,4,7],[2,0,2,7],[7,0,8,0],[7,7,8,7],[16,7,17,7],[0,1,0,3],[25,0,26,0],[25,1,25,3],[25,4,25,6],[16,1,16,3],[16,0,17,0],[7,4,7,6],[7,1,7,3],[16,4,16,6]]}
[null,"Retour Sommaire"]
[]
["2.2.6 - Nombre de jours de carence par sexe, par catégorie hiérarchique et montant des sommes brutes retenues "]
[]
["Champ : les tableaux qui suivent concernent les agents ayant été rémunérés au moins un jour dans l'année, au cours de l'année 2019"]
[]
["Agents fonctionnaires"]
[null,"Hommes",null,null,"Femmes",null,null,"Total"]
[null,"Cat A","Cat B","Cat C","Cat A","Cat B","Cat C",null,"carence"]
["Nombre de jours de carence prélevés",null,null,null,null,null,null,{"$f":"SUM(B10:G10)","v":0},1]
["Montant brut des sommes retenues pour délai de carence (€)",null,null,null,null,null,null,{"$f":"SUM(B11:G11)","v":0},5]
["Nombre total d'agents rémunérés et potentiellement soumis au jour de carence",null,null,null,null,null,null,{"$f":"SUM(B12:G12)","v":0},3]
["Nombre d'agents auxquels a été appliqué au moins un jour de carence",null,null,null,null,null,null,{"$f":"SUM(B13:G13)","v":0},4]
["Nombre d'arrêts maladies (hors prolongations) soumis à la journée de carence",null,null,null,null,null,null,{"$f":"SUM(B14:G14)","v":0},2]
[null,1,1,1,2,2,2,0,"sexe"]
["Agents contractuels permanents",1,2,3,1,2,3,0,"categ"]
[null,"Hommes",null,null,"Femmes",null,null,"Total"]
[null,"Cat A","Cat B","Cat C","Cat A","Cat B","Cat C",null,"carence"]
["Nombre de jours de carence prélevés",null,null,null,null,null,null,{"$f":"SUM(B19:G19)","v":0},1]
["Montant brut des sommes retenues pour délai de carence (€)",null,null,null,null,null,null,{"$f":"SUM(B20:G20)","v":0},5]
["Nombre total d'agents rémunérés et potentiellement soumis au jour de carence",null,null,null,null,null,null,{"$f":"SUM(B21:G21)","v":0},3]
["Nombre d'agents auxquels a été appliqué au moins un jour de carence",null,null,null,null,null,null,{"$f":"SUM(B22:G22)","v":0},4]
["Nombre d'arrêts maladies (hors prolongations) soumis à la journée de carence",null,null,null,null,null,null,{"$f":"SUM(B23:G23)","v":0},2]
[null,1,1,1,2,2,2,0,"sexe"]
["Agents contractuels non permanents",1,2,3,1,2,3,0,"categ"]
[null,"Hommes",null,null,"Femmes",null,null,"Total"]
[null,"Cat A","Cat B","Cat C","Cat A","Cat B","Cat C",null,"carence"]
["Nombre de jours de carence prélevés",null,null,null,null,null,null,{"$f":"SUM(B28:G28)","v":0},1]
["Montant brut des sommes retenues pour délai de carence (€)",null,null,null,null,null,null,{"$f":"SUM(B29:G29)","v":0},5]
["Nombre total d'agents rémunérés et potentiellement soumis au jour de carence",null,null,null,null,null,null,{"$f":"SUM(B30:G30)","v":0},3]
["Nombre d'agents auxquels a été appliqué au moins un jour de carence",null,null,null,null,null,null,{"$f":"SUM(B31:G31)","v":0},4]
["Nombre d'arrêts maladies (hors prolongations) soumis à la journée de carence",null,null,null,null,null,null,{"$f":"SUM(B32:G32)","v":0},2]
[null,1,1,1,2,2,2,0,"sexe"]
[null,1,2,3,1,2,3,0,"categ"]

{"sheet":"IND 2.2.7","index":59,"n_rows":7,"n_cols":7,"rows_kept":7,"cut":false,"hidden":false,"merged":[[2,0,2,6],[0,1,0,3]]}
[null,"Retour Sommaire"]
[]
["2.2.7 - Modalités de contrôle des arrêts maladie "]
[]
["Avez-vous mis en place des procédures administratives de contrôle des arrêts maladies ?",null,null,null,null,null,"(vide)"]
[]
["Avez-vous mis en place des procédures médicales de contrôle des arrêts maladies ?",null,null,null,null,null,"(vide)"]

{"sheet":"IND 2.3.1","index":60,"n_rows":33,"n_cols":6,"rows_kept":33,"cut":false,"hidden":false,"merged":[[14,0,14,5],[18,0,18,5],[16,0,16,5],[0,2,0,3],[2,0,2,5],[12,0,12,5]]}
[null,null,"Retour Sommaire"]
[]
[" 2.3.1 - Informations relatives au temps partiel prévu par l'article 60 de la loi n° 84-53 du 26 janvier 1984"]
[]
[null,null,1,2,0,"sexe/demande"]
[null,null,"Hommes","Femmes","Total"]
["2.3.1.1","Nombre de demandes présentées",null,null,{"$f":"C7+D7","v":0},"DPR"]
["2.3.1.2","Nombre de demandes acceptées",null,null,{"$f":"C8+D8","v":0},"DAC"]
["2.3.1.3","Nombre de premières demandes satisfaites",null,null,{"$f":"C9+D9","v":0},"PDS"]
["2.3.1.4","Nombre de modifications de quotités",null,null,{"$f":"C10+D10","v":0},"MOQ"]
["2.3.1.5","Nombre de retours au temps plein",null,null,{"$f":"C11+D11","v":0},"RTP"]
[]
["2.3.1.1 il s'agit du nombre de demandes présentées et non du nombre d'agents ayant présenté des demandes au cours de l'année. (Un agent peut avoir déposé deux demandes au cours de la même année.)"]
[]
["2.3.1.2 il s'agit du nombre de demandes acceptées et non du nombre d'agents ayant présenté des demandes au cours de l'année. (Un agent peut avoir déposé deux demandes au cours de la même année.)"]
[]
["2.3.1.4 il s'agit du nombre de modifications présentées par des agents occupant un emploi permanent à temps complet et exerçant leurs fonctions à temps partiel qui, lors de leur demande de renouvellement modifient la quotité du temps de travail par rapport à la période précédente.\nNe pas prendre en compte les retours au temps plein."]
[]
["2.3.1.5 il s'agit du nombre d'agents occupant un emploi à temps complet et exerçant leurs fonctions à temps partiel choisi qui ne renouvellent pas leur demande de travail à temps partiel."]
[]
[]
[]
[]
[]
[]
[]
[]
[]
[]
[]
[]
[]
["."]

{"sheet":"Fiche 3.1.1-3.4.3","index":61,"n_rows":70,"n_cols":4,"rows_kept":70,"cut":false,"hidden":false,"merged":[[9,0,9,7],[5,0,5,7],[8,0,8,7],[0,3,0,4],[2,0,2,7],[3,0,3,7],[4,0,4,7],[18,0,18,7],[19,0,19,7],[10,0,10,7],[12,0,12,7],[13,0,13,7],[14,0,14,7],[15,0,15,7],[16,0,16,7],[17,0,17,7],[32,0,32,7],[33,0,33,7],[20,0,20,7],[22,0,22,7],[40,0,40,7],[24,0,24,7],[28,0,28,7],[29,0,29,7],[30,0,30,7],[34,0,34,7],[35,0,35,7],[36,0,36,7],[38,0,38,7],[69,0,69,7],[56,0,56,7],[57,0,57,7],[65,0,65,7],[66,0,66,7],[68,0,68,7],[44,0,44,7],[64,0,64,7],[58,0,58,7],[60,0,60,7],[51,0,51,7],[54,0,54,7],[45,0,45,7],[46,0,46,7],[48,0,48,7],[49,0,49,7],[61,0,61,7]]}
[null,null,null,"Retour Sommaire"]
[]
["3.1.1 et 3.2.1 - Rémunérations brutes des fonctionnaires et des contractuels occupant un emploi permanent "]
["3.3.1 -  Rémunérations des agents sur emplois non permanents           "]
["                         3.4.1 - Cotisations à l'UNEDIC et à pôle emploi                                                                 "]
["3.4.2 - Allocations chômage versées directement aux bénéficiaires         "]
[]
["Indicateur 3.1.1."]
["Quels sont les personnels à prendre en compte à l’indicateur 3.1.1. ?"]
["* les fonctionnaires stagiaires et titulaires"]
["*ayant travaillé au moins un jour au cours de l'année 2019"]
[]
["Commencer par indiquer si vous avez mis en place le RIFSEEP pour au moins un cadre d'emplois, au plus tard au 31/12/2019, à l'aide du menu déroulant."]
["Puis indiquer si vous avez délibéré sur la mise en place d'une part CIA au plus tard au 31/12/2019, à l'aide du menu déroulant."]
["Puis compléter l'indicateur 3.1.1 comme suit :"]
["* le total des rémunérations annuelles brutes versées au cours de l’année (hors charges patronales ; colonne 3.1.1.1)"]
["* les primes et indemnités de toute nature, à l’exception des remboursements de frais de déplacement (colonne 3.1.1.2.)"]
["* la nouvelle bonification indiciaire (NBI ; colonne 3.1.1.3)"]
["* les heures supplémentaires ou complémentaires (colonne 3.1.1.4)"]
["* le supplément familial de traitement (colonne 3.1.1.5)"]
["* les indemnités de résidence (colonne 3.1.1.6)"]
[]
[" Remarque : les montants à inscrire dans les colonnes 3.1.1.2, 3.1.1.3, 3.1.1.4, 3.1.1.5 et 3.1.1.6 sont inclus dans le total des rémunérations de la colonne 3.1.1.1."]
[]
["Ces rémunérations, exprimées en euros (arrondies à l'euro supérieur), sont comptabilisées par filière croisée par la catégorie (en lignes) selon le sexe (en colonnes)."]
[]
[]
["Indicateur 3.2.1."]
["Quels sont les personnels à prendre en compte à l’indicateur 3.2.1. ?"]
["* les contractuels occupant un emploi permanent "]
["* ayant travaillé au moins un jours au cours de l'année 2019"]
[]
["Commencer par indiquer si vous avez mis en place le  RIFSEEP pour les contractuels au plus tard au 31/12/2019, à l'aide du menu déroulant."]
["Puis compléter l'indicateur 3.2.1 comme suit :"]
["* total des rémunérations annuelles brutes versées au cours de l’année (hors charges patronales ; colonne 3.2.1.1)"]
["* les primes et indemnités de toute nature (colonne 3.2.1.2)"]
["* les heures complémentaires et supplémentaires (colonne 3.2.1.3)"]
[]
["Remarque : les montants à inscrire dans les colonnes 3.2.1.2 et 3.2.1.3 sont inclus dans le total des rémunérations de la colonne 3.2.1.1."]
[]
["Ces rémunérations, exprimées en euros (arrondies à l'euro supérieur), sont comptabilisées par filière croisée par la catégorie (en lignes) selon le sexe (en colonnes)."]
[]
[]
["Indicateur 3.3.1."]
["Quels sont les personnels à prendre en compte à l’indicateur 3.3.1 ?"]
["* les agents contractuels occupant un emploi NON permanent"]
["* ayant travaillé au moins un jour au cours de l'année 2019"]
[]
["Quelles sont les rémunérations à récapituler à l’indicateur 3.3.1 ?"]
["* total des rémunérations brutes versées au cours de l’année (hors charges patronales)"]
[]
["Ces rémunérations, exprimées en euros (arrondies à l'euro supérieur), sont comptabilisées par emplois NON permanents (en lignes) selon le sexe (en colonnes)."]
[]
[]
["3.4 - Indicateurs sur l'assurance chômage "]
[]
[" 3.4.1 - Indemnisation du chômage pour les titulaires (auto-assurance)"]
["Indiquer si vous êtes en auto-assurance avec ou sans convention de gestion avec Pôle Emploi, à l'aide du menu déroulant."]
["Préciser le nombre d'agents allocataires au titre de l'année 2019."]
[]
["3.4.2 - Indemnisation du chômage pour les contractuels (auto-assurance ou adhésion au régime d'assurance chômage)"]
["Indiquer si vous êtes au auto-assurance avec ou sans convention de gestion avec Pôle Emploi, ou si vous avez adhéré au régime de l'assurance-chômage à l'aide du menu déroulant."]
["Préciser le nombre d'allocataires au titre de l'année 2019."]
[]
["Pour les agents involontairement privés d'emploi, la collectivité peut choisir un des deux systèmes suivants :"]
["Adhésion au régime d'assurance chômage : la collectivité cotise à l'URSSAF (pour le compte de l'UNEDIC) pour ses contractuels. Pôle emploi (pour le compte de l'UNEDIC) assurera la gestion administrative et le versement de l'allocation aux bénéficiaires. Ce système n'est possible que pour les agents contractuels.  "]
["Auto-assurance : la collectivité peut également choisir d'assurer elle-même la gestion administrative de l'allocation et son versement au bénéficiaire. Ce système est obligatoire pour les fonctionnaires, il peut être étendu aux contractuels. Dans le cadre de l'auto-assurance, la collectivité peut passer une convention de gestion avec Pôle emploi pour la gestion des dossiers et le versement des allocations. La collectivité paie des frais de gestion et rembourse à Pôle Emploi le montant de l'allocation chômage versée aux bénéficiaires (la charge financière de l'allocation incombe donc à la collectivité comme lorsqu'elle verse directement les allocations)."]
[]
[" 3.4.3 - Maintien des primes en cas de congé de maladie ordinaire"]
["Indiquer par oui ou par non si vous avez prévu le maintien des primes en cas de congé de maladie ordinaire, à l'aide du menu déroulant."]

{"sheet":"IND 3.1.1-3.4.3","index":62,"n_rows":145,"n_cols":15,"rows_kept":145,"cut":false,"hidden":false,"merged":[[120,0,120,2],[118,0,118,2],[119,0,119,2],[113,0,113,5],[15,1,15,2],[108,0,108,5],[110,0,110,5],[63,5,63,6],[64,5,64,6],[13,0,13,4],[134,0,134,5],[130,1,130,4],[15,0,17,0],[15,5,15,6],[16,1,16,2],[16,3,16,4],[64,3,64,4],[63,3,63,4],[63,1,63,2],[64,1,64,2],[112,0,112,5],[111,0,111,5],[116,3,116,4],[121,0,121,2],[63,0,65,0],[0,1,0,4],[5,0,5,10],[61,0,61,4],[4,0,4,10],[7,0,7,7],[16,5,16,6],[15,7,15,8],[15,9,15,10],[16,9,16,10],[16,7,16,8],[2,0,2,12],[9,0,10,12],[15,11,15,12],[16,11,16,12],[12,0,12,4],[15,3,15,4],[144,0,144,4],[140,1,140,4],[124,0,124,5],[139,1,139,4],[129,1,129,4],[142,0,142,5],[131,1,131,4],[127,0,127,3],[137,0,137,3],[136,0,136,4]]}
[null,"Retour Sommaire"]
[]
["3.1.1 et 3.2.1  - Rémunérations des fonctionnaires et de contractuels occupant un EMPLOI PERMANENT \nayant travaillé au moins un jour durant l'année 2019"]
[]
["Champ : les tableaux qui suivent concernent les fonctionnaires et les contractuels sur un emploi permanent, ayant travaillé au moins un jour au cours de l'année 2019."]
["Les rémunérations à prendre en compte sont les rémunérations annuelles des agents ayant travaillé au moins un jour durant l'année 2019."]
["Tous les montants doivent être exprimés en  euros (arrondir à l'euro supérieur)."]
["Remarque : ne pas remplir les cellules grisées (pré remplies par un zéro) qui font l’objet de calculs automatiques. "]
[]
["3.1.1 et 3.2.1 incluent dans le traitement brut annuel, les indemnités de résidence (IR), le supplément familial de traitement (SFT), les primes ou indemnités de toutes natures, ainsi que la NBI pour 3.1.1."]
[]
[]
["3.1.1.0 - Agents fonctionnaires - Au 31/12/2019, avez-vous mis en place le RIFSEEP pour au moins un cadre d'emplois ? ",null,null,null,null,"(vide)"]
["Si oui, avez-vous délibéré sur la mise en place d'une part CIA ?",null,null,null,null,"(vide)"]
[]
["3.1.1 - FONCTIONNAIRES SUR EMPLOI PERMANENT","Montant total des rémunérations annuelles brutes (hors charges patronales)",null,"dont primes et indemnités (à l'exception des frais de déplacement)",null,"dont nouvelle bonification indiciaire (NBI)",null,"dont heures supplémentaires ou complémentaires",null,"dont SFT",null,"dont IR",null,"cadre","categ"]
[null,"3.1.1.1",null,"3.1.1.2",null,"3.1.1.3",null,"3.1.1.4",null,"3.1.1.5",null,"3.1.1.6"]
[null,"Hommes","Femmes","Hommes","Femmes","Hommes","Femmes","Hommes","Femmes","Hommes","Femmes","Hommes","Femmes"]
["FILIERE ADMINISTRATIVE",{"$f":"SUM(B20:B22)","v":0},{"$f":"SUM(C20:C22)","v":0},0,0,0,0,0,0,0,0,0,0,"A",0]
["Catégorie A",null,null,null,null,null,null,null,null,null,null,null,null,"A",1]
["Catégorie B",null,null,null,null,null,null,null,null,null,null,null,null,"A",2]
["Catégorie C",null,null,null,null,null,null,null,null,null,null,null,null,"A",3]
["FILIERE TECHNIQUE",{"$f":"SUM(B24:B26)","v":0},0,0,0,0,0,0,0,0,0,0,0,"T",0]
["Catégorie A",null,null,null,null,null,null,null,null,null,null,null,null,"T",1]
["Catégorie B",null,null,null,null,null,null,null,null,null,null,null,null,"T",2]
["Catégorie C",null,null,null,null,null,null,null,null,null,null,null,null,"T",3]
["FILIERE CULTURELLE",{"$f":"SUM(B28:B30)","v":0},0,0,0,0,0,0,0,0,0,0,0,"C",0]
["Catégorie A",null,null,null,null,null,null,null,null,null,null,null,null,"C",1]
["Catégorie B",null,null,null,null,null,null,null,null,null,null,null,null,"C",2]
["Catégorie C",null,null,null,null,null,null,null,null,null,null,null,null,"C",3]
["FILIERE SPORTIVE",{"$f":"SUM(B32:B34)","v":0},0,0,0,0,0,0,0,0,0,0,0,"S",0]
["Catégorie A",null,null,null,null,null,null,null,null,null,null,null,null,"S",1]
["Catégorie B",null,null,null,null,null,null,null,null,null,null,null,null,"S",2]
["Catégorie C",null,null,null,null,null,null,null,null,null,null,null,null,"S",3]
["FILIERE SOCIALE",{"$f":"SUM(B36:B38)","v":0},0,0,0,0,0,0,0,0,0,0,0,"M",0]
["Catégorie A",null,null,null,null,null,null,null,null,null,null,null,null,"M",1]
["Catégorie B",null,null,null,null,null,null,null,null,null,null,null,null,"M",2]
["Catégorie C",null,null,null,null,null,null,null,null,null,null,null,null,"M",3]
["FILIERE MEDICO-SOCIALE",{"$f":"SUM(B40:B42)","v":0},0,0,0,0,0,0,0,0,0,0,0,"O",0]
["Catégorie A",null,null,null,null,null,null,null,null,null,null,null,null,"O",1]
["Catégorie B",null,null,null,null,null,null,null,null,null,null,null,null,"O",2]
["Catégorie C",null,null,null,null,null,null,null,null,null,null,null,null,"O",3]
["FILIERE MEDICO-TECHNIQUE",{"$f":"SUM(B44:B46)","v":0},0,0,0,0,0,0,0,0,0,0,0,"E",0]
["Catégorie A",null,null,null,null,null,null,null,null,null,null,null,null,"E",1]
["Catégorie B",null,null,null,null,null,null,null,null,null,null,null,null,"E",2]
["Catégorie C",null,null,null,null,null,null,null,null,null,null,null,null,"E",3]
["FILIERE POLICE MUNICIPALE",{"$f":"SUM(B48:B50)","v":0},0,0,0,0,0,0,0,0,0,0,0,"P",0]
["Catégorie A",null,null,null,null,null,null,null,null,null,null,null,null,"P",1]
["Catégorie B",null,null,null,null,null,null,null,null,null,null,null,null,"P",2]
["Catégorie C",null,null,null,null,null,null,null,null,null,null,null,null,"P",3]
["FILIERE INCENDIE ET SECOURS",{"$f":"SUM(B52:B54)","v":0},0,0,0,0,0,0,0,0,0,0,0,"R",0]
["Catégorie A",null,null,null,null,null,null,null,null,null,null,null,null,"R",1]
["Catégorie B",null,null,null,null,null,null,null,null,null,null,null,null,"R",2]
["Catégorie C",null,null,null,null,null,null,null,null,null,null,null,null,"R",3]
["FILIERE ANIMATION",{"$f":"SUM(B56:B57)","v":0},{"$f":"SUM(C56:C57)","v":0},0,0,0,0,0,0,0,0,0,0,"N",0]
["Catégorie B",null,null,null,null,null,null,null,null,null,null,null,null,"N",2]
["Catégorie C",null,null,null,null,null,null,null,null,null,null,null,null,"N",3]
["Total",{"$f":"B19+B23+B27+B31+B35+B39+B43+B47+B51+B55","v":0},{"$f":"C19+C23+C27+C31+C35+C39+C43+C47+C51+C55","v":0},0,0,0,0,0,0,0,0,0,0,"00",0]
[null,1,2,1,2,1,2,1,2,1,2,1,2,"sexe"]
[null,1,1,2,2,3,3,4,4,5,5,6,6,"remu"]
[]
["3.2.1.0 - Agents contractuels - Au 31/12/2019, avez-vous mis en place le RIFSEEP ? ",null,null,null,null,"(vide)"]
[]
["3.2.1 - CONTRACTUELS SUR EMPLOI PERMANENT","Montant total des rémunérations annuelles brutes (hors charges patronales)",null,"dont primes et indemnités",null,"dont heures supplémentaires ou  complémentaires",null,"cadre","categ"]
[null,"3.2.1.1",null,"3.2.1.2",null,"3.2.1.3"]
[null,"Hommes","Femmes","Hommes","Femmes","Hommes","Femmes","categ"]
["FILIERE ADMINISTRATIVE",{"$f":"SUM(B68:B70)","v":0},0,0,0,0,0,"A",0]
["Catégorie A",null,null,null,null,null,null,"A",1]
["Catégorie B",null,null,null,null,null,null,"A",2]
["Catégorie C",null,null,null,null,null,null,"A",3]
["FILIERE TECHNIQUE",{"$f":"SUM(B72:B74)","v":0},0,0,0,0,0,"T",0]
["Catégorie A",null,null,null,null,null,null,"T",1]
["Catégorie B",null,null,null,null,null,null,"T",2]
["Catégorie C",null,null,null,null,null,null,"T",3]
["FILIERE CULTURELLE",{"$f":"SUM(B76:B78)","v":0},0,0,0,0,0,"C",0]
["Catégorie A",null,null,null,null,null,null,"C",1]
["Catégorie B",null,null,null,null,null,null,"C",2]
["Catégorie C",null,null,null,null,null,null,"C",3]
["FILIERE SPORTIVE",{"$f":"SUM(B80:B82)","v":0},0,0,0,0,0,"S",0]
["Catégorie A",null,null,null,null,null,null,"S",1]
["Catégorie B",null,null,null,null,null,null,"S",2]
["Catégorie C",null,null,null,null,null,null,"S",3]
["FILIERE SOCIALE",{"$f":"SUM(B84:B86)","v":0},0,0,0,0,0,"M",0]
["Catégorie A",null,null,null,null,null,null,"M",1]
["Catégorie B",null,null,null,null,null,null,"M",2]
["Catégorie C",null,null,null,null,null,null,"M",3]
["FILIERE MEDICO-SOCIALE",{"$f":"SUM(B88:B90)","v":0},0,0,0,0,0,"O",0]
["Catégorie A",null,null,null,null,null,null,"O",1]
["Catégorie B",null,null,null,null,null,null,"O",2]
["Catégorie C",null,null,null,null,null,null,"O",3]
["FILIERE MEDICO-TECHNIQUE",{"$f":"SUM(B92:B94)","v":0},0,0,0,0,0,"E",0]
["Catégorie A",null,null,null,null,null,null,"E",1]
["Catégorie B",null,null,null,null,null,null,"E",2]
["Catégorie C",null,null,null,null,null,null,"E",3]
["FILIERE POLICE MUNICIPALE",{"$f":"SUM(B96:B98)","v":0},0,0,0,0,0,"P",0]
["Catégorie A",null,null,null,null,null,null,"P",1]
["Catégorie B",null,null,null,null,null,null,"P",2]
["Catégorie C",null,null,null,null,null,null,"P",3]
["FILIERE INCENDIE ET SECOURS",{"$f":"SUM(B100:B102)","v":0},0,0,0,0,0,"R",0]
["Catégorie A",null,null,null,null,null,null,"R",1]
["Catégorie B",null,null,null,null,null,null,"R",2]
["Catégorie C",null,null,null,null,null,null,"R",3]
["FILIERE ANIMATION",{"$f":"SUM(B104:B105)","v":0},0,0,0,0,0,"N",0]
["Catégorie B",null,null,null,null,null,null,"N",2]
["Catégorie C",null,null,null,null,null,null,"N",3]
["Total",{"$f":"B67+B71+B75+B79+B83+B87+B91+B95+B99+B103","v":0},0,0,0,0,0,"00",0]
[null,1,2,1,2,1,2,"sexe"]
[null,1,1,2,2,3,3,"remu2"]
["3.3.1 Rémunérations des agents sur EMPLOI NON PERMANENT ayant travaillé au moins un jour durant l'année 2019"]
[]
["Champ : le tableau qui suit concerne les agents contractuels sur un emploi non permanent, ayant travaillé au moins un jour au cous de l'année 2019"]
["Les rémunérations à prendre en compte sont les rémunérations annuelles des agents ayant travaillé au moins un jour durant l'année 2019."]
["Tous les montants doivent être exprimés en  euros (arrondir à l'euro supérieur)."]
["Remarque : ne pas remplir les cellules grisées (pré remplies par un zéro) qui font l’objet de calculs automatiques. "]
[]
[]
[null,null,null,"Montant total des\n rémunérations annuelles brutes"]
[null,null,null,"Hommes","Femmes","emploi6"]
["Assistants maternels ",null,null,null,null,1]
["Assistants familiaux",null,null,null,null,2]
["Autres agents sur emploi non permanent (y compris collaborateurs de cabinet)",null,null,null,null,3]
["Total",null,null,{"$f":"SUM(D119:D121)","v":0},{"$f":"SUM(E119:E121)","v":0},0]
[null,null,null,1,2,"sexe"]
[]
["3.4.1 - Indemnisation du chômage pour les titulaires"]
[]
["Pour la gestion de l'indemnisation du chômage de vos anciens agents TITULAIRES, vous êtes :"]
["(vide)"]
[]
[null,"Nombre d'allocataires dans l'année 2019"]
["Anciens titulaires"]
["Anciens stagiaires"]
[]
[]
["3.4.2 - Indemnisation du chômage pour les contractuels"]
[]
["Pour la gestion de l'indemnisation du chômage de vos anciens contractuels, vous :"]
["(vide)"]
[]
["si en auto-assurance","Nombre d'allocataires dans l'année 2019"]
["Anciens contractuels"]
[]
["3.4.3 - Maintien des primes en cas de congé de maladie ordinaire"]
[]
["Avez-vous prévu le maintien des primes en cas de congé de maladie ordinaire ?",null,null,null,null,"(vide)"]

{"sheet":"IND 3.4.4","index":63,"n_rows":93,"n_cols":14,"rows_kept":93,"cut":false,"hidden":false,"merged":[[16,1,16,2],[17,11,17,12],[17,7,17,8],[17,9,17,10],[16,3,16,6],[0,1,0,2],[2,0,2,12],[17,0,18,0],[16,9,16,12],[15,7,15,12],[16,7,16,8],[9,0,9,4],[17,1,17,2],[17,3,17,4],[17,5,17,6],[13,0,13,4],[15,1,15,6]]}
[null,"Retour Sommaire"]
[]
["3.4.4 - Nombre d'heures supplémentaires et complémentaires réalisées et rémunérées en 2019 par sexe, filière et cadre d'emplois"]
[]
[]
["Votre collectivité est-elle concernée par les heures supplémentaires et/ou complémentaires en 2019 ?","(vide)"]
[]
["Si OUI, renseigner le tableau suivant :"]
[]
["Champ : le tableau qui suit concerne les fonctionnaires et contractuels sur emploi permanent, présent au cours de l'année 2019"]
["Il s'agit des heures supplémentaires réellement effectuées par les agents et rémunérées. "]
["Inclure aussi les heures complémentaires."]
[]
["Remarque : Ne pas remplir les cellules grisées (pré remplies par un zéro) qui font l’objet de calculs automatiques. "]
[]
[null,"Fonctionnaires",null,null,null,null,null,"Contractuels sur emploi permanent"]
[null,"Temps complets",null,"Temps non complets",null,null,null,"Temps complets",null,"Temps non complets"]
["Cadres d'emplois\nFilières\n","Nombre d'heures supplémentaires réalisées et rémunérées en 2019",null,"Nombre d'heures complémentaires réalisées et rémunérées en 2019",null,"Nombre d'heures supplémentaires réalisées et rémunérées en 2019",null,"Nombre d'heures supplémentaires réalisées et rémunérées en 2019",null,"Nombre d'heures complémentaires réalisées et rémunérées en 2019",null,"Nombre d'heures supplémentaires réalisées et rémunérées en 2019"]
[null,"Hommes","Femmes","Hommes","Femmes","Hommes","Femmes","Hommes","Femmes","Hommes","Femmes","Hommes","Femmes","cadre"]
["ADMINISTRATEURS",null,null,null,null,null,null,null,null,null,null,null,null,"AD"]
["ATTACHES",null,null,null,null,null,null,null,null,null,null,null,null,"AT"]
["SECRETAIRES DE MAIRIE",null,null,null,null,null,null,null,null,null,null,null,null,"AS"]
["REDACTEURS",null,null,null,null,null,null,null,null,null,null,null,null,"AR"]
["ADJOINTS ADMINISTRATIFS",null,null,null,null,null,null,null,null,null,null,null,null,"AJ"]
["FILIERE ADMINISTRATIVE",{"$f":"SUM(B20:B24)","v":0},0,0,0,0,0,{"$f":"SUM(H20:H24)","v":0},0,0,0,0,0,"A"]
["INGENIEURS EN CHEF",null,null,null,null,null,null,null,null,null,null,null,null,"TN"]
["INGENIEURS",null,null,null,null,null,null,null,null,null,null,null,null,"TP"]
["TECHNICIENS",null,null,null,null,null,null,null,null,null,null,null,null,"TT"]
["AGENTS DE MAITRISE",null,null,null,null,null,null,null,null,null,null,null,null,"TM"]
["ADJOINTS TECHNIQUES",null,null,null,null,null,null,null,null,null,null,null,null,"TH"]
["ADJOINTS TECHNIQUES DES ETABLISSEMENTS D'ENSEIGNEMENT",null,null,null,null,null,null,null,null,null,null,null,null,"TA"]
["FILIERE TECHNIQUE",{"$f":"SUM(B26:B31)","v":0},0,0,0,0,0,{"$f":"SUM(H26:H31)","v":0},0,0,0,0,0,"T"]
["CONSERVATEURS DU PATRIMOINE",null,null,null,null,null,null,null,null,null,null,null,null,"CM"]
["CONSERVATEURS DES BIBLIOTHEQUES",null,null,null,null,null,null,null,null,null,null,null,null,"CH"]
["ATTACHES DE CONSERVATION DU PATRIMOINE",null,null,null,null,null,null,null,null,null,null,null,null,"CA"]
["BIBLIOTHECAIRES",null,null,null,null,null,null,null,null,null,null,null,null,"CB"]
["DIRECTEURS  D'ETABLISSEMENTS D'ENSEIGNEMENT ARTISTIQUE",null,null,null,null,null,null,null,null,null,null,null,null,"CD"]
["PROFESSEURS D'ENSEIGNEMENT ARTISTIQUE",null,null,null,null,null,null,null,null,null,null,null,null,"CP"]
["ASSISTANTS  DE CONSERVATION DU PATRIMOINE ET DES BIBLIOTHEQUES",null,null,null,null,null,null,null,null,null,null,null,null,"CG"]
["ASSISTANTS D'ENSEIGNEMENT ARTISTIQUE",null,null,null,null,null,null,null,null,null,null,null,null,"CS"]
["ADJOINTS TERRITORIAUX DU PATRIMOINE",null,null,null,null,null,null,null,null,null,null,null,null,"CJ"]
["FILIERE CULTURELLE",{"$f":"SUM(B33:B41)","v":0},0,0,0,0,0,{"$f":"SUM(H33:H41)","v":0},0,0,0,0,0,"C"]
["CONSEILLERS DES APS",null,null,null,null,null,null,null,null,null,null,null,null,"SC"]
["EDUCATEURS DES APS",null,null,null,null,null,null,null,null,null,null,null,null,"SE"]
["OPERATEURS DES APS",null,null,null,null,null,null,null,null,null,null,null,null,"SP"]
["FILIERE SPORTIVE",{"$f":"SUM(B43:B45)","v":0},0,0,0,0,0,{"$f":"SUM(H43:H45)","v":0},0,0,0,0,0,"S"]
["CONSEILLERS SOCIO-EDUCATIFS",null,null,null,null,null,null,null,null,null,null,null,null,"MM"]
["ASSISTANTS SOCIO-EDUCATIFS",null,null,null,null,null,null,null,null,null,null,null,null,"MT"]
["EDUCATEURS DE JEUNES ENFANTS",null,null,null,null,null,null,null,null,null,null,null,null,"ME"]
["MONITEURS-EDUCATEURS ET INTERVENANTS FAMILIAUX",null,null,null,null,null,null,null,null,null,null,null,null,"MB"]
["ASSISTANTS SPECIALISES DES ECOLES MATERNELLES",null,null,null,null,null,null,null,null,null,null,null,null,"MD"]
["AGENTS SOCIAUX",null,null,null,null,null,null,null,null,null,null,null,null,"MP"]
["FILIERE SOCIALE",{"$f":"SUM(B47:B52)","v":0},0,0,0,0,0,{"$f":"SUM(H47:H52)","v":0},0,0,0,0,0,"M"]
["MEDECINS",null,null,null,null,null,null,null,null,null,null,null,null,"OD"]
["PSYCHOLOGUES ",null,null,null,null,null,null,null,null,null,null,null,null,"OH"]
["SAGES-FEMMES",null,null,null,null,null,null,null,null,null,null,null,null,"OF"]
["CADRES DE SANTE PARAMEDICAUX",null,null,null,null,null,null,null,null,null,null,null,null,"OG"]
["PUERICULTRICES CADRES DE SANTE",null,null,null,null,null,null,null,null,null,null,null,null,"OC"]
["PUERICULTRICES *",null,null,null,null,null,null,null,null,null,null,null,null,"OX"]
["CADRES DE SANTE INFIRMIERS, REEDUCATEURS ET ASSISTANTS MEDICO-TECHNIQUES",null,null,null,null,null,null,null,null,null,null,null,null,"OA"]
["INFIRMIERS EN SOINS GENERAUX",null,null,null,null,null,null,null,null,null,null,null,null,"OB"]
["INFIRMIERS",null,null,null,null,null,null,null,null,null,null,null,null,"ON"]
["AUXILIAIRES DE PUERICULTURE",null,null,null,null,null,null,null,null,null,null,null,null,"OJ"]
["AUXILIAIRES DE SOINS",null,null,null,null,null,null,null,null,null,null,null,null,"OK"]
["FILIERE MEDICO-SOCIALE",{"$f":"SUM(B54:B64)","v":0},0,0,0,0,0,{"$f":"SUM(H54:H64)","v":0},0,0,0,0,0,"O"]
["BIOLOGISTES, VETERINAIRES, PHARMACIENS",null,null,null,null,null,null,null,null,null,null,null,null,"EB"]
["TECHNICIENS PARAMEDICAUX",null,null,null,null,null,null,null,null,null,null,null,null,"ET"]
["FILIERE MEDICO-TECHNIQUE",{"$f":"SUM(B66:B67)","v":0},0,0,0,0,0,{"$f":"SUM(H66:H67)","v":0},0,0,0,0,0,"E"]
["DIRECTEUR DE POLICE MUNICIPALE",null,null,null,null,null,null,null,null,null,null,null,null,"PU"]
["CHEFS DE SERVICE DE POLICE MUNICIPALE",null,null,null,null,null,null,null,null,null,null,null,null,"PC"]
["AGENTS DE POLICE MUNICIPALE",null,null,null,null,null,null,null,null,null,null,null,null,"PG"]
["GARDES-CHAMPÊTRES",null,null,null,null,null,null,null,null,null,null,null,null,"PH"]
["FILIERE POLICE MUNICIPALE",{"$f":"SUM(B69:B72)","v":0},0,0,0,0,0,{"$f":"SUM(H69:H72)","v":0},0,0,0,0,0,"P"]
["CONTRÔLEURS, COLONELS",null,null,null,null,null,null,null,null,null,null,null,null,"RH"]
["CAPITAINES, COMMANDANTS, LIEUTENANTS-COLONELS",null,null,null,null,null,null,null,null,null,null,null,null,"RC"]
["MÉDECINS, PHARMACIENS",null,null,null,null,null,null,null,null,null,null,null,null,"RD"]
["LIEUTENANTS",null,null,null,null,null,null,null,null,null,null,null,null,"RL"]
["INFIRMIERS D'ENCADREMENT",null,null,null,null,null,null,null,null,null,null,null,null,"RF"]
["INFIRMIERS",null,null,null,null,null,null,null,null,null,null,null,null,"RG"]
["SOUS-OFFICIERS",null,null,null,null,null,null,null,null,null,null,null,null,"RS"]
["SAPEURS ET CAPORAUX",null,null,null,null,null,null,null,null,null,null,null,null,"RU"]
["FILIERE INCENDIE ET SECOURS",{"$f":"SUM(B74:B81)","v":0},0,0,0,0,0,{"$f":"SUM(H74:H81)","v":0},0,0,0,0,0,"R"]
["ANIMATEURS",null,null,null,null,null,null,null,null,null,null,null,null,"NN"]
["ADJOINTS D'ANIMATION",null,null,null,null,null,null,null,null,null,null,null,null,"NJ"]
["FILIERE ANIMATION",{"$f":"SUM(B83:B84)","v":0},0,0,0,0,0,{"$f":"SUM(H83:H84)","v":0},0,0,0,0,0,"N"]
["TOTAL",{"$f":"B25+B32+B42+B46+B53+B65+B68+B73+B82+B85","v":0},0,0,0,0,0,{"$f":"H25+H32+H42+H46+H53+H65+H68+H73+H82+H85","v":0},{"$f":"I25+I32+I42+I46+I53+I65+I68+I73+I82+I85","v":0},0,0,0,0,"00"]
[]
["* Comptabiliser les puéricultrices du cadre d'emplois du décret n° 92-859 du 28 août 1992 modifié et du cadre d'emplois du décret n° 2014-923 du 18 août 2014"]
[]
[null,1,2,1,2,1,2,1,2,1,2,1,2,"sexe"]
[null,1,1,2,2,1,1,1,1,2,2,1,1,"heure"]
[null,1,1,1,1,1,1,2,2,2,2,2,2,"statut1"]
[null,10,10,20,20,20,20,10,10,20,20,20,20,"temps"]

{"sheet":"IND 3.4.5","index":64,"n_rows":12,"n_cols":3,"rows_kept":12,"cut":false,"hidden":false,"merged":[[2,0,2,2],[9,0,9,2],[11,0,11,2]]}
[null,null,"Retour Sommaire"]
[]
["                     3.4.5 - Dépenses de fonctionnement de la collectivité et dépenses de personnel"]
[]
["Tous les montants doivent être exprimés en euros (arrondir à l'euro supérieur). Opérations réelles, hors opérations d'ordres."]
[]
["3.4.4.1","Montant des dépenses de fonctionnement de la collectivité constatées au compte administratif de l'année de référence (opérations réelles, hors opérations d'ordre)"]
["3.4.4.2","Charges de personnel (opérations réelles, hors opérations d'ordres)"]
[]
["3.4.4.1 : référence au compte administratif ou à défaut au budget primitif additionné le cas échéant, du budget supplémentaire."]
[]
["3.4.4.2 : charges de personnel en référence au chapitre 012 du compte administratif, ou à défaut du budget prévisionnel additionné le cas échéant, du budget supplémentaire."]

{"sheet":"IND 4.1.1-4.1.2","index":65,"n_rows":35,"n_cols":5,"rows_kept":35,"cut":false,"hidden":false,"merged":[[22,0,22,3],[21,0,21,3],[0,1,0,2],[19,0,19,3],[3,0,3,3],[14,0,14,3],[15,0,15,3],[16,0,16,3],[17,0,17,3],[5,0,5,3]]}
[null,"Retour Sommaire"]
[]
[]
["4.1.1 Agents affectés à la prévention"]
[]
["Champ : le tableau qui suit concerne les fonctionnaires et contractuels sur emploi permanent, présents au 31/12/2019."]
[]
[null,"Effectif au 31/12/2019 des agents de la collectivité      ","agents_securite"]
["Assistants* de prévention (ex-agents chargés de la mise en œuvre des actions de prévention dans la collectivité)",null,1]
["Conseillers** de prévention (ex-agents chargés de la mise en œuvre des actions de prévention dans la collectivité)",null,2]
["Agents chargés des fonctions d'inspection en hygiène et sécurité dans la collectivité (ACFI) ***, titulaires ou contractuels, agents de la collectivité",null,3]
["Médecins de prévention, titulaires ou contractuels, agents de la collectivité",null,4]
["Autres personnels affectés à la prévention (animateurs, formateurs prévention, personnes en charge de la prévention, …)",null,5]
[]
["* Article 4 du décret n° 85-603 du 10 juin 1985 : Ils constituent le niveau de proximité du réseau des agents de prévention."]
["**Articles 4 et 4-1 du décret n° 85-603 du 10 juin 1985 : Ils assurent une mission de coordination et sont institués lorsque l'importance des risques professionnels ou des effectifs le justifie. "]
["Ils sont chargés de conseiller l'autorité terriroriale auprès de laquelle ils sont placés, dans la démarche d'évaluation des risques et dans la mise en place d'une politique de prévention des risques ainsi que dans la mise en oeuvre des règles de sécurité et d'hygiène au travail."]
["*** Article 5 du décret n° 85-603 du 10 juin 1985 : Ils sont désignés par la collectivité. Ils sont chargés d'assurer une fonction d'inspection dans le domaine de la santé et de la sécurité."]
[]
["4.1.2 Actions liées à la prévention dans l'année 2019"]
[]
["Champ : les tableaux qui suivent concernent les fonctionnaires et contractuels sur emploi permanent, présents au 31/12/2019"]
["Remarque : Ne pas remplir les cellules grisées. "]
[]
[null,"Montant\nen euros\n(arrondi à l'euro supérieur)","Nombre de jours","Nombre d'agents","action"]
["Formation obligatoire des agents assistants et conseillers chargés de la mise en œuvre des actions de prévention",null,null,null,1]
["Formation obligatoire des membres du comité d'hygiène, de sécurité et des conditions de travail",null,null,null,2]
["Formation dans le cadre des habilitations ",null,null,null,3]
["Dépenses relatives aux interventions en matière de prévention et de sécurité (*)",null,null,null,4]
["Dépenses correspondant aux mesures prises dans l'année pour l'amélioration des conditions de travail. Cet indicateur regroupe l'ensemble des frais liés à l'amélioration des conditions d'hygiène et de prévention (autres formations, investissements, Equipements de Protection Individuelle…)",null,null,null,5]
[]
["(*) Il s'agit, par exemple :  "]
["- d’un centre de gestion dans le cadre de missions de conseil ou d’inspection,"]
["- d’une entreprise pour évaluer les risques professionnels,"]
["- d’un ergonome."]

{"sheet":"IND 4.1.3","index":66,"n_rows":9,"n_cols":5,"rows_kept":9,"cut":false,"hidden":false,"merged":[[7,0,7,1],[5,0,5,2],[3,0,3,3]]}
[null,"Retour Sommaire"]
[]
[]
["4.1.3 - Nombre de visites médicales sur demande de l'agent"]
[]
["Comptabiliser seulement les visites médicales sur demande de l'agent."]
[null,null,"Hommes","Femmes"]
["Nombre de visites médicales spontanées chez le médecin de prévention, en 2019"]
[null,null,1,2,"sexe"]

{"sheet":"Fiche 4.1.4-4.1.6","index":67,"n_rows":12,"n_cols":4,"rows_kept":12,"cut":false,"hidden":false,"merged":[[11,0,11,7],[0,3,0,4],[2,0,2,7],[5,0,5,7],[7,0,7,7],[9,0,9,7],[10,0,10,7]]}
[null,null,null,"Retour Sommaire"]
[]
["4.1.4-4.1.6 Documents de prévention"]
[]
[]
["L’indicateur 4.1.4 recense l’existence d’un Document unique d'évaluation des risques professionnels, (DUERP)\nLe DUERP réalisé et mis à jour annuellement par l’autorité territoriale, répertorie l'ensemble des risques professionnels (dont les RPS) auxquels sont exposés les agents, afin d'organiser la prévention au sein du programme annuel de prévention (circulaire RDFB1314079C du 28 mai 2013 rappelant les obligations des employeurs territoriaux en matière d’évaluation des risques professionnels).\n"]
[]
["L’indicateur 4.1.5 recense l’existence d’un plan de prévention des risques psychosociaux\nUn accord-cadre relatif à la prévention des risques psychosociaux (RPS) dans la fonction publique a été signé le 22 octobre 2013, obligeant chaque employeur public à élaborer un plan d’évaluation et de prévention des RPS d’ici 2015. Ces plans sont réalisés sur la base des diagnostics locaux qui sont intégrés au document unique d’évaluation des risques professionnels (DUERP).\nUne circulaire du Premier ministre du 20 mars 2014 a fixé les conditions de mise en œuvre du plan national d'action pour la prévention des risques psychosociaux dans les trois versants de la fonction publique. Une circulaire du 25 juillet 2014 fixe les modalités d'application de cet accord-cadre dans la fonction publique territoriale."]
[]
["L’indicateur 4.1.6 recense les démarches éventuelles  de prévention des TMS et des CMR\nL’accord sur la santé et la sécurité au travail (SST) dans la Fonction publique signé le 20 novembre 2009 a instauré un droit à un suivi médical post-professionnel des risques cancérogènes, mutagènes et toxiques pour la reproduction (CMR) et a également prévu des actions de prévention des troubles musculo-squelettiques (TMS)."]
["CMR : les substances chimiques présentant un effet cancérogène, mutagène ou toxique pour la reproduction, qualifiées « CMR », englobent les substances qui, par inhalation, ingestion ou pénétration cutanée, peuvent soit produire le cancer ou en augmenter la fréquence, soit produire des altérations génétiques héréditaires ou en augmenter la fréquence, soit porter atteinte aux fonctions ou capacités reproductives ou produire ou augmenter la fréquence de faits indésirables non héréditaires sur la progéniture (l'article R. 4412-60 du code du travail définit les CMR)."]
["MS : l’Institut national de veille sanitaire (INVS) définit les TMS comme « un ensemble d’affections péri-articulaires qui peuvent affecter diverses structures des membres supérieurs, inférieurs et du dos : tendons, muscles, articulations, nerfs et système vasculaire ». Ces troubles sont également appelés « pathologies d’hyper-sollicitation ». \nUn guide méthodologique, fondé sur un recueil de pratiques, vise à accompagner les employeurs publics dans la mise en place d’un dispositif de prévention des troubles musculo-squelettiques efficace et durable. Ce guide peut être téléchargé sur le site de la DGAFP : http://www.fonction-publique.gouv.fr/troubles-musculo-squelettiques-tms"]

{"sheet":"IND 4.1.4-4.1.7","index":68,"n_rows":41,"n_cols":6,"rows_kept":41,"cut":false,"hidden":false,"merged":[[40,0,46,5],[34,0,34,5],[2,0,2,5],[5,0,5,5],[15,0,15,5],[23,0,23,5],[13,0,13,5],[10,0,10,4],[11,0,11,4]]}
[null,null,null,null,"Retour Sommaire"]
[]
["4.1.4-4.1.6 Documents et démarches de prévention"]
[]
[]
["4.1.4  - Document unique d'évaluation des risques professionnels (DUERP)"]
[]
[]
["Votre collectivité dispose-t-elle d'un document unique d'évaluation des risques professionnels, au 31/12/2019 ?",null,null,null,null,"(vide)"]
["Si oui, indiquez :"]
["Année de création du document"]
["Année de la dernière mise à jour"]
[]
["Précision : le Document unique est mis à jour (Article R. 4121-1 du code du travail)\n1° au moins chaque année ; \n2° lors de toute décision d'aménagement important modifiant les conditions de santé et de sécurité ou les conditions de travail, au sens de l'article L. 2312-8 du code du travail ; \n3° lorsqu'une information supplémentaire intéressant l'évaluation d'un risque dans une unité de travail est recueillie ;\n\nToutefois pour les collectivités de moins de 11 agents, cette disposition peut être moins fréquente sous réserve que soit garanti un niveau équivalent de protection de la santé et de la sécurité des agents."]
[]
["4.1.5 - Plan de prévention des risques psychosociaux (RPS)"]
[]
[]
["Votre collectivité dispose-t-elle d'un plan de prévention des risques psychosociaux au 31/12/2019 ?",null,null,null,null,"(vide)"]
[]
[]
[]
[]
["4.1.6  - Démarches de prévention des risques"]
[]
[]
["Votre collectivité a-t-elle mis en place les démarches de prévention suivantes, au cours de l'année 2019 :"]
[]
["Démarche de prévention des troubles musculo-squelettiques (TMS) ?",null,null,null,null,"(vide)"]
["Démarche de prévention des risques cancérogènes, mutagènes, toxiques pour la reproduction (CMR) ?",null,null,null,null,"(vide)"]
["D'autres démarches de prévention des risques ?",null,null,null,null,"(vide)"]
[]
[]
[]
["4.1.7  - Registre de santé et de sécurité au travail"]
[]
[]
["Votre collectivité dispose-t-elle d'un registre de santé et de sécurité au travail, au 31/12/2019 ?",null,null,null,null,"(vide)"]
[]
[]
["Ce registre est obligatoire, anciennement dénommé \"registre d'hygiène et de sécurité\".\nIl est mis à disposition de tous les agents afin qu'ils retranscrivent leurs observations en matière d'hygiène et de sécurité dans leur travail quotidien, comme par exemple :\n- signaler un dysfonctionnement, une anomalie, des problèmes liés à l'ambiance de travail (encombrement, température, bruit...), à la formation, à la présence de produits ou équipements dangereux ou encore à l'environnement de travail (état des locaux, vétusté des installations...) ;\n- poser des questions relatives à la prévention des risques professionnels.\nIl s'agit d'un véritable outil de communication et de traçabilité."]

{"sheet":"IND 4.2.1","index":69,"n_rows":104,"n_cols":15,"rows_kept":104,"cut":false,"hidden":false,"merged":[[103,0,103,13],[92,0,92,1],[93,0,93,1],[94,0,94,1],[97,0,97,1],[96,0,96,1],[98,0,98,1],[100,0,100,1],[72,0,72,1],[77,0,77,1],[76,0,76,1],[74,0,74,1],[73,0,73,1],[91,0,91,1],[78,0,78,1],[89,0,89,1],[88,0,88,1],[84,0,84,1],[86,0,86,1],[87,0,87,1],[81,0,81,1],[82,0,82,1],[90,0,90,1],[83,0,83,1],[80,0,80,1],[70,0,70,1],[59,0,59,1],[65,0,65,1],[67,0,67,1],[69,0,69,1],[66,0,66,1],[60,0,60,1],[61,0,61,1],[71,0,71,1],[68,0,68,1],[63,0,63,1],[58,0,58,1],[56,0,56,1],[57,0,57,1],[35,0,35,1],[40,0,40,1],[39,0,39,1],[43,0,43,1],[64,0,64,1],[45,0,45,1],[51,0,51,1],[46,0,46,1],[55,0,55,1],[52,0,52,1],[53,0,53,1],[33,0,33,1],[50,0,50,1],[47,0,47,1],[48,0,48,1],[41,0,41,1],[37,0,37,1],[36,0,36,1],[44,0,44,1],[34,0,34,1],[42,0,42,1],[24,0,24,1],[32,0,32,1],[25,0,25,1],[27,0,27,1],[28,0,28,1],[26,0,26,1],[31,0,31,1],[29,0,29,1],[16,10,16,13],[17,12,18,13],[17,10,18,11],[16,2,16,9],[18,2,18,3],[18,4,18,5],[18,6,18,7],[17,6,17,9],[18,8,18,9],[19,13,20,13],[19,7,20,7],[19,8,20,8],[19,11,20,11],[19,9,20,9],[19,10,20,10],[19,12,20,12],[19,6,20,6],[13,0,13,7],[15,0,15,1],[17,2,17,5],[19,4,20,4],[19,2,20,2],[19,3,20,3],[19,5,20,5],[16,0,20,1],[0,3,0,7],[2,0,2,13],[4,0,4,13],[7,0,7,13],[9,11,10,12],[9,2,10,3],[9,0,10,1],[5,0,5,13],[9,6,10,10]]}
[null,null,null,"Retour Sommaire"]
[]
["4.2.1 - Les accidents du travail* survenus dans l'année 2019\npar cadre d'emplois et par sexe\n\n* y compris ceux qui n'ont pas donné lieu à arrêt de travail"]
[]
["Champ : le tableau qui suit concerne tous les agents quel que soit leur statut (y compris contractuels sur emploi non permanent), présents au cours de l'année 2019."]
["Un agent peut être comptabilisé plusieurs fois s'il est victime de plusieurs accidents sur l'année\n\n"]
[]
["Remarque : Ne pas remplir les cellules grisées qui font l’objet de calculs automatiques. "]
[]
["Nombre total d'heures rémunérées sur l'année 2019",null,{"$f":"'IND 1.1.4'!C72*1820+'IND 1.1.4'!D72*1820+'IND 1.2.4'!C71*1820+'IND 1.2.4'!D71*1820+'IND 1.3.1'!F83*1820","v":0},null,null,null,"Si ce total n'est pas correct, vous pouvez le modifier"]
[]
[]
[]
["Y a-t-il eu des accidents du travail ou des arrêts de travail en lien avec ces accidents en 2019 dans votre collectivité ?",null,null,null,null,null,null,null,"(vide)"]
[]
["Si OUI, veuillez remplir le tableau suivant : ",null,10,10,11,11,20,20,21,21,10,10,20,20,"accident"]
["Cadres d'emplois - Filière",null,"Nombre d'accidents du travail* reconnus dans l'année 2019",null,null,null,null,null,null,null,"Nombre de jours d'arrêts de travail (pour les accidents du travail survenus dans l'année 2019 ou auparavant)"]
[null,null,"Accidents de SERVICE",null,null,null,"Accidents de TRAJET",null,null,null,"Accident de SERVICE",null,"Accident de TRAJET"]
[null,null,"Nombre d'accidents de SERVICE",null,"dont nombre d'accidents sans arrêt",null,"Nombre d'accidents de TRAJET",null,"dont nombre d'accidents sans arrêt"]
[null,null,"Hommes","Femmes","Hommes","Femmes","Hommes","Femmes","Hommes","Femmes","Hommes","Femmes","Hommes","Femmes"]
[]
[]
[null,null,"NbAccidentServiceH","NbAccidentServiceF",null,null,"NbAccidentTrajetH",null,null,null,null,null,"NbJrsArretsAccServiceH","NbJrsArretsAccServiceF"]
[null,null,1,2,1,2,1,2,1,2,1,2,1,2,"sexe/cadre"]
["Administrateurs",null,null,null,null,null,null,null,null,null,null,null,null,null,"AD"]
["Attachés",null,null,null,null,null,null,null,null,null,null,null,null,null,"AT"]
["Secrétaires de mairie",null,null,null,null,null,null,null,null,null,null,null,null,null,"AS"]
["Rédacteurs",null,null,null,null,null,null,null,null,null,null,null,null,null,"AR"]
["Adjoints administratifs",null,null,null,null,null,null,null,null,null,null,null,null,null,"AJ"]
["FILIERE ADMINISTRATIVE",null,{"$f":"SUM(C25:C29)","v":0},{"$f":"SUM(D25:D29)","v":0},0,0,0,0,0,0,0,0,0,0,"A"]
[]
["Ingénieurs en chef",null,null,null,null,null,null,null,null,null,null,null,null,null,"TN"]
["Ingénieurs",null,null,null,null,null,null,null,null,null,null,null,null,null,"TP"]
["Techniciens ",null,null,null,null,null,null,null,null,null,null,null,null,null,"TT"]
["Agents de maîtrise",null,null,null,null,null,null,null,null,null,null,null,null,null,"TM"]
["Adjoints techniques",null,null,null,null,null,null,null,null,null,null,null,null,null,"TH"]
["Adjoints techniques des établissements d'enseignement",null,null,null,null,null,null,null,null,null,null,null,null,null,"TA"]
["FILIERE TECHNIQUE",null,{"$f":"SUM(C32:C37)","v":0},{"$f":"SUM(D32:D37)","v":0},0,0,0,0,0,0,0,0,0,0,"T"]
[]
["Conservateurs du patrimoine",null,null,null,null,null,null,null,null,null,null,null,null,null,"CM"]
["Conservateurs des bibliothèques",null,null,null,null,null,null,null,null,null,null,null,null,null,"CH"]
["Attachés de conservation du patrimoine",null,null,null,null,null,null,null,null,null,null,null,null,null,"CA"]
["Bibliothécaires",null,null,null,null,null,null,null,null,null,null,null,null,null,"CB"]
["Directeurs d'établissements d'enseignement artistique",null,null,null,null,null,null,null,null,null,null,null,null,null,"CD"]
["Professeurs d'enseignement artistique",null,null,null,null,null,null,null,null,null,null,null,null,null,"CP"]
["Assistants qualifiés de conservation du patrimoine et des bibliothèques",null,null,null,null,null,null,null,null,null,null,null,null,null,"CG"]
["Assistants d'enseignement artistique",null,null,null,null,null,null,null,null,null,null,null,null,null,"CS"]
["Adjoints territoriaux du patrimoine",null,null,null,null,null,null,null,null,null,null,null,null,null,"CJ"]
["FILIERE CULTURELLE",null,{"$f":"SUM(C40:C48)","v":0},{"$f":"SUM(D40:D48)","v":0},0,0,0,0,0,0,0,0,0,0,"C"]
[]
["Conseillers des APS",null,null,null,null,null,null,null,null,null,null,null,null,null,"SC"]
["Educateurs des APS",null,null,null,null,null,null,null,null,null,null,null,null,null,"SE"]
["Opérateurs des APS",null,null,null,null,null,null,null,null,null,null,null,null,null,"SP"]
["FILIERE SPORTIVE",null,{"$f":"SUM(C51:C53)","v":0},{"$f":"SUM(D51:D53)","v":0},0,0,0,0,0,0,0,0,0,0,"S"]
[]
["Conseillers socio-éducatifs",null,null,null,null,null,null,null,null,null,null,null,null,null,"MM"]
["Assistants socio-éducatifs",null,null,null,null,null,null,null,null,null,null,null,null,null,"MT"]
["Educateurs de jeunes enfants",null,null,null,null,null,null,null,null,null,null,null,null,null,"ME"]
["Moniteurs-éducateurs et intervenants familiaux",null,null,null,null,null,null,null,null,null,null,null,null,null,"MB"]
["Agents spécialisés des écoles maternelles",null,null,null,null,null,null,null,null,null,null,null,null,null,"MD"]
["Agents sociaux",null,null,null,null,null,null,null,null,null,null,null,null,null,"MP"]
["FILIERE SOCIALE",null,{"$f":"SUM(C56:C61)","v":0},{"$f":"SUM(D56:D61)","v":0},0,0,0,0,0,0,0,0,0,0,"M"]
[]
["Médecins",null,null,null,null,null,null,null,null,null,null,null,null,null,"OD"]
["Psychologues ",null,null,null,null,null,null,null,null,null,null,null,null,null,"OH"]
["Sages-femmes",null,null,null,null,null,null,null,null,null,null,null,null,null,"OF"]
["Cadres de santé paramédicaux",null,null,null,null,null,null,null,null,null,null,null,null,null,"OG"]
["Puéricultrices cadres de santé",null,null,null,null,null,null,null,null,null,null,null,null,null,"OC"]
["Puéricultrices**",null,null,null,null,null,null,null,null,null,null,null,null,null,"OX"]
["Cadres de santé infirmiers, rééducateurs et assistants médico-techniques",null,null,null,null,null,null,null,null,null,null,null,null,null,"OA"]
["Infirmiers en soins généraux",null,null,null,null,null,null,null,null,null,null,null,null,null,"OB"]
["Infirmiers",null,null,null,null,null,null,null,null,null,null,null,null,null,"ON"]
["Auxiliaires de puériculture",null,null,null,null,null,null,null,null,null,null,null,null,null,"OJ"]
["Auxiliaires de soins",null,null,null,null,null,null,null,null,null,null,null,null,null,"OK"]
["FILIERE MEDICO-SOCIALE",null,{"$f":"SUM(C64:C74)","v":0},0,0,0,0,0,0,0,0,0,0,0,"O"]
[]
["Biologistes, vétérinaires, pharmaciens",null,null,null,null,null,null,null,null,null,null,null,null,null,"EB"]
["Techniciens paramédicaux",null,null,null,null,null,null,null,null,null,null,null,null,null,"ET"]
["FILIERE MEDICO-TECHNIQUE",null,{"$f":"SUM(C77:C78)","v":0},{"$f":"SUM(D77:D78)","v":0},0,0,0,0,0,0,0,0,0,0,"E"]
[]
["Directeurs de police municipale",null,null,null,null,null,null,null,null,null,null,null,null,null,"PU"]
["Chefs de service de police municipale",null,null,null,null,null,null,null,null,null,null,null,null,null,"PC"]
["Agents de police municipale",null,null,null,null,null,null,null,null,null,null,null,null,null,"PG"]
["Gardes-champêtres",null,null,null,null,null,null,null,null,null,null,null,null,null,"PH"]
["FILIERE POLICE MUNICIPALE",null,{"$f":"SUM(C81:C84)","v":0},{"$f":"SUM(D81:D84)","v":0},0,0,0,0,0,0,0,0,0,0,"P"]
[]
["Contrôleurs, colonels",null,null,null,null,null,null,null,null,null,null,null,null,null,"RH"]
["Capitaines, commandants, lieutenants-colonels",null,null,null,null,null,null,null,null,null,null,null,null,null,"RC"]
["Médecins, pharmaciens",null,null,null,null,null,null,null,null,null,null,null,null,null,"RD"]
["Lieutenants",null,null,null,null,null,null,null,null,null,null,null,null,null,"RL"]
["Infirmiers d'encadrement",null,null,null,null,null,null,null,null,null,null,null,null,null,"RF"]
["Infirmiers",null,null,null,null,null,null,null,null,null,null,null,null,null,"RG"]
["Sous-officiers",null,null,null,null,null,null,null,null,null,null,null,null,null,"RS"]
["Sapeurs et caporaux",null,null,null,null,null,null,null,null,null,null,null,null,null,"RU"]
["FILIERE INCENDIE-SECOURS",null,{"$f":"SUM(C87:C94)","v":0},{"$f":"SUM(D87:D94)","v":0},0,0,0,0,0,0,0,0,0,0,"R"]
[]
["Animateurs",null,null,null,null,null,null,null,null,null,null,null,null,null,"NN"]
["Adjoints d'animation",null,null,null,null,null,null,null,null,null,null,null,null,null,"NJ"]
["FILIERE ANIMATION",null,{"$f":"SUM(C97:C98)","v":0},{"$f":"SUM(D97:D98)","v":0},0,0,0,0,0,0,0,0,0,0,"N"]
[]
["TOTAL",null,{"$f":"C30+C38+C49+C54+C62+C75+C79+C85+C95+C99","v":0},0,0,0,0,0,0,0,0,0,0,0,"00"]
[]
[]
["** Comptabiliser les puéricultrices du cadre d'emplois du décret n° 92-859 du 28 août 1992 modifié et du cadre d'emplois du décret n° 2014-923 du 18 août 2014."]

{"sheet":"IND 4.2.2","index":70,"n_rows":94,"n_cols":11,"rows_kept":94,"cut":false,"hidden":false,"merged":[[0,2,0,3],[12,3,14,3],[19,0,19,1],[2,0,2,9],[8,0,8,7],[13,7,14,7],[12,5,14,5],[4,0,4,9],[12,2,14,2],[11,2,11,3],[18,0,18,1],[15,0,15,1],[13,8,14,8],[17,0,17,1],[11,0,14,1],[12,4,14,4],[13,9,14,9],[13,6,14,6],[5,0,5,9],[12,8,12,9],[12,6,12,7],[11,6,11,9],[11,4,11,5],[48,0,48,1],[44,0,44,1],[47,0,47,1],[46,0,46,1],[55,0,55,1],[54,0,54,1],[52,0,52,1],[49,0,49,1],[50,0,50,1],[51,0,51,1],[16,0,16,1],[34,0,34,1],[26,0,26,1],[31,0,31,1],[30,0,30,1],[27,0,27,1],[28,0,28,1],[33,0,33,1],[32,0,32,1],[22,0,22,1],[20,0,20,1],[23,0,23,1],[25,0,25,1],[24,0,24,1],[35,0,35,1],[42,0,42,1],[43,0,43,1],[36,0,36,1],[41,0,41,1],[39,0,39,1],[38,0,38,1],[37,0,37,1],[65,0,65,1],[62,0,62,1],[63,0,63,1],[64,0,64,1],[67,0,67,1],[61,0,61,1],[60,0,60,1],[58,0,58,1],[57,0,57,1],[56,0,56,1],[59,0,59,1],[93,0,93,9],[89,0,89,1],[83,0,83,1],[84,0,84,1],[91,0,91,1],[88,0,88,1],[85,0,85,1],[87,0,87,1],[82,0,82,1],[79,0,79,1],[81,0,81,1],[78,0,78,1],[68,0,68,1],[69,0,69,1],[73,0,73,1],[71,0,71,1],[72,0,72,1],[80,0,80,1],[77,0,77,1],[75,0,75,1],[74,0,74,1]]}
[null,null,"Retour Sommaire"]
[]
["4.2.2 - Les maladies professionnelles ou à caractère professionnel ou contractées en service, par cadre d'emplois et par sexe"]
[]
["Champ : le tableau qui suit concerne tous les agents quel que soit leur statut (y compris contractuels sur emploi non permanent), présents au cours de l'année 2019."]
["Remarque : Ne pas remplir les cellules grisées (pré remplies par un zéro) qui font l’objet de calculs automatiques. "]
[]
[]
["Y a-t-il eu des maladies professionnelles ou à caractère professionnel ou contractées en service ou des arrêts de travail en lien avec ces maladies en 2019 dans votre collectivité ?",null,null,null,null,null,null,null,"(vide)"]
[null,null,1,1,2,2,3,3,4,4,"maladie"]
["Si OUI, veuillez remplir le tableau suivant : ",null,1,2,1,2,1,2,1,2,"sexe"]
["Cadres d'emplois",null,"Nombre de maladies professionnelles ou à caractère professionnel ou contractées en service reconnues dans l'année 2019",null,"Nombre de maladies professionnelles ou à caractère professionnel ou contractées en service reconnues dans les années antérieures ayant entraînées des jours d'arrêt dans l'année 2019",null,"Nombre de jours d'arrêts de travail"]
[null,null,"Hommes","Femmes","Hommes","Femmes","Nombre de jours d'arrêt dus à des MP reconnues dans l'année en fonction du sexe",null,"Nombre de jours d'arrêt dans l'année dus à des MP reconnues dans les années antérieures en fonction du sexe"]
[null,null,null,null,null,null,"Hommes","Femmes","Hommes","Femmes"]
[]
["Administrateurs",null,null,null,null,null,null,null,null,null,"AD"]
["Attachés",null,null,null,null,null,null,null,null,null,"AT"]
["Secrétaires de mairie",null,null,null,null,null,null,null,null,null,"AS"]
["Rédacteurs",null,null,null,null,null,null,null,null,null,"AR"]
["Adjoints administratifs",null,null,null,null,null,null,null,null,null,"AJ"]
["FILIERE ADMINISTRATIVE",null,{"$f":"SUM(C16:C20)","v":0},{"$f":"SUM(D16:D20)","v":0},0,0,0,0,0,0,"A"]
[]
["Ingénieurs en chef",null,null,null,null,null,null,null,null,null,"TN"]
["Ingénieurs",null,null,null,null,null,null,null,null,null,"TP"]
["Techniciens ",null,null,null,null,null,null,null,null,null,"TT"]
["Agents de maîtrise",null,null,null,null,null,null,null,null,null,"TM"]
["Adjoints techniques",null,null,null,null,null,null,null,null,null,"TH"]
["Adjoints techniques des établissements d'enseignement",null,null,null,null,null,null,null,null,null,"TA"]
["FILIERE TECHNIQUE",null,{"$f":"SUM(C23:C28)","v":0},{"$f":"SUM(D23:D28)","v":0},0,0,{"$f":"SUM(G23:G28)","v":0},0,0,0,"T"]
[]
["Conservateurs du patrimoine",null,null,null,null,null,null,null,null,null,"CM"]
["Conservateurs des bibliothèques",null,null,null,null,null,null,null,null,null,"CH"]
["Attachés de conservation du patrimoine",null,null,null,null,null,null,null,null,null,"CA"]
["Bibliothécaires",null,null,null,null,null,null,null,null,null,"CB"]
["Directeurs d'établissements d'enseignement artistique",null,null,null,null,null,null,null,null,null,"CD"]
["Professeurs d'enseignement artistique",null,null,null,null,null,null,null,null,null,"CP"]
["Assistants qualifiés de conservation du patrimoine et des bibliothèques",null,null,null,null,null,null,null,null,null,"CG"]
["Assistants d'enseignement artistique",null,null,null,null,null,null,null,null,null,"CS"]
["Adjoints territoriaux du patrimoine",null,null,null,null,null,null,null,null,null,"CJ"]
["FILIERE CULTURELLE",null,{"$f":"SUM(C31:C39)","v":0},{"$f":"SUM(D31:D39)","v":0},0,0,0,0,0,0,"C"]
[]
["Conseillers des APS",null,null,null,null,null,null,null,null,null,"SC"]
["Educateurs des APS",null,null,null,null,null,null,null,null,null,"SE"]
["Opérateurs des APS",null,null,null,null,null,null,null,null,null,"SP"]
["FILIERE SPORTIVE",null,{"$f":"SUM(C42:C44)","v":0},{"$f":"SUM(D42:D44)","v":0},0,0,0,0,0,0,"S"]
[]
["Conseillers socio-éducatifs",null,null,null,null,null,null,null,null,null,"MM"]
["Assistants socio-éducatifs",null,null,null,null,null,null,null,null,null,"MT"]
["Educateurs de jeunes enfants",null,null,null,null,null,null,null,null,null,"ME"]
["Moniteurs-éducateurs et intervenants familiaux",null,null,null,null,null,null,null,null,null,"MB"]
["Agents spécialisés des écoles maternelles",null,null,null,null,null,null,null,null,null,"MD"]
["Agents sociaux",null,null,null,null,null,null,null,null,null,"MP"]
["FILIERE SOCIALE",null,{"$f":"SUM(C47:C52)","v":0},{"$f":"SUM(D47:D52)","v":0},0,0,0,0,0,0,"M"]
[]
["Médecins",null,null,null,null,null,null,null,null,null,"OD"]
["Psychologues ",null,null,null,null,null,null,null,null,null,"OH"]
["Sages-femmes",null,null,null,null,null,null,null,null,null,"OF"]
["Cadres de santé paramédicaux",null,null,null,null,null,null,null,null,null,"OG"]
["Puéricultrices cadres de santé",null,null,null,null,null,null,null,null,null,"OC"]
["Puéricultrices*",null,null,null,null,null,null,null,null,null,"OX"]
["Cadres de santé infirmiers, rééducateurs et assistants médico-techniques",null,null,null,null,null,null,null,null,null,"OA"]
["Infirmiers en soins généraux",null,null,null,null,null,null,null,null,null,"OB"]
["Infirmiers",null,null,null,null,null,null,null,null,null,"ON"]
["Auxiliaires de puériculture",null,null,null,null,null,null,null,null,null,"OJ"]
["Auxiliaires de soins",null,null,null,null,null,null,null,null,null,"OK"]
["FILIERE MEDICO-SOCIALE",null,{"$f":"SUM(C55:C65)","v":0},0,0,0,0,0,0,0,"O"]
[]
["Biologistes, vétérinaires, pharmaciens",null,null,null,null,null,null,null,null,null,"EB"]
["Techniciens paramédicaux",null,null,null,null,null,null,null,null,null,"ET"]
["FILIERE MEDICO-TECHNIQUE",null,{"$f":"SUM(C68:C69)","v":0},{"$f":"SUM(D68:D69)","v":0},0,0,0,0,0,0,"E"]
[]
["Directeurs de police municipale",null,null,null,null,null,null,null,null,null,"PU"]
["Chefs de service de police municipale",null,null,null,null,null,null,null,null,null,"PC"]
["Agents de police municipale",null,null,null,null,null,null,null,null,null,"PG"]
["Gardes-champêtres",null,null,null,null,null,null,null,null,null,"PH"]
["FILIERE POLICE MUNICIPALE",null,{"$f":"SUM(C72:C75)","v":0},{"$f":"SUM(D72:D75)","v":0},0,0,0,0,0,{"$f":"SUM(J72:J75)","v":0},"P"]
[]
["Contrôleurs, colonels",null,null,null,null,null,null,null,null,null,"RH"]
["Capitaines, commandants, lieutenants-colonels",null,null,null,null,null,null,null,null,null,"RC"]
["Médecins, pharmaciens",null,null,null,null,null,null,null,null,null,"RD"]
["Lieutenants",null,null,null,null,null,null,null,null,null,"RL"]
["Infirmiers d'encadrement",null,null,null,null,null,null,null,null,null,"RF"]
["Infirmiers",null,null,null,null,null,null,null,null,null,"RG"]
["Sous-officiers",null,null,null,null,null,null,null,null,null,"RS"]
["Sapeurs et caporaux",null,null,null,null,null,null,null,null,null,"RU"]
["FILIERE INCENDIE-SECOURS",null,{"$f":"SUM(C78:C85)","v":0},0,0,0,0,0,0,0,"R"]
[]
["Animateurs",null,null,null,null,null,null,null,null,null,"NN"]
["Adjoints d'animation",null,null,null,null,null,null,null,null,null,"NJ"]
["FILIERE ANIMATION",null,{"$f":"SUM(C88:C89)","v":0},{"$f":"SUM(D88:D89)","v":0},0,0,0,0,0,0,"N"]
[]
["TOTAL",null,{"$f":"C21+C29+C40+C45+C53+C66+C70+C76+C86+C90","v":0},{"$f":"D21+D29+D40+D45+D53+D66+D70+D76+D86+D90","v":0},0,0,0,0,0,0,"00"]
[]
["* Comptabiliser les puéricultrices du cadre d'emplois du décret n° 92-859 du 28 août 1992 modifié et du cadre d'emplois du décret n° 2014-923 du 18 août 2014."]

{"sheet":"IND 4.2.3","index":71,"n_rows":33,"n_cols":5,"rows_kept":33,"cut":false,"hidden":false,"merged":[[2,0,2,3],[9,0,11,0],[12,0,32,0],[19,1,19,3],[4,0,4,3]]}
[null,null,"Retour Sommaire"]
[]
["4.2.3 - Inaptitudes au cours de l'année 2019"]
[]
["Champ : le tableau qui suit concerne les agents titulaires, stagiaires et contractuels sur emploi permanent, présents au cours de l'année 2019."]
[]
["Les critères ne sont pas exclusifs : un agent peut être recensé dans plusieurs cases."]
[null,null,1,2,"sexe"]
[null,null,"Hommes","Femmes","inaptitude"]
["Demandes","Demande de reclassement au cours de l'année 2019 suite à une inaptitude liée à un accident du travail ou une maladie professionnelle",null,null,11]
[null,"Demande de reclassement au cours de l'année 2019 suite à une inaptitude liée à d'autres facteurs",null,null,12]
[null,"Proposition de période de préparation au reclassement au cours de l'année",null,null,13]
["Décisions","Période de préparation au reclassement acceptée au cours de l'année",null,null,31]
[null,"Période de préparation au reclassement refusée par l'agent au cours de l'année",null,null,32]
[null,"Reclassement effectif au cours de l'année, suite à une période de préparation au reclassement",null,null,33]
[null,"Reclassement effectif au cours de l'année 2019 suite à une inaptitude liée à un accident du travail ou une maladie professionnelle",null,null,14]
[null,"Reclassement effectif au cours de l'année 2019 suite à une inaptitude liée à d'autres facteurs",null,null,15]
[null,"Retraite pour invalidité",null,null,16]
[null,"Licenciement pour inaptitude physique",null,null,17]
[null,"Décision d'inaptitude définitive du fonctionnaire à son emploi, et à tout emploi, au cours de l'année 2019 suite à l'avis du comité médical ou de la commission de réforme et travaillant dans la filière : "]
[null,"FILIERE ADMINISTRATIVE",null,null,18]
[null,"FILIERE TECHNIQUE",null,null,19]
[null,"FILIERE CULTURELLE",null,null,20]
[null,"FILIERE SPORTIVE",null,null,21]
[null,"FILIERE SOCIALE",null,null,22]
[null,"FILIERE MEDICO-SOCIALE",null,null,23]
[null,"FILIERE MEDICO-TECHNIQUE",null,null,24]
[null,"FILIERE POLICE MUNICIPALE",null,null,25]
[null,"FILIERE INCENDIE ET SECOURS",null,null,26]
[null,"FILIERE ANIMATION",null,null,27]
[null,"Décisions d'accord de temps partiel thérapeutique recensées sur l'année 2019",null,null,28]
[null,"Décisions d'accord d'aménagement d'horaire ou d'aménagement de poste de travail",null,null,29]
[null,"Mises en disponibilité d'office ",null,null,30]

{"sheet":"IND 4.2.4","index":72,"n_rows":10,"n_cols":8,"rows_kept":10,"cut":false,"hidden":false,"merged":[[0,1,0,2],[4,1,4,2],[4,3,4,4],[4,5,4,6],[2,0,2,6]]}
[null,"Retour Sommaire"]
[]
["4.2.4 - Nombre d'allocations temporaires d'invalidité (ATI) attribuées au cours de l'année 2019"]
[null,1,2,1,2,1,2,"sexe"]
[null,"Pour accidents du travail",null,"Pour maladie professionnelle ou à caractère professionnel ou contractée pendant le service",null,"Autres cas"]
[null,"Hommes","Femmes","Hommes","Femmes","Hommes","Femmes","statut1"]
["Titulaires et stagiaires",null,null,null,null,null,null,1]
["Contractuels sur emploi permanent*",null,null,null,null,null,null,2]
[null,1,1,2,2,3,3,"motif"]
["* y compris pensions d'invalidité du régime général."]

{"sheet":"IND 4.2.5","index":73,"n_rows":7,"n_cols":9,"rows_kept":7,"cut":false,"hidden":false,"merged":[[4,0,4,7],[2,0,2,8],[0,3,0,5],[6,0,6,8]]}
[null,null,null,"Retour Sommaire"]
[]
["4.2.5 - Contrat d'assurance statutaire pour la prise en charge du risque maladie"]
[]
["Avez-vous adhéré à un contrat d'assurance statutaire pour la gestion du risque maladie, pour l'année 2019 ?",null,null,null,null,null,null,null,"(vide)"]
[]
["Il s'agit ici de savoir si la collectivité est assurée vis-à-vis des maintiens de traitement. Cela ne correspond pas aux mutuelles destinées aux agents."]

{"sheet":"IND 4.3.1","index":74,"n_rows":53,"n_cols":4,"rows_kept":53,"cut":false,"hidden":false,"merged":[[20,0,20,2],[2,0,2,2],[3,0,3,2],[4,0,4,2],[18,0,18,1],[6,0,6,1],[9,1,9,2],[8,0,8,2],[21,1,21,2],[42,0,42,1],[44,0,44,2],[45,1,45,2],[30,0,30,1],[33,1,33,2],[32,0,32,2]]}
[null,"Retour Sommaire"]
[]
["4.3.1 - Nombre d'actes de violences physiques et de signalements pour actes de violences sexuelles, agissements sexistes, harcèlement moral et harcèlement sexuel envers le personnel au cours de l'année 2019"]
["Champ : le tableau qui suit concerne tous les agents, titulaires et contractuels, y compris sur un emploi non permanent, présents au cours de l'année 2019."]
["Remarque : ne pas remplir les cellules grisées (pré remplies par un zéro) qui font l’objet de calculs automatiques. "]
[]
["Est-ce que certains agents de votre collectivité ont été victimes d'actes de violence physique (y compris violences sexuelles) en 2019, de la part d'usagers ou d'autres agents ?",null,"(vide)"]
[]
["Si OUI, veuillez remplir le tableau suivant : ",null,null,"sexe/acte"]
[null,"Nombre d'actes de violence physique (y compris violences sexuelles) envers le personnel au cours de l'année 2019"]
[null,"Hommes","Femmes","acte"]
["émanant du personnel avec arrêt de travail",null,null,1]
["émanant du personnel\nsans arrêt de travail",null,null,2]
["émanant des usagers \navec arrêt de travail",null,null,3]
["émanant des usagers \nsans arrêt de travail",null,null,4]
["Total",{"$f":"SUM(B12:B15)","v":0},{"$f":"SUM(C12:C15)","v":0},5]
[]
[]
["Est-ce que certains agents de votre collectivité ont été victimes de harcèlement moral en 2019, de la part d'usagers ou d'autres agents ?",null,"(vide)"]
[]
["Si OUI, veuillez remplir le tableau suivant : "]
[null,"Nombre de signalements au DRH pour harcelement moral"]
[null,"Hommes","Femmes","acte"]
["émanant du personnel avec arrêt de travail",null,null,1]
["émanant du personnel\nsans arrêt de travail",null,null,2]
["émanant des usagers \navec arrêt de travail",null,null,3]
["émanant des usagers \nsans arrêt de travail",null,null,4]
["Total",{"$f":"SUM(B24:B27)","v":0},{"$f":"SUM(C24:C27)","v":0},5]
[]
[]
["Est-ce que certains agents de votre collectivité ont été victimes de harcèlement sexuel en 2019, de la part d'usagers ou d'autres agents ?",null,"(vide)"]
[]
["Si OUI, veuillez remplir le tableau suivant : "]
[null,"Nombre de signalements au DRH pour harcelement sexuel"]
[null,"Hommes","Femmes","acte"]
["émanant du personnel avec arrêt de travail",null,null,1]
["émanant du personnel\nsans arrêt de travail",null,null,2]
["émanant des usagers \navec arrêt de travail",null,null,3]
["émanant des usagers \nsans arrêt de travail",null,null,4]
["Total",{"$f":"SUM(B36:B39)","v":0},{"$f":"SUM(C36:C39)","v":0},5]
[]
[]
["Est-ce que certains agents de votre collectivité ont été victimes d'agissements sexistes en 2019, de la part d'usagers ou d'autres agents ?",null,"(vide)"]
[]
["Si OUI, veuillez remplir le tableau suivant : "]
[null,"Nombre de signalements au DRH pour agissements sexistes (cf. définition prévue par l’article L. 1142-2-1 du code du travail)"]
[null,"Hommes","Femmes","acte"]
["émanant du personnel avec arrêt de travail",null,null,1]
["émanant du personnel\nsans arrêt de travail",null,null,2]
["émanant des usagers \navec arrêt de travail",null,null,3]
["émanant des usagers \nsans arrêt de travail",null,null,4]
["Total",{"$f":"SUM(B48:B51)","v":0},{"$f":"SUM(C48:C51)","v":0},5]
[null,1,2,"sexe"]

{"sheet":"Fiche 5.1.1-5.1.4","index":75,"n_rows":90,"n_cols":7,"rows_kept":90,"cut":false,"hidden":false,"merged":[[39,0,39,7],[30,0,30,7],[31,0,31,7],[33,0,33,7],[0,3,0,4],[3,0,3,7],[6,0,6,7],[7,0,7,7],[13,0,13,7],[9,0,9,7],[10,0,10,7],[12,0,12,7],[15,0,15,7],[16,0,16,7],[35,0,35,7],[37,0,37,7],[21,0,21,7],[22,0,22,7],[29,0,29,7],[23,0,23,7],[25,0,25,7],[27,0,27,7],[17,0,17,7],[19,0,19,7],[59,1,59,4],[58,1,58,4],[55,0,55,7],[41,0,41,7],[45,0,45,7],[57,1,57,4],[43,0,43,7],[47,0,47,7],[49,0,49,7],[51,0,51,7],[52,0,52,7],[53,0,53,7],[54,0,54,7],[20,0,20,7],[70,0,70,7],[66,0,66,7],[67,0,67,7],[68,0,68,7],[60,1,60,4],[61,1,61,4],[64,0,64,7],[65,0,65,7],[72,0,73,7],[74,0,77,7],[89,0,89,7],[78,0,80,7],[81,0,81,7],[84,0,84,7],[85,0,85,7],[86,0,86,7],[87,0,87,7]]}
[null,null,null,"Retour Sommaire"]
[]
[]
["5.1.1-5.1.4 - Formation"]
[]
[]
["5.1.1 et 5.1.2 – Comment sont décomptées les journées de formation suivies par un agent ?"]
["Les indicateurs 5.1.1 et 5.1.2 recensent le nombre de journées de formation auxquelles ont participé d’une part les agents qui occupent un emploi permanent (5.1.1) et d’autre part les autres agents (5.1.2) :"]
[]
["Quels sont les jours à prendre en compte ?"]
["* comptabiliser les jours ouvrés "]
[]
["Qu’est-ce qu’une journée de formation ?"]
["* considérer 1 journée quel que soit le nombre d’heures réel de la formation : compter les journées selon les pratiques de la collectivité et celles des organismes (certains comptent 6h, 6h30, 7h ou plus par journée de formation)."]
[]
["Que comptabilise-t-on ?"]
["* compter le nombre total de journées effectuées par les  agents :"]
["Exemple : si 7 agents ont participé ensemble à une action de formation qui a duré 3 jours, et 2 autres à une action de 2 jours, le nombre total de journées de formation sera égal à (7 X 3) + (2X2) = 25"]
[]
["Remarques :"]
["- ne pas décompter de durée inférieure à la  journée."]
["Exemple : 7 stagiaires ont participé à un stage de 3,5 j, et par ailleurs le nombre total des journées correspondant aux autres formations est de 50 j."]
["Le nombre de journées de formation correspondant au stage sera égal à 24,5. Additionné aux autres journées, le résultat final sera de 74,5 à arrondir à 75."]
["- pour les formations dont la durée est comptabilisée en heures, transformer le nombre total d’heures en nombre de journées (en utilisant la norme d’1 journée = 7 heures) et arrondir si besoin."]
[]
["Quelles sont les informations recherchées par type de formation ?"]
[]
["* préparations aux concours et examens d’accès aux cadres d’emplois de la fonction publique territoriale : compter strictement les journées d’absence correspondant à des actions de formation = ne pas prendre en compte les journées d’absence pour participation aux épreuves de concours."]
[]
["* formation prévue par les statuts particuliers : concerne toutes les formations obligatoires suite à nomination ou exercice des fonctions dans certains cadres d’emplois :"]
["     - formation d'intégration,"]
["     - formation de professionnalisation."]
[]
["* formation de perfectionnement : compter les journées correspondant à toutes les actions de formation ayant pour but de développer les compétences des agents ou de leur permettre d'en acquérir de nouvelles. Rentrent également dans ce cadre les actions de formation relatives à l'hygiène et à la sécurité qui sont prévues par le décret n° 85-603 du 10 juin 1985 pour les acmo, les ACFI, et plus généralement pour tous les agents."]
[]
["* formation personnelle : ne prendre en compte que les journées de formation prises au moyen de la décharge partielle de service (article 5-1 pour les titulaires et 15-1 pour les contractuels du décret n°85-1076 du 9 octobre 1985)."]
[]
["Comment répartir les journées selon les organismes (intitulés de colonnes) ?"]
[]
["* 5.1.1(1) : compter les journées correspondant aux formations organisées en inter et prises en charge financièrement par le CNFPT dans le cadre de son offre de formation correspondant à la cotisation obligatoire versée par les collectivités et établissements publics."]
[]
["* 5.1.1(2) : compter les journées correspondant aux  formations organisées en inter au-delà de la cotisation obligatoire (ceci existe dans certaines régions, mais pas dans toutes)."]
[]
["* 5.1.1(3) : compter les journées correspondant aux formations organisées par la collectivité, qu'il s'agisse :\n- de formations assurées par des formateurs internes (titulaires ou contractuels),\n- de formations assurées par des intervenants extérieurs rémunérés sous forme de vacations ou de prestations,\n- de formations assurées par le CNFPT en intra, c'est à dire organisées à la demande de la collectivité pour ses propres agents."]
[]
["* 5.1.1(4) : compter la totalité des journées de formation assurées par d’autres organismes de formation, y compris les stages pratiques effectués hors de la collectivité."]
[]
["* 5.1.1(5) : colonne totalisant automatiquement l'ensemble des journées de formation précédentes (ne pas remplir cette colonne)"]
[]
["* 5.1.1(6) : compter la totalité des journées de formation assurées parmi les précédentes dans le cadre du CPF (compte personnel de formation)."]
[]
["*5.1.1(7) à 5.1.1(10) – Comment sont décomptés les agents occupant un emploi permanent par type de formation ?"]
["Le but est de connaître pour chaque type de formation et par catégorie hiérarchique au 31/12/2019, le nombre d’agents qui ont été concernés au cours de l’année. Pour chaque catégorie, comptabiliser le nombre d’agents partis au moins une fois par type de formation (et non le nombre de départs). Un même agent ayant participé à plusieurs types de formation sera comptabilisé une fois pour chaque type."]
[" Exemple :"]
["Madame X, rédactrice, a participé en début d’année à la fin de la préparation à l’écrit du concours d’attaché. Après admissibilité, elle participe à la préparation à l’oral. Dans la même année, nommée attachée stagiaire, elle a entamé sa formation initiale. Au 31/12/2019 cet agent se trouve en catégorie A, donc l'ensemble des formations suivies seront recensées dans cette catégorie."]
["Monsieur Z, agent d’entretien, a participé à un stage de formation de perfectionnement et à une action de formation personnelle."]
[]
[null," ",null,null,null,"Hommes","Femmes"]
[null,"Cat. A : formation prévue par les statuts particuliers",null,null,null,null,1]
[null,"Cat. B : préparation concours",null,null,null,null,1]
[null,"Cat. C : formation de perfectionnement",null,null,null,1]
[null,"Cat. C : formation personnelle",null,null,null,1]
[]
[]
["5.1.3 Comment sont décomptés les VAE, bilans de compétence et congés de formation?"]
["* VAE : indiquer, pour l'année 2019 :"]
["- le nombre de dossiers dont la collectivité a eu connaissance, qu’il s’agisse de démarches accompagnées ou non."]
["- le nombre de dossiers en cours : quelle que soit l’année de dépôt, dossier dont le résultat n’est pas encore connu. "]
["- le nombre de dossiers ayant débouché sur une validation, qu'elle soit totale ou partielle."]
[]
["* indiquer le nombre de bilans de compétence et bilans professionnels réalisés en externe par un intervenant ou organisme spécialisé."]
[]
["* congés de formation : indiquer le nombre d'agents bénéficiant d'un congé de formation accepté, au titre de l'année 2019, tel que prévu au décret  2007-1845 du 26 décembre 2007 relatif à la formation professionnelle tout au long de la vie des agents de la fonction publique territoriale (articles 8 et 11 à 17 pour les fonctionnaires et articles 43 à 45 pour les contractuels)."]
[]
["La loi n° 84-594 du 12 juillet 1984 relative à la formation des agents de la fonction publique territoriale et complétant la loi n°84-53 du 26 janvier 1984 portant dispositions statutaires relatives à la fonction publique territoriale (chapitre 1er) a été modifiée par la loi n° 2007-209 du 19 février 2007 relative à la fonction publique territoriale."]
[]
[]
[]
["Le décret n° 85-1076 du 9 octobre 1985 relatif à l’exercice du droit à la formation des agents de la fonction publique territoriale (section II et III) a été abrogé et remplacé par le décret n° 2007-1845 du 26 décembre 2007 relatif à la formation professionnelle tout au long de la vie des agents de la fonction publique territoriale."]
[]
[]
["Les formations d’intégration et de professionnalisation mentionnées au 1° de l’article 1er de la loi du 12 juillet 1984 susvisée relèvent de la formation professionnelle tout au long de la vie définie au premier alinéa de l’article 1er du décret du 26 décembre 2007 susvisé et sont mises en oeuvre dans les conditions fixées par le présent décret et par les statuts particuliers des cadres d’emplois.\nLe présent décret est applicable aux fonctionnaires de l’ensemble des cadres d’emplois de la fonction publique territoriale, à l’exception de ceux relevant des filières sapeurs-pompiers et police municipale qui sont soumis à des dispositions spécifiques en matière de formation professionnelle obligatoire."]
["Le décret n° 88-145 du 15 février 1988 relatif aux agents contractuels de la fonction publique territoriale (article 6)."]
[]
["Article 11 du décret n° 2008-512 du 29 mai 2008 relatif à la formation statutaire obligatoire des fonctionnaires territoriaux : La formation de professionnalisation prévue au b) du 1° de l’article 1er de la loi du 12 juillet 1984 susvisée est dispensée aux fonctionnaires de toutes catégories pour permettre leur adaptation à l’emploi et le maintien à niveau de leurs compétences.\nElle comprend :\n1° La formation de professionnalisation au premier emploi ;\n2° La formation de professionnalisation tout au long de la carrière ;\n3° La formation de professionnalisation suivie à la suite de l’affectation sur un poste à responsabilité.\nLe contenu de ces formations est adapté aux emplois que les membres des cadres d’emplois ont vocation à occuper compte tenu des missions définies par leurs statuts particuliers.\nLes obligations de formation définies au présent article ne s’appliquent pas aux membres du cadre d’emplois des médecins territoriaux, à l’exception de celles mentionnées au 3°.\n"]
["La formation d’intégration\nArt. 6. − La formation mentionnée au a du 1° de l’article 1er de la loi du 12 juillet 1984 susvisée vise à faciliter l’intégration des fonctionnaires territoriaux par l’acquisition de connaissances relatives à l’environnement territorial dans lequel s’exercent leurs missions.\nElle porte notamment sur l’organisation et le fonctionnement des collectivités territoriales et de leurs établissements publics, les services publics locaux et le déroulement des carrières des fonctionnaires territoriaux.\nLes obligations de formation d’intégration ne s’appliquent pas aux fonctionnaires relevant de l’article 45 de la loi du 26 janvier 1984 susvisée.\nLes fonctionnaires recrutés au titre du 1° et du 2° de l’article 39 de la même loi en sont dispensés.\nArt. 7. − Les statuts particuliers des cadres d’emplois définissent la durée de la formation d’intégration prévue à l’article précédent qui est dispensée au cours de la première année qui suit la nomination du fonctionnaire dans son cadre d’emplois et les conditions dans lesquelles elle peut être fractionnée.\nLes statuts particuliers des cadres d’emplois peuvent déterminer dans quelle mesure cette formation est préalable à l’exercice des missions qui incombent aux membres des cadres d’emplois considérés.\nArt. 8. − La formation d’intégration peut être commune aux fonctionnaires appartenant à différents cadres d’emplois.\nArt. 9. − Dès la nomination d’un fonctionnaire astreint à la formation d’intégration, l’autorité territoriale en informe le Centre national de la fonction publique territoriale en vue de l’organisation de cette formation.\nArt. 10. − Sauf dispositions statutaires contraires, la titularisation est subordonnée au respect de l’obligation de suivi de la formation d’intégration."]
["- Actions de lutte contre l'illettrisme et pour l'apprentissage de la langue française : des formations peuvent être proposées aux agents territoriaux ayant des difficultés pour lire et écrire le français. Ces formations ne sont pas obligatoires. Elles sont accordées sous réserve des nécessités de service. L'autorité territoriale ne peut opposer deux refus consécutifs à une demande de formation qu'après avis de la commission administrative paritaire (CAP). Cf. loi n° 84-594 du 12 juillet 1984 relative à la formation des agents de la fonction publique territoriale (articles 1 et 2)."]
["Les emplois d'avenir\nÀ compter de la promulgation de la loi portant création des emplois d’avenir, les actions de formation destinées aux personnes bénéficiant d’un contrat conclu au titre de l’article L. 5134-110 du code du travail dans les collectivités territoriales ou leurs établissements publics sont financées, pour tout ou partie, au moyen de la cotisation obligatoire versée par les collectivités territoriales et leurs établissements publics, en application du 1° de l’article 12-2 de la loi n° 84-53 du 26 janvier 1984 portant dispositions statutaires relatives à la fonction publique territoriale, ainsi que par une cotisation obligatoire assise sur les rémunérations des bénéficiaires des contrats conclus au titre de l’article L. 5134-110 du code du travail dont le taux est fixé par décret. Cette disposition ne sera applicable qu’à compter du 1er janvier 2013. Une convention annuelle d’objectifs et de moyens, conclue entre l’État et le centre national de la fonction publique territoriale, viendra définir les modalités de mise en œuvre."]
[]
["Le compte personnel de formation \nDepuis le 1er janvier 2017, le compte personnel de formation (CPF) est une composante du compte personnel d'activité (CPA) au même titre que le compte d’engagement citoyen (CEC), qui est ouvert aux fonctionnaires et aux contractuels de la fonction publique. \nLe compte personnel de formation (CPF) a pour objectifs, par l’utilisation des droits qu’il permet d’acquérir, de renforcer l’autonomie de son titulaire et de faciliter son évolution professionnelle. Ces droits sont attachés à la personne et sont donc conservés lorsqu’un agent change d’employeur, que cet employeur relève du secteur public ou du secteur privé. Ils seront consultables, au plus tôt le 1er janvier 2018 et au plus tard le 1er janvier 2020, sur le portail « moncompteactivité.gouv.fr » géré par la Caisse des dépôts et consignations.\n\nPour en savoir plus sur le CPA et son application dans la fonction publique, rendez-vous sur le portail de la fonction publique.\nSource :  cnfpt.fr\n\nRemarque : Le CPF remplace le DIF\nFonctionnaires et contractuels de droit public :\nLes agents ont un CPF depuis le 1er janvier 2017 qui se substitue au DIF (droit individuel à la formation). À compter de cette date, ils commencent donc à cumuler des heures sur ce CPF. Les heures inscrites au DIF au 31 décembre 2016 peuvent être utilisées pour bénéficier de formations au titre du CPF.\nSource :  cnfpt.fr"]

{"sheet":"IND 5.1.1","index":76,"n_rows":89,"n_cols":13,"rows_kept":89,"cut":false,"hidden":false,"merged":[[24,7,25,7],[24,1,24,2],[24,4,25,4],[5,0,5,10],[18,0,18,10],[58,7,59,7],[0,2,0,3],[16,0,16,10],[23,7,23,10],[23,0,26,0],[23,1,23,6],[24,8,25,8],[19,0,19,9],[21,0,21,10],[20,0,20,10],[24,5,25,5],[24,9,25,9],[24,10,25,10],[3,0,3,10],[24,3,25,3],[24,6,25,6],[57,0,60,0],[58,8,59,8],[7,0,7,9],[6,0,6,10],[9,1,9,2],[9,3,9,4],[9,5,10,5],[58,9,59,9],[58,1,58,2],[57,1,57,5],[57,7,57,10],[58,10,59,10],[58,3,59,3],[58,4,59,4],[58,5,59,5],[58,6,59,6]]}
[null,null,"Retour Sommaire"]
[]
[]
["5.1.1 (1) -  Tableau récapitulatif - Fonctionnaires et contractuels  sur un emploi permanent présents dans les effectifs au 31/12/2019 ayant participé à au moins une formation en 2019"]
[]
["Champ : le tableau qui suit concerne les fonctionnaires et contractuels sur un emploi permanent, présents  au 31/12/2019 et ayant participé à au moins une formation en 2019."]
["Précision : un agent ayant suivi plusieurs formations ne doit être saisi qu'une fois."]
["Remarque : ne pas remplir les cellules grisées (pré remplies par un zéro) qui font l’objet de calculs automatiques. "]
[null,1,2,1,2,0,"sexe"]
[null,"FONCTIONNAIRES ",null,"CONTRACTUELS SUR EMPLOI PERMANENT",null,"TOTAL"]
[null,"Hommes","Femmes","Hommes","Femmes",null,"categ"]
["Catégorie A",null,null,null,null,{"$f":"SUM(B12:E12)","v":0},1]
["Catégorie B",null,null,null,null,{"$f":"SUM(B13:E13)","v":0},2]
["Catégorie C",null,null,null,null,{"$f":"SUM(B14:E14)","v":0},3]
["Total",{"$f":"SUM(B12:B14)","v":0},{"$f":"SUM(C12:C14)","v":0},{"$f":"SUM(D12:D14)","v":0},{"$f":"SUM(E12:E14)","v":0},{"$f":"SUM(F12:F14)","v":0},0]
[null,1,1,2,2,0,"statut1"]
["5.1.1 (2) - Journées de formation suivies par les fonctionnaires et contractuels sur un emploi permanent présents au 31/12/2019 et nombre d'agents sur emploi permanent ayant participé à au moins une journée de formation en 2019"]
[]
["Champ : les tableaux qui suivent concernent les fonctionnaires et contractuels sur un emploi permanent, présents au 31/12/2019 et ayant participé à au moins une formation en 2019."]
["Remarques :"]
["- Ne pas remplir les cellules grisées"]
["- La comptabilisation se fait sur deux tableaux distincts, en fonction du statut des agents."]
[]
["Titulaires et stagiaires","Nombre total de journées de formation dispensées au cours de l'année par",null,null,null,null,null,"Nombre total de titulaires et stagiaires occupant un emploi permanent ayant participé à un ou plusieurs types de formation dans l'année\nex : 1 agent a suivi 2 types de formations, il est comptabilisé dans chaque type de formation"]
[null,"CNFPT",null,"Collectivité","Autres  organismes","Total","dont CPF (Compte Personnel de Formation)","Hommes","Femmes","Total","dont CPF"]
[null,"au titre\nde la cotisation obligatoire","au delà\nde la cotisation obligatoire"]
[null,"5.1.1(1)","5.1.1(2)","5.1.1(3)","5.1.1(4)","5.1.1(5)","5.1.1(6)","5.1.1(7)","5.1.1(8)","5.1.1(9)","5.1.1(10)"]
["Pour les agents de catégorie A",10,20,30,40,50,60,1,2,3,4,"orga/categ","form"]
["Préparations aux concours et examens d'accès à la F.P.T.",null,null,null,null,{"$f":"SUM(B29:E29)","v":0},null,null,null,{"$f":"SUM(H29:I29)","v":0},null,1,1]
["Formation prévue par les statuts particuliers",{"$f":"SUM(B31:B32)","v":0},{"$f":"SUM(C31:C32)","v":0},{"$f":"SUM(D31:D32)","v":0},{"$f":"SUM(E31:E32)","v":0},{"$f":"SUM(B30:E30)","v":0},null,{"$f":"SUM(H31:H32)","v":0},{"$f":"SUM(I31:I32)","v":0},0,null,1,2]
["dont formation d'intégration",null,null,null,null,0,null,null,null,0,null,1,3]
["dont formation de professionnalisation",null,null,null,null,0,null,null,null,0,null,1,4]
["Formation de perfectionnement",null,null,null,null,0,null,null,null,0,null,1,5]
["Formation personnelle (hors congés formation)",null,null,null,null,0,null,null,null,0,null,1,6]
["Total",{"$f":"B29+B30+B33+B34","v":0},{"$f":"C29+C30+C33+C34","v":0},{"$f":"D29+D30+D33+D34","v":0},{"$f":"E29+E30+E33+E34","v":0},0,{"$f":"G29+G33","v":0},null,null,null,null,1,0]
["Pour les agents de catégorie B"]
["Préparations aux concours et examens d'accès à la F.P.T.",null,null,null,null,{"$f":"SUM(B37:E37)","v":0},null,null,null,{"$f":"SUM(H37:I37)","v":0},null,2,1]
["Formation prévue par les statuts particuliers",{"$f":"SUM(B39:B40)","v":0},{"$f":"SUM(C39:C40)","v":0},{"$f":"SUM(D39:D40)","v":0},{"$f":"SUM(E39:E40)","v":0},{"$f":"SUM(B38:E38)","v":0},null,{"$f":"SUM(H39:H40)","v":0},{"$f":"SUM(I39:I40)","v":0},0,null,2,2]
["dont formation d'intégration",null,null,null,null,0,null,null,null,0,null,2,3]
["dont formation de professionnalisation",null,null,null,null,0,null,null,null,0,null,2,4]
["Formation de perfectionnement",null,null,null,null,0,null,null,null,0,null,2,5]
["Formation personnelle (hors congés formation)",null,null,null,null,0,null,null,null,0,null,2,6]
["Total",{"$f":"B37+B38+B41+B42","v":0},{"$f":"C37+C38+C41+C42","v":0},{"$f":"D37+D38+D41+D42","v":0},{"$f":"E37+E38+E41+E42","v":0},0,{"$f":"G37+G41","v":0},null,null,null,null,2,0]
["Pour les agents de catégorie C (y compris PACTE)"]
["Préparations aux concours et examens d'accès à la F.P.T.",null,null,null,null,{"$f":"SUM(B45:E45)","v":0},null,null,null,{"$f":"SUM(H45:I45)","v":0},null,3,1]
["Formation prévue par les statuts particuliers",{"$f":"SUM(B47:B48)","v":0},{"$f":"SUM(C47:C48)","v":0},{"$f":"SUM(D47:D48)","v":0},{"$f":"SUM(E47:E48)","v":0},{"$f":"SUM(B46:E46)","v":0},null,{"$f":"SUM(H47:H48)","v":0},{"$f":"SUM(I47:I48)","v":0},0,null,3,2]
["dont formation d'intégration",null,null,null,null,0,null,null,null,0,null,3,3]
["dont formation de professionnalisation",null,null,null,null,0,null,null,null,0,null,3,4]
["Formation de perfectionnement",null,null,null,null,0,null,null,null,0,null,3,5]
["Formation personnelle (hors congés formation)",null,null,null,null,0,null,null,null,0,null,3,6]
["Total",{"$f":"B45+B46+B49+B50","v":0},{"$f":"C45+C46+C49+C50","v":0},{"$f":"D45+D46+D49+D50","v":0},{"$f":"E45+E46+E49+E50","v":0},0,{"$f":"G45+G49","v":0},null,null,null,null,3,0]
[]
["Pour les autres agents non classables dans une de ces catégories",null,null,null,null,{"$f":"SUM(B53:E53)","v":0},null,null,null,{"$f":"SUM(H53:I53)","v":0},null,9,9]
[]
["TOTAL Toutes catégories",{"$f":"B53+B51+B43+B35","v":0},{"$f":"C53+C51+C43+C35","v":0},{"$f":"D53+D51+D43+D35","v":0},{"$f":"E53+E51+E43+E35","v":0},{"$f":"F35+F43+F51+F53","v":0},{"$f":"G35+G43+G51+G53","v":0},null,null,null,null,0,0]
[]
[]
["Contractuels sur emploi permanent","Nombre total de journées de formation dispensées au cours de l'année par",null,null,null,null,null,"Nombre total de contractuels occupant un emploi permanent ayant participé à un ou plusieurs types de formation dans l'année\nex : 1 agent a suivi 2 types de formations, il est comptabilisé dans chaque type de formation"]
[null,"CNFPT",null,"Collectivité","Autres  organismes","Total","dont CPF (Compte Personnel de Formation)","Hommes","Femmes","Total","dont CPF"]
[null,"au titre\nde la cotisation obligatoire","au delà\nde la cotisation obligatoire"]
[null,"5.1.1(1)","5.1.1(2)","5.1.1(3)","5.1.1(4)","5.1.1(5)","5.1.1(6)","5.1.1(7)","5.1.1(8)","5.1.1(9)","5.1.1(10)"]
["Pour les agents de catégorie A",10,20,30,40,50,60,1,2,3,4,"orga/categ","form"]
["Préparations aux concours et examens d'accès à la F.P.T.",null,null,null,null,{"$f":"SUM(B63:E63)","v":0},null,null,null,{"$f":"SUM(H63:I63)","v":0},null,1,1]
["Formation prévue par les statuts particuliers",{"$f":"SUM(B65:B66)","v":0},{"$f":"SUM(C65:C66)","v":0},{"$f":"SUM(D65:D66)","v":0},{"$f":"SUM(E65:E66)","v":0},{"$f":"SUM(B64:E64)","v":0},null,{"$f":"SUM(H65:H66)","v":0},{"$f":"SUM(I65:I66)","v":0},0,null,1,2]
["dont formation d'intégration",null,null,null,null,0,null,null,null,0,null,1,3]
["dont formation de professionnalisation",null,null,null,null,0,null,null,null,0,null,1,4]
["Formation de perfectionnement",null,null,null,null,0,null,null,null,0,null,1,5]
["Formation personnelle (hors congés formation)",null,null,null,null,0,null,null,null,0,null,1,6]
["Total",{"$f":"B63+B64+B67+B68","v":0},{"$f":"C63+C64+C67+C68","v":0},{"$f":"D63+D64+D67+D68","v":0},{"$f":"E63+E64+E67+E68","v":0},0,{"$f":"G63+G67","v":0},null,null,null,null,1,0]
["Pour les agents de catégorie B"]
["Préparations aux concours et examens d'accès à la F.P.T.",null,null,null,null,{"$f":"SUM(B71:E71)","v":0},null,null,null,{"$f":"SUM(H71:I71)","v":0},null,2,1]
["Formation prévue par les statuts particuliers",{"$f":"SUM(B73:B74)","v":0},{"$f":"SUM(C73:C74)","v":0},{"$f":"SUM(D73:D74)","v":0},{"$f":"SUM(E73:E74)","v":0},{"$f":"SUM(B72:E72)","v":0},null,{"$f":"SUM(H73:H74)","v":0},{"$f":"SUM(I73:I74)","v":0},0,null,2,2]
["dont formation d'intégration",null,null,null,null,0,null,null,null,0,null,2,3]
["dont formation de professionnalisation",null,null,null,null,0,null,null,null,0,null,2,4]
["Formation de perfectionnement",null,null,null,null,0,null,null,null,0,null,2,5]
["Formation personnelle (hors congés formation)",null,null,null,null,0,null,null,null,0,null,2,6]
["Total",{"$f":"B71+B72+B75+B76","v":0},{"$f":"C71+C72+C75+C76","v":0},{"$f":"D71+D72+D75+D76","v":0},{"$f":"E71+E72+E75+E76","v":0},0,{"$f":"G71+G75","v":0},null,null,null,null,2,0]
["Pour les agents de catégorie C (y compris PACTE)"]
["Préparations aux concours et examens d'accès à la F.P.T.",null,null,null,null,{"$f":"SUM(B79:E79)","v":0},null,null,null,{"$f":"SUM(H79:I79)","v":0},null,3,1]
["Formation prévue par les statuts particuliers",{"$f":"SUM(B81:B82)","v":0},{"$f":"SUM(C81:C82)","v":0},{"$f":"SUM(D81:D82)","v":0},{"$f":"SUM(E81:E82)","v":0},{"$f":"SUM(B80:E80)","v":0},null,{"$f":"SUM(H81:H82)","v":0},{"$f":"SUM(I81:I82)","v":0},0,null,3,2]
["dont formation d'intégration",null,null,null,null,0,null,null,null,0,null,3,3]
["dont formation de professionnalisation",null,null,null,null,0,null,null,null,0,null,3,4]
["Formation de perfectionnement",null,null,null,null,0,null,null,null,0,null,3,5]
["Formation personnelle (hors congés formation)",null,null,null,null,0,null,null,null,0,null,3,6]
["Total",{"$f":"B79+B80+B83+B84","v":0},{"$f":"C79+C80+C83+C84","v":0},{"$f":"D79+D80+D83+D84","v":0},{"$f":"E79+E80+E83+E84","v":0},0,{"$f":"G79+G83","v":0},null,null,null,null,3,0]
[]
["Pour les autres agents non classables dans une de ces catégories",null,null,null,null,{"$f":"SUM(B87:E87)","v":0},null,null,null,{"$f":"SUM(H87:I87)","v":0},null,9,9]
[]
["TOTAL Toutes catégories",{"$f":"B69+B77+B85+B87","v":0},0,0,0,0,0,null,null,null,null,0,0]

{"sheet":"IND 5.1.2","index":77,"n_rows":47,"n_cols":12,"rows_kept":47,"cut":false,"hidden":false,"merged":[[27,0,27,10],[10,7,11,7],[5,0,5,10],[6,0,6,10],[7,0,7,9],[10,8,11,8],[10,10,11,10],[0,2,0,3],[3,0,3,10],[10,9,11,9],[10,5,11,5],[9,1,9,5],[9,7,9,9],[10,3,11,3],[10,4,11,4],[10,6,11,6],[31,0,31,9],[29,0,29,10],[30,0,30,10],[38,1,38,2],[38,3,38,4],[35,1,35,2],[37,1,37,2],[37,3,37,4],[35,3,35,4],[36,3,36,4],[41,1,41,2],[41,3,41,4],[33,1,33,4],[34,1,34,2],[34,3,34,4],[40,1,40,2],[40,3,40,4],[39,1,39,2],[39,3,39,4],[36,1,36,2],[45,1,45,2],[45,3,45,4],[42,1,42,2],[42,3,42,4],[43,1,43,2],[43,3,43,4],[44,1,44,2],[44,3,44,4]]}
[null,null,"Retour Sommaire"]
[]
[]
["5.1.2 (1) - Journées de formation suivies par les agents sur un emploi non permanent au cours de l'année 2019"]
[]
["Champ : le tableau qui suit concerne les agents sur un emploi non permanent, présents  au 31/12/2019 et ayant participé à au moins une formation en 2019."]
["Précision : un agent ayant suivi plusieurs formations ne doit être saisi qu'une fois."]
["Remarque : Ne pas remplir les cellules grisées (pré remplies par un zéro) qui font l’objet de calculs automatiques. "]
[]
[null,"Nombre total de journées de formation dispensées par",null,null,null,null,null,"Nombre d'agents occupant un emploi non permanent et présents au 31/12/2019 ayant participé à au moins une action de formation dans l'année\n"]
[null,"CNFPT","CNFPT","Collectivité","Autres organismes","Total","  dont CPF (Compte Personnel de Formation) ","Hommes","Femmes","Total","dont CPF (Compte Personnel de Formation) "]
[null,"au titre\nde la cotisation obligatoire","au delà\nde la cotisation obligatoire"]
[null,"5.1.2 (1)","5.1.2(2)","5.1.2(3)","5.1.2(4) ","5.1.2(5) ","5.1.2(6) ","5.1.2(7)","5.1.2(8)","5.1.2(9)","5.1.2(10) "]
[null,10,20,30,40,50,60,1,2,3,4,"form/agent/emploi"]
["Fonctionnaires sur emploi non permanent",null,null,null,null,{"$f":"SUM(B15:E15)","v":0},null,null,null,{"$f":"H15+I15","v":0},null,31]
["Collaborateurs de cabinet",null,null,null,null,{"$f":"SUM(B16:E16)","v":0},null,null,null,0,null,"01"]
["Assistants maternels",null,null,null,null,0,null,null,null,0,null,"02"]
["Assistants familiaux",null,null,null,null,0,null,null,null,0,null,"03"]
["Accueillants familiaux (Loi DALO de 2007)",null,null,null,null,0,null,null,null,0,null,"04"]
["Agents contractuels recrutés sur emplois saisonniers ou occasionnels",null,null,null,null,0,null,null,null,0,null,"05"]
["Personnes ayant bénéficié d'un contrat aidé",null,null,null,null,0,null,null,null,0,null,"06"]
["Total",{"$f":"SUM(B15:B21)","v":0},{"$f":"SUM(C15:C21)","v":0},{"$f":"SUM(D15:D21)","v":0},{"$f":"SUM(E15:E21)","v":0},0,{"$f":"SUM(G15:G21)","v":0},{"$f":"SUM(H15:H21)","v":0},{"$f":"SUM(I15:I21)","v":0},{"$f":"H22+I22","v":0},{"$f":"SUM(K15:K21)","v":0},"00"]
["Apprentis ",null,null,null,null,0,null,null,null,{"$f":"H23+I23","v":0},null,10]
["Autres (agents non classables dans les catégories précédentes)",null,null,null,null,0,null,null,null,{"$f":"H24+I24","v":0},null,12]
["TOTAL Tous types",{"$f":"B22+B23+B24","v":0},{"$f":"C22+C23+C24","v":0},0,0,{"$f":"F22+F23+F24","v":0},0,0,0,{"$f":"H25+I25","v":0},0,99]
[]
[]
["5.1.2 (2) - Nombre d'agents sur un emploi non permanent présents au 31/12/2019 et ayant participé à au moins une formation en 2019"]
[]
["Champ : le tableau qui suit concerne les agents sur un emploi non permanent, présents au 31/12/2019 et ayant participé à au moins une formation en 2019."]
["Précision : un agent ayant suivi plusieurs formations ne doit être saisi qu'une fois."]
["Remarque : Ne pas remplir les cellules grisées (pré remplies par un zéro) qui font l’objet de calculs automatiques. "]
[]
[null,"Nombre d'agents sur un emploi non permanent présents au 31/12/2019 et ayant participé à au moins une formation en 2019"]
[null,"Hommes",null,"Femmes",null,"emploi"]
["Fonctionnaires sur emploi non permanent",null,null,null,null,31]
["Collaborateurs de cabinet",null,null,null,null,"01"]
["Assistants maternels",null,null,null,null,"02"]
["Assistants familiaux",null,null,null,null,"03"]
["Accueillants familiaux (Loi DALO de 2007)",null,null,null,null,"04"]
["Agents contractuels recrutés sur emplois saisonniers ou occasionnels",null,null,null,null,"05"]
["Personnes ayant bénéficié d'un contrat aidé",null,null,null,null,"06"]
["Total",{"$f":"SUM(B36:C42)","v":0},null,{"$f":"SUM(D36:E42)","v":0},null,"00"]
["Apprentis ",null,null,null,null,10]
["Autres (agents non classables dans les catégories précédentes)",null,null,null,null,12]
["TOTAL Tous types",{"$f":"B43+B44+B45","v":0},null,{"$f":"D43+D44+D45","v":0},null,99]
[null,1,1,2,2,"sexe"]

{"sheet":"IND 5.1.3","index":78,"n_rows":21,"n_cols":7,"rows_kept":21,"cut":false,"hidden":false,"merged":[[20,0,22,5],[0,1,0,2],[3,0,3,5],[5,0,5,5],[8,1,8,2],[8,3,8,4],[8,5,9,5],[6,0,6,5]]}
[null,"Retour Sommaire"]
[]
[]
["5.1.3 - Validation de l'expérience, bilan de compétence et congé de formation dans l'année 2019"]
[]
["Champ : le tableau qui suit concerne les fonctionnaires et les contractuels (sur un emploi permanent ou non permanent), présents au 31/12/2019."]
["Remarque : Ne pas remplir les cellules grisées (pré remplies par un zéro) qui font l’objet de calculs automatiques. "]
[null,1,1,2,2,0,"statut2/form valid"]
[null,"Titulaires et stagiaires présents au 31/12/2019",null,"Contractuels présents au 31/12/2019",null,"Total"]
[null,"Hommes","Femmes","Hommes","Femmes"]
[null,"5.1.3(1)","5.1.3(2)","5.1.3(3)","5.1.3(4)"]
["Validation des acquis et des expériences"]
["Dossiers déposés durant l'année",null,null,null,null,{"$f":"SUM(B13:E13)","v":0},1]
["Dossiers en cours",null,null,null,null,{"$f":"SUM(B14:E14)","v":0},2]
["Dossiers ayant débouché dans l'année sur une validation",null,null,null,null,{"$f":"SUM(B15:E15)","v":0},3]
["Bilans de compétence"]
["Nombre de bilans de compétences financés par la collectivité territoriale",null,null,null,null,{"$f":"SUM(B17:E17)","v":0},4]
["Congé de formation"]
["Nombre d'agents bénéficiant d'un congé de formation au titre de 2019",null,null,null,null,{"$f":"SUM(B19:E19)","v":0},5]
[null,1,2,1,2,0,"sexe"]
["La validation des acquis et de l’expérience professionnelle (VAE) est un dispositif permettant aux agents pouvant justifier d’une expérience professionnelle de transformer cette expérience en un diplôme. Pour cela, un dossier doit être constitué et présenté à la commission placée auprès de la structure qui a délivré le diplôme sollicité par l'agent (école, université...). Ref. Loi de Modernisation sociale du 17 janvier 2002."]

{"sheet":"IND 5.1.4","index":79,"n_rows":21,"n_cols":4,"rows_kept":21,"cut":false,"hidden":false,"merged":[[4,0,4,2],[20,1,23,2],[17,0,17,2],[7,0,7,2],[6,0,6,2]]}
[null,null,"Retour Sommaire"]
[]
[]
[]
["5.1.4 - Coûts de formation"]
[]
["Champ : le tableau qui suit concerne le coût des formations qui ont eu lieu en 2019."]
["Remarque : ne pas remplir les cellules grisées (pré remplies par un zéro) qui font l’objet de calculs automatiques. "]
[]
[null,null,"Montants\npour l'année 2019\nen euros","cout formation"]
["5.1.4.1","CNFPT au titre de la cotisation obligatoire ",null,1]
["5.1.4.2","CNFPT au-delà de la cotisation obligatoire (formations payantes)",null,2]
["5.1.4.3","Autres organismes ",null,3]
["5.1.4.4","Frais de déplacement à la charge de la collectivité",null,4]
[null,"Coût total des actions de formation",{"$f":"SUM(C11:C14)","v":0},0]
[]
[]
["Comptabiliser les coûts directs de formation d'une part (5.1.4.1, 5.1.4.2 et 5.1.4.3) et les frais de déplacement liés à la formation d'autre part (5.1.4.4)."]
[]
["Précision :"]
["5.1.4.2","Coûts des actions de formation prises en charge par les collectivités territoriales (coûts pédagogiques des actions organisées par les collectivités, frais d'inscription à des stages, colloques...) avec mention des versements au Centre national de la fonction publique territoriale au titre des actions organisées en partenariat."]

{"sheet":"IND 6.1.1-6.1.3","index":80,"n_rows":65,"n_cols":3,"rows_kept":65,"cut":false,"hidden":false,"merged":[[64,0,64,2],[2,0,2,1],[31,0,31,1],[51,0,51,2],[34,0,34,1],[33,0,33,1]]}
[null,"Retour Sommaire"]
[]
["6.1.1 - Réunions statutaires"]
[]
["Pour les collectivités de 50 agents ou plus, et pour les centres de gestion"]
[null,"Nombre de réunions\ndans l'année 2019"]
["              du comité technique *"]
["              des commissions administratives paritaires"]
["              des commissions consultatives paritaires"]
["* pour les collectivités ayant un CT propre"]
[]
[]
["Pour les collectivités de 50 agents ou plus, uniquement :"]
[]
["Disposez-vous d'un comité d'hygiène et de sécurité et condition de travail (CHSCT) au sein de votre collectivité?","(vide)"]
[]
["Si oui :"]
["Nombre de réunions du CHSCT dans l'année 2019"]
["Nombre de jours d'activité des représentants en CHSCT"]
["Nombre de jours d'activité du secrétaire du CHSCT"]
[]
[]
["Pour les centres de gestion, uniquement :"]
[]
["Votre comité technique (CT) a-t-il siégé en 2019 pour exercer les missions dévolues à un comité d'hygiène et de sécurité et condition de travail (CHSCT) ?","(vide)"]
[]
["Si oui :"]
[" Nombre de réunions du CT dans l'année 2019 pour exercer les missions dévolues à un CHSCT"]
[]
[]
[]
["6.1.2 - Droits syndicaux"]
[]
["A renseigner par les CDG et les collectivités non affiliées."]
["Champ : cette rubrique concerne les fonctionnaires et contractuels, présents au cours de l'année 2019."]
[]
[null,"Nombre de jours\ndans l'année 2019","droit syndic"]
["Journées d'autorisations spéciales d'absence accordées en application de l'article 16 du décret du 3 avril 1985",null,1]
["Journées d'absence pour formation syndicale accordées aux fonctionnaires",null,2]
[]
[null,"Nombre d'heures\ndans l'année 2019"]
["Volume du contingent global d'heures d'autorisations d'absence calculé en application de l'article 14 du décret du 3 avril 1985",null,3]
["Heures de décharges d'activité de service : "]
["      - auxquelles ont droit les organisations syndicales",null,4]
["      - effectivement utilisées",null,5]
[]
[null,"Nombre de protocoles\ndans l'année 2019"]
["Nombre de protocoles d'accords (avec seuil complémentaire)",null,6]
[]
[]
[]
["6.1.3 - Conflits du travail : grèves"]
[]
["Votre collectivité est-elle concernée par les grèves en  2019 ?",null,"(vide)"]
[]
["Si OUI, renseigner le tableau suivant :"]
[]
["Cessations collectives et concertées du travail","Nombre de journées de grève en 2019","conflit"]
["Total (y compris les journées sans précision de la nature locale ou nationale du mot d'ordre)",{"$f":"SUM(B60:B62)","v":0},"00"]
["          - sur mot d'ordre national ",null,"01"]
["          - sur mot d'ordre uniquement local ",null,"02"]
["          - non précisé, autres",null,"99"]
[]
["Précision :"]
["Pour les arrêts de travail d'une durée inférieure à la journée, ramener au nombre de journées - agents sur la base de 7h pour une journée : 7 agents faisant grève 1 heure représentent 1 journée."]

{"sheet":"Fiche 6.1.4","index":81,"n_rows":26,"n_cols":2,"rows_kept":26,"cut":false,"hidden":false,"merged":[[12,0,12,3],[14,0,14,3],[0,1,0,2],[3,0,3,3],[5,0,6,3],[7,0,7,3],[24,0,24,3],[25,0,25,3],[15,0,15,3],[16,0,16,3],[19,0,19,3],[21,0,21,3],[23,0,23,3]]}
[null,"Retour Sommaire"]
[]
[]
["6.1.4 - Nombre de sanctions disciplinaires prononcées dans l'année "]
[]
["L'indicateur 6.1.4 recense les sanctions disciplinaires prononcées au cours de l'année 2019. "]
[]
["Cet indicateur vise plus précisément à recenser, d'une part, le nombre de sanctions prononcées et, d'autre part, le motif principal ayant justifié chacune de ces sanctions."]
[]
[]
[" * Quels sont les sanctions à recenser  ?  (un tableau par sanction)"]
[]
["Précision : ne prendre en compte que les sanctions effectivement prononcées courant 2019 (ne pas inclure les procédures disciplinaires en cours)."]
[]
["- les sanctions prononcées à l'encontre des fonctionnaires titulaires en application de l'article 89 de la loi du 26 janvier 1984 (10 sanctions possibles ventilées en 4 groupes)"]
["- les sanctions prononcées  à l'encontre des fonctionnaires stagiaires en application de l'article 6 du décret n° 92-1194 du 4 novembre 1992 (5 sanctions possibles : avertissement, blâme, exclusion temporaire de fonctions pour une durée maximale de 3 jours, exclusion temporaire de fonctions pour une durée de 4 à 15 jours ou licenciement) "]
["- les sanctions prononcées à l'encontre des agents contractuels en application de l'article 36-1 du décret n° 88-145 du 15 février 1988 (4 sanctions possibles : avertissement, blâme, exclusion temporaire de fonctions ou licenciement)"]
[]
[]
["* Comment recenser les motifs de sanctions (dernier tableau)? "]
[]
["Remarque : Le nombre de motifs reportés dans ce tableau doit correspondre au nombre total des sanctions effectivement prononcées au cours de l'année 2019."]
[]
[" - recenser les motifs ayant justifié les sanctions pour l'ensemble des agents (titulaires, stagiaires et contractuels) "]
[" - ne retenir qu'un seul motif par sanction effectivement prononcée"]
[" - en cas de pluralité de motif, retenir le motif principal ayant justifié la sanction disciplinaire "]

{"sheet":"IND 6.1.4","index":82,"n_rows":56,"n_cols":4,"rows_kept":56,"cut":false,"hidden":false,"merged":[[3,0,3,2],[35,1,35,2],[8,1,8,2],[8,0,9,0],[6,0,6,1],[5,0,5,2],[43,0,44,0],[35,0,36,0],[26,0,27,0],[26,1,26,2],[43,1,43,2]]}
[null,"Retour Sommaire"]
[]
[]
["6.1.4 - Nombre de sanctions disciplinaires prononcées dans l'année"]
[]
["Champ : les tableaux qui suivent concerne les fonctionnaires et les contractuels (sur un emploi permanent ou non permanent), présents au cours de l'année 2019."]
["Remarque : Ne pas remplir les cellules grisées (pré remplies par un zéro) qui font l’objet de calculs automatiques. "]
[null,1,2,"sexe"]
["Fonctionnaires titulaires","Nombre de sanctions prononcées concernant les fonctionnaires titulaires (art. 89 de la loi du 26 janvier 1984) en 2019"]
[null,"Hommes","Femmes","sanction"]
["Sanctions du 1er groupe :",{"$f":"SUM(B12:B14)","v":0},{"$f":"SUM(C12:C14)","v":0},"00"]
["Avertissement",null,null,"01"]
["Blâme",null,null,"02"]
["Exclusion temporaire de fonctions pour une durée maximale de 3 jours",null,null,"03"]
["Sanctions du 2ème groupe :",{"$f":"SUM(B16:B18)","v":0},{"$f":"SUM(C16:C18)","v":0},"10"]
["Radiation du tableau d'avancement",null,null,"13"]
["Abaissement d'échelon",null,null,"11"]
["Exclusion temporaire de fonctions pour une durée de 4 à 15 jours",null,null,"12"]
["Sanctions du 3ème groupe :",{"$f":"SUM(B20:B21)","v":0},{"$f":"SUM(C20:C21)","v":0},"20"]
["Rétrogradation",null,null,"21"]
["Exclusion temporaire de fonctions pour une durée de 16 jours à 2 ans",null,null,"22"]
["Sanctions du 4ème groupe :",{"$f":"SUM(B23:B24)","v":0},{"$f":"SUM(C23:C24)","v":0},"30"]
["Mise à la retraite d'office",null,null,"31"]
["Révocation",null,null,"32"]
[]
[]
["Fonctionnaires stagiaires","Nombre de sanctions prononcées concernant les fonctionnaires stagiaires (art. 6 du décret n° 92-1194 du 4 novembre 1992) en 2019"]
[null,"Hommes","Femmes","sanction2"]
["Avertissement",null,null,1]
["Blâme",null,null,2]
["Exclusion temporaire de fonctions pour une durée maximale de 3 jours",null,null,3]
["Exclusion temporaire de fonctions pour une durée de 4 à 15 jours",null,null,4]
["Exclusion définitive du service",null,null,6]
[]
[]
["Contractuels","Nombre de sanctions prononcées concernant les agents contractuels (art. 36-1 du décret n° 88-145 du 15 février 1988) en 2019"]
[null,"Hommes","Femmes","sanction2"]
["Avertissement ",null,null,1]
["Blâme",null,null,2]
["Exclusion temporaire de fonctions",null,null,5]
["Licenciement",null,null,7]
[]
[]
["Précision : compter un motif par sanction","Principal motif des sanctions prononcées concernant les agents fonctionnaires, stagiaires et contractuels en 2019"]
[null,"Hommes","Femmes","motif"]
["Probité, intégrité (détournement, conservation de fonds, malversation, vol, dégradation, dettes, chèque sans provision)",null,null,"01"]
["Qualité de service (manquement aux sujétions du service, négligence, désobéissance hiérarchique, absence irrégulière, abandon de poste)",null,null,"02"]
["Atteinte à la discrétion professionnelle, au secret professionnel, au secret des correspondances, à la vie privée, à la liberté individuelle",null,null,"03"]
["Incorrections, violences, insultes, harcèlement moral",null,null,"04"]
["Ivresse",null,null,"05"]
["Mœurs (dont harcèlement sexuel)",null,null,"06"]
["Manquement à l'obligation de laïcité, atteinte au principe de neutralité, discrimination, manquement à l'obligation de réserve",null,null,"07"]
["Conflit d'intérêt, trafic d'influence, prise illégale d'intérêts",null,null,"08"]
["Exercice d'une activité privée rémunérée sans autorisation",null,null,"09"]
["Comportement privé affectant le renom du service, condamnation pénale (pour manquements non mentionnés dans les colonnes précédentes)",null,null,"10"]
["Autres",null,null,"11"]

{"sheet":"Fiche 7.1.1-7.1.4","index":83,"n_rows":30,"n_cols":5,"rows_kept":30,"cut":false,"hidden":false,"merged":[[0,4,0,5],[6,0,6,9],[17,0,17,9],[18,0,18,9],[29,0,29,9],[2,0,2,9],[14,0,14,9],[20,0,20,9],[22,0,25,9]]}
[null,null,null,null,"Retour Sommaire"]
[]
["7.1.1 - 7.1.4 Action sociale relevant de la collectivité et protection sociale complémentaire"]
[]
["7.1.1 - Œuvres sociales"]
[]
["Il s'agit des cotisations ou subventions versées par la collectivité aux organismes chargés la mise en œuvre de l'action sociale pour le compte de la collectivité, qu'il soit locaux (propre à la collectivité) ou non. "]
[]
[]
["Répondre uniquement par oui (1) si des cotisations/subventions sont versées et par non (0) dans le cas contraire."]
[]
["7.1.2 - Prestations servies par la collectivité aux agents"]
[]
["Il s'agit des prestations servies directement par la collectivités à ses agents."]
["Répondre uniquement par oui (1) si des prestations sont servies directement par la collectivité et par non (0) dans le cas contraire."]
[]
["Rappel de la règlementation sur l'action sociale:"]
["Des prestations d'actions sociales sont attribuées au personnel des collectivités territoriales sur décision de leur assemblée délibérante (art 88-1 de la loi du 26 janvier 1984). Ces prestations sociales sont destinées à améliorer les conditions de vie des agents et de leurs familles (notamment en les aidant à faire face à diverses situations difficiles et en facilitant leur accès à des services collectifs). Elles sont prévues à l'article 9 de la loi du 13 juillet 1983 et sont distinctes de la rémunération des agents."]
["L’assemblée décide des modalités de mise en œuvre de l’action sociale, soit directement, soit par l’intermédiaire d’un ou de plusieurs prestataires de service (centre de gestion au titre de ses missions facultatives, association nationale telle que le comité national d’action sociale – CNAS –, associations locales type COS)."]
[]
["7.1.3 - Aides à la garde d'enfants"]
[]
["Il s'agit d'aides à la garde d'enfants permettant d'apprécier la politique sociale de la collectivité notamment au regard de la conciliation entre la vie privée et la vie professionnelle (cf. socle commun d'indicateurs \"égalité professionnelle\" définis dans le protocole du 8 mars 2013 relatif à l'égalité profesionnelle entre les femmes et les hommes dans la fonction publique).\nRépondre uniquement par oui (1) si le dispositif existe et par non (0) dans le cas contraire."]
[]
[]
[]
[]
["7.1.4 - Protection sociale complémentaire"]
[]
["La collectivité peut apporter une participation à ses agents au titre des contrats et règlements de protection sociale complémentaire que ceux-ci souscrivent (santé, prévoyance). Le plafond est la cotisation payée par l'agent. La participation est versée soit directement à l'agent, soit via un organisme qui doit la répercuter à celui-ci.La participation doit respecter les conditions de solidarité et de procédure prévues à l'article 88-2 de la loi n° 84-53 du 26 janvier 1984 et le décret n° 2011-1474 du 8/11/2011 (circulaire du 25 mai 2012)."]

{"sheet":"IND 7.1.1-7.1.3","index":84,"n_rows":35,"n_cols":2,"rows_kept":35,"cut":false,"hidden":false,"merged":[[34,1,39,1],[6,0,6,2],[28,0,28,2],[15,0,15,2],[22,0,22,2],[26,0,26,2]]}
[null,"Retour Sommaire"]
[]
[null,"7.1 Action sociale relevant de la collectivité dans l'année 2019"]
[]
[]
[]
["7.1.1 - Œuvres sociales à destination du personnel ou de leurs familles"]
[]
[]
[null,"OUI / NON"]
["Subventions versées au comité d'œuvres sociales local ou autres organismes propres à la collectivité","(vide)"]
["Cotisations et subventions à un comité intercollectivités (ou à un autre organisme intercollectivités)","(vide)"]
[]
[]
[]
["7.1.2 - Prestations servies directement ou via un Comité d'Œuvres Sociales par la collectivité territoriale"]
[]
[]
[null,"OUI / NON"]
["Prestations servies directement  par la collectivité territoriale (*)","(vide)"]
["Prestations servies via un Comité d'Œuvres Sociales","(vide)"]
[]
["(*) Chèques vacances, restauration, aide à la famille, subventions pour séjours d'enfants, prestation pour enfant en situation de handicap, autres…"]
[]
[]
[]
["7.1.3 - Aides à la garde d'enfants y compris accordées par un Comité d'Ouvres Sociales"]
[]
["Votre collectivité a-t-elle des dispositifs directs ou via un Comité d'Oeuvres Sociales pour favoriser la garde d'enfants de ses agents ?"]
[]
[null,"OUI / NON"]
["Places réservées en crèche","(vide)"]
["Aides financières pour la garde d'enfants ou les activités péri-scolaires","(vide)"]
["Autres","(vide)"]
["     Si oui, précisez (50 caractères au maximum) : "]

{"sheet":"IND 7.1.4","index":85,"n_rows":28,"n_cols":4,"rows_kept":28,"cut":false,"hidden":false,"merged":[[7,0,7,4],[0,1,0,2],[4,0,4,4],[2,0,2,4],[6,0,6,4]]}
[null,"Retour Sommaire"]
[]
["7.1.4 - Protection sociale complémentaire"]
[]
["Participation financière aux contrats et règlements de protection sociale complémentaire de vos agents   "]
[]
["Champ : les tableaux qui suivent concerne les fonctionnaires et les contractuels (sur un emploi permanent ou non permanent), au 31/12/ 2019."]
["Remarque : ne pas remplir les cellules grisées (pré remplies par un zéro) qui font l’objet de calculs automatiques. "]
[]
["OUI / NON"," Santé       "," Prévoyance "]
[" - via une convention de participation","(vide)","(vide)"]
[" - via un contrat ou un règlement labellisé","(vide)","(vide)"]
[null,1,2,"compl"]
["Si OUI"]
["En nombre de bénéficaires"," Santé       "," Prévoyance ","categ"]
["Catégorie A",null,null,1]
["Catégorie B",null,null,2]
["Catégorie C",null,null,3]
["Agents sur emploi non permanent",null,null,9]
["Nombre total de bénéficiaires",{"$f":"SUM(B16:B19)","v":0},{"$f":"SUM(C16:C19)","v":0},0]
[]
["En montant des participations (en €)"]
["Catégorie A",null,null,1]
["Catégorie B",null,null,2]
["Catégorie C",null,null,3]
["Agents sur emploi non permanent",null,null,9]
["Montant total des participations*  (en €)",{"$f":"SUM(B23:B26)","v":0},{"$f":"SUM(C23:C26)","v":0},0]
["* arrondir à l'euro supérieur."]

{"sheet":"egalitehf","index":86,"n_rows":86,"n_cols":4,"rows_kept":86,"cut":false,"hidden":true,"merged":[]}
["Ecarts de rémunération hommes-femmes"]
[]
[]
["Fonctionnaires","Salaire brut moyen des hommes (en ETPR)","Salaire brut moyen des femmes (en ETPR)","Ecart (en %)"]
["FILIERE ADMINISTRATIVE",{"$f":"'IND 3.1.1-3.4.3'!B19/'IND 1.1.4'!C32","v":{"$error":"#DIV/0!"}},{"$f":"'IND 3.1.1-3.4.3'!C19/'IND 1.1.4'!D32","v":{"$error":"#DIV/0!"}},{"$f":"(B5-C5)/B5*100","v":{"$error":"#DIV/0!"}}]
["Catégorie A",{"$f":"'IND 3.1.1-3.4.3'!B20/'IND 1.1.4'!C33","v":{"$error":"#DIV/0!"}},{"$f":"'IND 3.1.1-3.4.3'!C20/'IND 1.1.4'!D33","v":{"$error":"#DIV/0!"}},{"$f":"(B6-C6)/B6*100","v":{"$error":"#DIV/0!"}}]
["Catégorie B",{"$f":"'IND 3.1.1-3.4.3'!B21/'IND 1.1.4'!C34","v":{"$error":"#DIV/0!"}},{"$f":"'IND 3.1.1-3.4.3'!C21/'IND 1.1.4'!D34","v":{"$error":"#DIV/0!"}},{"$error":"#DIV/0!"}]
["Catégorie C",{"$f":"'IND 3.1.1-3.4.3'!B22/'IND 1.1.4'!C35","v":{"$error":"#DIV/0!"}},{"$f":"'IND 3.1.1-3.4.3'!C22/'IND 1.1.4'!D35","v":{"$error":"#DIV/0!"}},{"$error":"#DIV/0!"}]
["FILIERE TECHNIQUE",{"$f":"'IND 3.1.1-3.4.3'!B23/'IND 1.1.4'!C36","v":{"$error":"#DIV/0!"}},{"$f":"'IND 3.1.1-3.4.3'!C23/'IND 1.1.4'!D36","v":{"$error":"#DIV/0!"}},{"$error":"#DIV/0!"}]
["Catégorie A",{"$f":"'IND 3.1.1-3.4.3'!B24/'IND 1.1.4'!C37","v":{"$error":"#DIV/0!"}},{"$f":"'IND 3.1.1-3.4.3'!C24/'IND 1.1.4'!D37","v":{"$error":"#DIV/0!"}},{"$error":"#DIV/0!"}]
["Catégorie B",{"$f":"'IND 3.1.1-3.4.3'!B25/'IND 1.1.4'!C38","v":{"$error":"#DIV/0!"}},{"$f":"'IND 3.1.1-3.4.3'!C25/'IND 1.1.4'!D38","v":{"$error":"#DIV/0!"}},{"$error":"#DIV/0!"}]
["Catégorie C",{"$f":"'IND 3.1.1-3.4.3'!B26/'IND 1.1.4'!C39","v":{"$error":"#DIV/0!"}},{"$f":"'IND 3.1.1-3.4.3'!C26/'IND 1.1.4'!D39","v":{"$error":"#DIV/0!"}},{"$error":"#DIV/0!"}]
["FILIERE CULTURELLE",{"$f":"'IND 3.1.1-3.4.3'!B27/'IND 1.1.4'!C40","v":{"$error":"#DIV/0!"}},{"$f":"'IND 3.1.1-3.4.3'!C27/'IND 1.1.4'!D40","v":{"$error":"#DIV/0!"}},{"$error":"#DIV/0!"}]
["Catégorie A",{"$f":"'IND 3.1.1-3.4.3'!B28/'IND 1.1.4'!C41","v":{"$error":"#DIV/0!"}},{"$f":"'IND 3.1.1-3.4.3'!C28/'IND 1.1.4'!D41","v":{"$error":"#DIV/0!"}},{"$error":"#DIV/0!"}]
["Catégorie B",{"$f":"'IND 3.1.1-3.4.3'!B29/'IND 1.1.4'!C42","v":{"$error":"#DIV/0!"}},{"$f":"'IND 3.1.1-3.4.3'!C29/'IND 1.1.4'!D42","v":{"$error":"#DIV/0!"}},{"$error":"#DIV/0!"}]
["Catégorie C",{"$f":"'IND 3.1.1-3.4.3'!B30/'IND 1.1.4'!C43","v":{"$error":"#DIV/0!"}},{"$f":"'IND 3.1.1-3.4.3'!C30/'IND 1.1.4'!D43","v":{"$error":"#DIV/0!"}},{"$error":"#DIV/0!"}]
["FILIERE SPORTIVE",{"$f":"'IND 3.1.1-3.4.3'!B31/'IND 1.1.4'!C44","v":{"$error":"#DIV/0!"}},{"$f":"'IND 3.1.1-3.4.3'!C31/'IND 1.1.4'!D44","v":{"$error":"#DIV/0!"}},{"$error":"#DIV/0!"}]
["Catégorie A",{"$f":"'IND 3.1.1-3.4.3'!B32/'IND 1.1.4'!C45","v":{"$error":"#DIV/0!"}},{"$f":"'IND 3.1.1-3.4.3'!C32/'IND 1.1.4'!D45","v":{"$error":"#DIV/0!"}},{"$error":"#DIV/0!"}]
["Catégorie B",{"$f":"'IND 3.1.1-3.4.3'!B33/'IND 1.1.4'!C46","v":{"$error":"#DIV/0!"}},{"$f":"'IND 3.1.1-3.4.3'!C33/'IND 1.1.4'!D46","v":{"$error":"#DIV/0!"}},{"$error":"#DIV/0!"}]
["Catégorie C",{"$f":"'IND 3.1.1-3.4.3'!B34/'IND 1.1.4'!C47","v":{"$error":"#DIV/0!"}},{"$f":"'IND 3.1.1-3.4.3'!C34/'IND 1.1.4'!D47","v":{"$error":"#DIV/0!"}},{"$error":"#DIV/0!"}]
["FILIERE SOCIALE",{"$f":"'IND 3.1.1-3.4.3'!B35/'IND 1.1.4'!C48","v":{"$error":"#DIV/0!"}},{"$f":"'IND 3.1.1-3.4.3'!C35/'IND 1.1.4'!D48","v":{"$error":"#DIV/0!"}},{"$error":"#DIV/0!"}]
["Catégorie A",{"$f":"'IND 3.1.1-3.4.3'!B36/'IND 1.1.4'!C49","v":{"$error":"#DIV/0!"}},{"$f":"'IND 3.1.1-3.4.3'!C36/'IND 1.1.4'!D49","v":{"$error":"#DIV/0!"}},{"$error":"#DIV/0!"}]
["Catégorie B",{"$f":"'IND 3.1.1-3.4.3'!B37/'IND 1.1.4'!C50","v":{"$error":"#DIV/0!"}},{"$f":"'IND 3.1.1-3.4.3'!C37/'IND 1.1.4'!D50","v":{"$error":"#DIV/0!"}},{"$error":"#DIV/0!"}]
["Catégorie C",{"$f":"'IND 3.1.1-3.4.3'!B38/'IND 1.1.4'!C51","v":{"$error":"#DIV/0!"}},{"$f":"'IND 3.1.1-3.4.3'!C38/'IND 1.1.4'!D51","v":{"$error":"#DIV/0!"}},{"$error":"#DIV/0!"}]
["FILIERE MEDICO-SOCIALE",{"$f":"'IND 3.1.1-3.4.3'!B39/'IND 1.1.4'!C52","v":{"$error":"#DIV/0!"}},{"$f":"'IND 3.1.1-3.4.3'!C39/'IND 1.1.4'!D52","v":{"$error":"#DIV/0!"}},{"$error":"#DIV/0!"}]
["Catégorie A",{"$f":"'IND 3.1.1-3.4.3'!B40/'IND 1.1.4'!C53","v":{"$error":"#DIV/0!"}},{"$f":"'IND 3.1.1-3.4.3'!C40/'IND 1.1.4'!D53","v":{"$error":"#DIV/0!"}},{"$error":"#DIV/0!"}]
["Catégorie B",{"$f":"'IND 3.1.1-3.4.3'!B41/'IND 1.1.4'!C54","v":{"$error":"#DIV/0!"}},{"$f":"'IND 3.1.1-3.4.3'!C41/'IND 1.1.4'!D54","v":{"$error":"#DIV/0!"}},{"$error":"#DIV/0!"}]
["Catégorie C",{"$f":"'IND 3.1.1-3.4.3'!B42/'IND 1.1.4'!C55","v":{"$error":"#DIV/0!"}},{"$f":"'IND 3.1.1-3.4.3'!C42/'IND 1.1.4'!D55","v":{"$error":"#DIV/0!"}},{"$error":"#DIV/0!"}]
["FILIERE MEDICO-TECHNIQUE",{"$f":"'IND 3.1.1-3.4.3'!B43/'IND 1.1.4'!C56","v":{"$error":"#DIV/0!"}},{"$f":"'IND 3.1.1-3.4.3'!C43/'IND 1.1.4'!D56","v":{"$error":"#DIV/0!"}},{"$error":"#DIV/0!"}]
["Catégorie A",{"$f":"'IND 3.1.1-3.4.3'!B44/'IND 1.1.4'!C57","v":{"$error":"#DIV/0!"}},{"$f":"'IND 3.1.1-3.4.3'!C44/'IND 1.1.4'!D57","v":{"$error":"#DIV/0!"}},{"$error":"#DIV/0!"}]
["Catégorie B",{"$f":"'IND 3.1.1-3.4.3'!B45/'IND 1.1.4'!C58","v":{"$error":"#DIV/0!"}},{"$f":"'IND 3.1.1-3.4.3'!C45/'IND 1.1.4'!D58","v":{"$error":"#DIV/0!"}},{"$error":"#DIV/0!"}]
["Catégorie C",{"$f":"'IND 3.1.1-3.4.3'!B46/'IND 1.1.4'!C59","v":{"$error":"#DIV/0!"}},{"$f":"'IND 3.1.1-3.4.3'!C46/'IND 1.1.4'!D59","v":{"$error":"#DIV/0!"}},{"$error":"#DIV/0!"}]
["FILIERE POLICE MUNICIPALE",{"$f":"'IND 3.1.1-3.4.3'!B47/'IND 1.1.4'!C60","v":{"$error":"#DIV/0!"}},{"$f":"'IND 3.1.1-3.4.3'!C47/'IND 1.1.4'!D60","v":{"$error":"#DIV/0!"}},{"$error":"#DIV/0!"}]
["Catégorie A",{"$f":"'IND 3.1.1-3.4.3'!B48/'IND 1.1.4'!C61","v":{"$error":"#DIV/0!"}},{"$f":"'IND 3.1.1-3.4.3'!C48/'IND 1.1.4'!D61","v":{"$error":"#DIV/0!"}},{"$error":"#DIV/0!"}]
["Catégorie B",{"$f":"'IND 3.1.1-3.4.3'!B49/'IND 1.1.4'!C62","v":{"$error":"#DIV/0!"}},{"$f":"'IND 3.1.1-3.4.3'!C49/'IND 1.1.4'!D62","v":{"$error":"#DIV/0!"}},{"$error":"#DIV/0!"}]
["Catégorie C",{"$f":"'IND 3.1.1-3.4.3'!B50/'IND 1.1.4'!C63","v":{"$error":"#DIV/0!"}},{"$f":"'IND 3.1.1-3.4.3'!C50/'IND 1.1.4'!D63","v":{"$error":"#DIV/0!"}},{"$error":"#DIV/0!"}]
["FILIERE INCENDIE ET SECOURS",{"$f":"'IND 3.1.1-3.4.3'!B51/'IND 1.1.4'!C64","v":{"$error":"#DIV/0!"}},{"$f":"'IND 3.1.1-3.4.3'!C51/'IND 1.1.4'!D64","v":{"$error":"#DIV/0!"}},{"$error":"#DIV/0!"}]
["Catégorie A",{"$f":"'IND 3.1.1-3.4.3'!B52/'IND 1.1.4'!C65","v":{"$error":"#DIV/0!"}},{"$f":"'IND 3.1.1-3.4.3'!C52/'IND 1.1.4'!D65","v":{"$error":"#DIV/0!"}},{"$error":"#DIV/0!"}]
["Catégorie B",{"$f":"'IND 3.1.1-3.4.3'!B53/'IND 1.1.4'!C66","v":{"$error":"#DIV/0!"}},{"$f":"'IND 3.1.1-3.4.3'!C53/'IND 1.1.4'!D66","v":{"$error":"#DIV/0!"}},{"$error":"#DIV/0!"}]
["Catégorie C",{"$f":"'IND 3.1.1-3.4.3'!B54/'IND 1.1.4'!C67","v":{"$error":"#DIV/0!"}},{"$f":"'IND 3.1.1-3.4.3'!C54/'IND 1.1.4'!D67","v":{"$error":"#DIV/0!"}},{"$error":"#DIV/0!"}]
["FILIERE ANIMATION",{"$f":"'IND 3.1.1-3.4.3'!B55/'IND 1.1.4'!C68","v":{"$error":"#DIV/0!"}},{"$f":"'IND 3.1.1-3.4.3'!C55/'IND 1.1.4'!D68","v":{"$error":"#DIV/0!"}},{"$error":"#DIV/0!"}]
["Catégorie B",{"$f":"'IND 3.1.1-3.4.3'!B56/'IND 1.1.4'!C69","v":{"$error":"#DIV/0!"}},{"$f":"'IND 3.1.1-3.4.3'!C56/'IND 1.1.4'!D69","v":{"$error":"#DIV/0!"}},{"$error":"#DIV/0!"}]
["Catégorie C",{"$f":"'IND 3.1.1-3.4.3'!B57/'IND 1.1.4'!C70","v":{"$error":"#DIV/0!"}},{"$f":"'IND 3.1.1-3.4.3'!C57/'IND 1.1.4'!D70","v":{"$error":"#DIV/0!"}},{"$error":"#DIV/0!"}]
["Total",{"$f":"'IND 3.1.1-3.4.3'!B58/'IND 1.1.4'!C72","v":{"$error":"#DIV/0!"}},{"$f":"'IND 3.1.1-3.4.3'!C58/'IND 1.1.4'!D72","v":{"$error":"#DIV/0!"}},{"$error":"#DIV/0!"}]
[]
["Contractuels sur emploi permanent","Salaire brut moyen des hommes (en ETPR)","Salaire brut moyen des femmes (en ETPR)","Ecart (en %)"]
["FILIERE ADMINISTRATIVE",{"$f":"'IND 3.1.1-3.4.3'!B67/'IND 1.2.4'!C31","v":{"$error":"#DIV/0!"}},{"$f":"'IND 3.1.1-3.4.3'!C67/'IND 1.2.4'!D31","v":{"$error":"#DIV/0!"}},{"$f":"(B47-C47)/B47*100","v":{"$error":"#DIV/0!"}}]
["Catégorie A",{"$f":"'IND 3.1.1-3.4.3'!B68/'IND 1.2.4'!C32","v":{"$error":"#DIV/0!"}},{"$f":"'IND 3.1.1-3.4.3'!C68/'IND 1.2.4'!D32","v":{"$error":"#DIV/0!"}},{"$f":"(B48-C48)/B48*100","v":{"$error":"#DIV/0!"}}]
["Catégorie B",{"$f":"'IND 3.1.1-3.4.3'!B69/'IND 1.2.4'!C33","v":{"$error":"#DIV/0!"}},{"$f":"'IND 3.1.1-3.4.3'!C69/'IND 1.2.4'!D33","v":{"$error":"#DIV/0!"}},{"$f":"(B49-C49)/B49*100","v":{"$error":"#DIV/0!"}}]
["Catégorie C",{"$f":"'IND 3.1.1-3.4.3'!B70/'IND 1.2.4'!C34","v":{"$error":"#DIV/0!"}},{"$f":"'IND 3.1.1-3.4.3'!C70/'IND 1.2.4'!D34","v":{"$error":"#DIV/0!"}},{"$error":"#DIV/0!"}]
["FILIERE TECHNIQUE",{"$f":"'IND 3.1.1-3.4.3'!B71/'IND 1.2.4'!C35","v":{"$error":"#DIV/0!"}},{"$f":"'IND 3.1.1-3.4.3'!C71/'IND 1.2.4'!D35","v":{"$error":"#DIV/0!"}},{"$error":"#DIV/0!"}]
["Catégorie A",{"$f":"'IND 3.1.1-3.4.3'!B72/'IND 1.2.4'!C36","v":{"$error":"#DIV/0!"}},{"$f":"'IND 3.1.1-3.4.3'!C72/'IND 1.2.4'!D36","v":{"$error":"#DIV/0!"}},{"$error":"#DIV/0!"}]
["Catégorie B",{"$f":"'IND 3.1.1-3.4.3'!B73/'IND 1.2.4'!C37","v":{"$error":"#DIV/0!"}},{"$f":"'IND 3.1.1-3.4.3'!C73/'IND 1.2.4'!D37","v":{"$error":"#DIV/0!"}},{"$error":"#DIV/0!"}]
["Catégorie C",{"$f":"'IND 3.1.1-3.4.3'!B74/'IND 1.2.4'!C38","v":{"$error":"#DIV/0!"}},{"$f":"'IND 3.1.1-3.4.3'!C74/'IND 1.2.4'!D38","v":{"$error":"#DIV/0!"}},{"$error":"#DIV/0!"}]
["FILIERE CULTURELLE",{"$f":"'IND 3.1.1-3.4.3'!B75/'IND 1.2.4'!C39","v":{"$error":"#DIV/0!"}},{"$f":"'IND 3.1.1-3.4.3'!C75/'IND 1.2.4'!D39","v":{"$error":"#DIV/0!"}},{"$error":"#DIV/0!"}]
["Catégorie A",{"$f":"'IND 3.1.1-3.4.3'!B76/'IND 1.2.4'!C40","v":{"$error":"#DIV/0!"}},{"$f":"'IND 3.1.1-3.4.3'!C76/'IND 1.2.4'!D40","v":{"$error":"#DIV/0!"}},{"$error":"#DIV/0!"}]
["Catégorie B",{"$f":"'IND 3.1.1-3.4.3'!B77/'IND 1.2.4'!C41","v":{"$error":"#DIV/0!"}},{"$f":"'IND 3.1.1-3.4.3'!C77/'IND 1.2.4'!D41","v":{"$error":"#DIV/0!"}},{"$error":"#DIV/0!"}]
["Catégorie C",{"$f":"'IND 3.1.1-3.4.3'!B78/'IND 1.2.4'!C42","v":{"$error":"#DIV/0!"}},{"$f":"'IND 3.1.1-3.4.3'!C78/'IND 1.2.4'!D42","v":{"$error":"#DIV/0!"}},{"$error":"#DIV/0!"}]
["FILIERE SPORTIVE",{"$f":"'IND 3.1.1-3.4.3'!B79/'IND 1.2.4'!C43","v":{"$error":"#DIV/0!"}},{"$f":"'IND 3.1.1-3.4.3'!C79/'IND 1.2.4'!D43","v":{"$error":"#DIV/0!"}},{"$error":"#DIV/0!"}]
["Catégorie A",{"$f":"'IND 3.1.1-3.4.3'!B80/'IND 1.2.4'!C44","v":{"$error":"#DIV/0!"}},{"$f":"'IND 3.1.1-3.4.3'!C80/'IND 1.2.4'!D44","v":{"$error":"#DIV/0!"}},{"$error":"#DIV/0!"}]
["Catégorie B",{"$f":"'IND 3.1.1-3.4.3'!B81/'IND 1.2.4'!C45","v":{"$error":"#DIV/0!"}},{"$f":"'IND 3.1.1-3.4.3'!C81/'IND 1.2.4'!D45","v":{"$error":"#DIV/0!"}},{"$error":"#DIV/0!"}]
["Catégorie C",{"$f":"'IND 3.1.1-3.4.3'!B82/'IND 1.2.4'!C46","v":{"$error":"#DIV/0!"}},{"$f":"'IND 3.1.1-3.4.3'!C82/'IND 1.2.4'!D46","v":{"$error":"#DIV/0!"}},{"$error":"#DIV/0!"}]
["FILIERE SOCIALE",{"$f":"'IND 3.1.1-3.4.3'!B83/'IND 1.2.4'!C47","v":{"$error":"#DIV/0!"}},{"$f":"'IND 3.1.1-3.4.3'!C83/'IND 1.2.4'!D47","v":{"$error":"#DIV/0!"}},{"$error":"#DIV/0!"}]
["Catégorie A",{"$f":"'IND 3.1.1-3.4.3'!B84/'IND 1.2.4'!C48","v":{"$error":"#DIV/0!"}},{"$f":"'IND 3.1.1-3.4.3'!C84/'IND 1.2.4'!D48","v":{"$error":"#DIV/0!"}},{"$error":"#DIV/0!"}]
["Catégorie B",{"$f":"'IND 3.1.1-3.4.3'!B85/'IND 1.2.4'!C49","v":{"$error":"#DIV/0!"}},{"$f":"'IND 3.1.1-3.4.3'!C85/'IND 1.2.4'!D49","v":{"$error":"#DIV/0!"}},{"$error":"#DIV/0!"}]
["Catégorie C",{"$f":"'IND 3.1.1-3.4.3'!B86/'IND 1.2.4'!C50","v":{"$error":"#DIV/0!"}},{"$f":"'IND 3.1.1-3.4.3'!C86/'IND 1.2.4'!D50","v":{"$error":"#DIV/0!"}},{"$error":"#DIV/0!"}]
["FILIERE MEDICO-SOCIALE",{"$f":"'IND 3.1.1-3.4.3'!B87/'IND 1.2.4'!C51","v":{"$error":"#DIV/0!"}},{"$f":"'IND 3.1.1-3.4.3'!C87/'IND 1.2.4'!D51","v":{"$error":"#DIV/0!"}},{"$error":"#DIV/0!"}]
["Catégorie A",{"$f":"'IND 3.1.1-3.4.3'!B88/'IND 1.2.4'!C52","v":{"$error":"#DIV/0!"}},{"$f":"'IND 3.1.1-3.4.3'!C88/'IND 1.2.4'!D52","v":{"$error":"#DIV/0!"}},{"$error":"#DIV/0!"}]
["Catégorie B",{"$f":"'IND 3.1.1-3.4.3'!B89/'IND 1.2.4'!C53","v":{"$error":"#DIV/0!"}},{"$f":"'IND 3.1.1-3.4.3'!C89/'IND 1.2.4'!D53","v":{"$error":"#DIV/0!"}},{"$error":"#DIV/0!"}]
["Catégorie C",{"$f":"'IND 3.1.1-3.4.3'!B90/'IND 1.2.4'!C54","v":{"$error":"#DIV/0!"}},{"$f":"'IND 3.1.1-3.4.3'!C90/'IND 1.2.4'!D54","v":{"$error":"#DIV/0!"}},{"$error":"#DIV/0!"}]
["FILIERE MEDICO-TECHNIQUE",{"$f":"'IND 3.1.1-3.4.3'!B91/'IND 1.2.4'!C55","v":{"$error":"#DIV/0!"}},{"$f":"'IND 3.1.1-3.4.3'!C91/'IND 1.2.4'!D55","v":{"$error":"#DIV/0!"}},{"$error":"#DIV/0!"}]
["Catégorie A",{"$f":"'IND 3.1.1-3.4.3'!B92/'IND 1.2.4'!C56","v":{"$error":"#DIV/0!"}},{"$f":"'IND 3.1.1-3.4.3'!C92/'IND 1.2.4'!D56","v":{"$error":"#DIV/0!"}},{"$error":"#DIV/0!"}]
["Catégorie B",{"$f":"'IND 3.1.1-3.4.3'!B93/'IND 1.2.4'!C57","v":{"$error":"#DIV/0!"}},{"$f":"'IND 3.1.1-3.4.3'!C93/'IND 1.2.4'!D57","v":{"$error":"#DIV/0!"}},{"$error":"#DIV/0!"}]
["Catégorie C",{"$f":"'IND 3.1.1-3.4.3'!B94/'IND 1.2.4'!C58","v":{"$error":"#DIV/0!"}},{"$f":"'IND 3.1.1-3.4.3'!C94/'IND 1.2.4'!D58","v":{"$error":"#DIV/0!"}},{"$error":"#DIV/0!"}]
["FILIERE POLICE MUNICIPALE",{"$f":"'IND 3.1.1-3.4.3'!B95/'IND 1.2.4'!C59","v":{"$error":"#DIV/0!"}},{"$f":"'IND 3.1.1-3.4.3'!C95/'IND 1.2.4'!D59","v":{"$error":"#DIV/0!"}},{"$error":"#DIV/0!"}]
["Catégorie A",{"$f":"'IND 3.1.1-3.4.3'!B96/'IND 1.2.4'!C60","v":{"$error":"#DIV/0!"}},{"$f":"'IND 3.1.1-3.4.3'!C96/'IND 1.2.4'!D60","v":{"$error":"#DIV/0!"}},{"$error":"#DIV/0!"}]
["Catégorie B",{"$f":"'IND 3.1.1-3.4.3'!B97/'IND 1.2.4'!C61","v":{"$error":"#DIV/0!"}},{"$f":"'IND 3.1.1-3.4.3'!C97/'IND 1.2.4'!D61","v":{"$error":"#DIV/0!"}},{"$error":"#DIV/0!"}]
["Catégorie C",{"$f":"'IND 3.1.1-3.4.3'!B98/'IND 1.2.4'!C62","v":{"$error":"#DIV/0!"}},{"$f":"'IND 3.1.1-3.4.3'!C98/'IND 1.2.4'!D62","v":{"$error":"#DIV/0!"}},{"$error":"#DIV/0!"}]
["FILIERE INCENDIE ET SECOURS",{"$f":"'IND 3.1.1-3.4.3'!B99/'IND 1.2.4'!C63","v":{"$error":"#DIV/0!"}},{"$f":"'IND 3.1.1-3.4.3'!C99/'IND 1.2.4'!D63","v":{"$error":"#DIV/0!"}},{"$error":"#DIV/0!"}]
["Catégorie A",{"$f":"'IND 3.1.1-3.4.3'!B100/'IND 1.2.4'!C64","v":{"$error":"#DIV/0!"}},{"$f":"'IND 3.1.1-3.4.3'!C100/'IND 1.2.4'!D64","v":{"$error":"#DIV/0!"}},{"$error":"#DIV/0!"}]
["Catégorie B",{"$f":"'IND 3.1.1-3.4.3'!B101/'IND 1.2.4'!C65","v":{"$error":"#DIV/0!"}},{"$f":"'IND 3.1.1-3.4.3'!C101/'IND 1.2.4'!D65","v":{"$error":"#DIV/0!"}},{"$error":"#DIV/0!"}]
["Catégorie C",{"$f":"'IND 3.1.1-3.4.3'!B102/'IND 1.2.4'!C66","v":{"$error":"#DIV/0!"}},{"$f":"'IND 3.1.1-3.4.3'!C102/'IND 1.2.4'!D66","v":{"$error":"#DIV/0!"}},{"$error":"#DIV/0!"}]
["FILIERE ANIMATION",{"$f":"'IND 3.1.1-3.4.3'!B103/'IND 1.2.4'!C67","v":{"$error":"#DIV/0!"}},{"$f":"'IND 3.1.1-3.4.3'!C103/'IND 1.2.4'!D67","v":{"$error":"#DIV/0!"}},{"$error":"#DIV/0!"}]
["Catégorie B",{"$f":"'IND 3.1.1-3.4.3'!B104/'IND 1.2.4'!C69","v":{"$error":"#DIV/0!"}}]
["Catégorie C",{"$f":"'IND 3.1.1-3.4.3'!B105/'IND 1.2.4'!C70","v":{"$error":"#DIV/0!"}},{"$f":"'IND 3.1.1-3.4.3'!C104/'IND 1.2.4'!D69","v":{"$error":"#DIV/0!"}},{"$error":"#DIV/0!"}]
["Total",{"$f":"'IND 3.1.1-3.4.3'!B106/'IND 1.2.4'!C71","v":{"$error":"#DIV/0!"}},{"$f":"'IND 3.1.1-3.4.3'!C106/'IND 1.2.4'!D70","v":{"$error":"#DIV/0!"}},{"$error":"#DIV/0!"}]

{"sheet":"IND 8.1.0","index":87,"n_rows":89,"n_cols":6,"rows_kept":89,"cut":false,"hidden":false,"merged":[[0,1,0,2],[4,0,4,3]]}
[null,"Retour Sommaire"]
[]
[null,"8.1 - Ecarts de rémunération hommes-femmes"]
[]
["Cet indicateur reprend les informations par ailleurs disponibles dans différents indicateurs du bilan social. Il a pour but de calculer automatiquement les écarts de salaire entre hommes et femmes et n’est pas exporté dans le fichier transmis à la DGCL."]
[]
["Fonctionnaires","Salaire brut moyen des hommes\n(en ETPR)","Salaire brut moyen des femmes\n(en ETPR)","Ecart (en %)","cadre","categ_hier"]
["FILIERE ADMINISTRATIVE",{"$f":"IF(ISERROR('IND 3.1.1-3.4.3'!B19/'IND 1.1.4'!C32),\"\",ROUND('IND 3.1.1-3.4.3'!B19/'IND 1.1.4'!C32,0))","v":""},{"$f":"IF(ISERROR('IND 3.1.1-3.4.3'!C19/'IND 1.1.4'!D32), \"\", ROUND('IND 3.1.1-3.4.3'!C19/'IND 1.1.4'!D32,0))","v":""},{"$f":"IF(ISERROR((B8-C8)/B8*100),\"\",ROUND((B8-C8)/B8*100,2))","v":""},"A",0]
["Catégorie A",{"$f":"IF(ISERROR('IND 3.1.1-3.4.3'!B20/'IND 1.1.4'!C33),\"\",ROUND('IND 3.1.1-3.4.3'!B20/'IND 1.1.4'!C33,0))","v":""},{"$f":"IF(ISERROR('IND 3.1.1-3.4.3'!C20/'IND 1.1.4'!D33), \"\", ROUND('IND 3.1.1-3.4.3'!C20/'IND 1.1.4'!D33,0))","v":""},{"$f":"IF(ISERROR((B9-C9)/B9*100),\"\",ROUND((B9-C9)/B9*100,2))","v":""},"A",1]
["Catégorie B",{"$f":"IF(ISERROR('IND 3.1.1-3.4.3'!B21/'IND 1.1.4'!C34),\"\",ROUND('IND 3.1.1-3.4.3'!B21/'IND 1.1.4'!C34,0))","v":""},{"$f":"IF(ISERROR('IND 3.1.1-3.4.3'!C21/'IND 1.1.4'!D34), \"\", ROUND('IND 3.1.1-3.4.3'!C21/'IND 1.1.4'!D34,0))","v":""},"","A",2]
["Catégorie C",{"$f":"IF(ISERROR('IND 3.1.1-3.4.3'!B22/'IND 1.1.4'!C35),\"\",ROUND('IND 3.1.1-3.4.3'!B22/'IND 1.1.4'!C35,0))","v":""},{"$f":"IF(ISERROR('IND 3.1.1-3.4.3'!C22/'IND 1.1.4'!D35), \"\", ROUND('IND 3.1.1-3.4.3'!C22/'IND 1.1.4'!D35,0))","v":""},"","A",3]
["FILIERE TECHNIQUE",{"$f":"IF(ISERROR('IND 3.1.1-3.4.3'!B23/'IND 1.1.4'!C36),\"\",ROUND('IND 3.1.1-3.4.3'!B23/'IND 1.1.4'!C36,0))","v":""},{"$f":"IF(ISERROR('IND 3.1.1-3.4.3'!C23/'IND 1.1.4'!D36), \"\", ROUND('IND 3.1.1-3.4.3'!C23/'IND 1.1.4'!D36,0))","v":""},"","T",0]
["Catégorie A",{"$f":"IF(ISERROR('IND 3.1.1-3.4.3'!B24/'IND 1.1.4'!C37),\"\",ROUND('IND 3.1.1-3.4.3'!B24/'IND 1.1.4'!C37,0))","v":""},{"$f":"IF(ISERROR('IND 3.1.1-3.4.3'!C24/'IND 1.1.4'!D37), \"\", ROUND('IND 3.1.1-3.4.3'!C24/'IND 1.1.4'!D37,0))","v":""},"","T",1]
["Catégorie B",{"$f":"IF(ISERROR('IND 3.1.1-3.4.3'!B25/'IND 1.1.4'!C38),\"\",ROUND('IND 3.1.1-3.4.3'!B25/'IND 1.1.4'!C38,0))","v":""},{"$f":"IF(ISERROR('IND 3.1.1-3.4.3'!C25/'IND 1.1.4'!D38), \"\", ROUND('IND 3.1.1-3.4.3'!C25/'IND 1.1.4'!D38,0))","v":""},"","T",2]
["Catégorie C",{"$f":"IF(ISERROR('IND 3.1.1-3.4.3'!B26/'IND 1.1.4'!C39),\"\",ROUND('IND 3.1.1-3.4.3'!B26/'IND 1.1.4'!C39,0))","v":""},{"$f":"IF(ISERROR('IND 3.1.1-3.4.3'!C26/'IND 1.1.4'!D39), \"\", ROUND('IND 3.1.1-3.4.3'!C26/'IND 1.1.4'!D39,0))","v":""},"","T",3]
["FILIERE CULTURELLE",{"$f":"IF(ISERROR('IND 3.1.1-3.4.3'!B27/'IND 1.1.4'!C40),\"\",ROUND('IND 3.1.1-3.4.3'!B27/'IND 1.1.4'!C40,0))","v":""},{"$f":"IF(ISERROR('IND 3.1.1-3.4.3'!C27/'IND 1.1.4'!D40), \"\", ROUND('IND 3.1.1-3.4.3'!C27/'IND 1.1.4'!D40,0))","v":""},"","C",0]
["Catégorie A",{"$f":"IF(ISERROR('IND 3.1.1-3.4.3'!B28/'IND 1.1.4'!C41),\"\",ROUND('IND 3.1.1-3.4.3'!B28/'IND 1.1.4'!C41,0))","v":""},{"$f":"IF(ISERROR('IND 3.1.1-3.4.3'!C28/'IND 1.1.4'!D41), \"\", ROUND('IND 3.1.1-3.4.3'!C28/'IND 1.1.4'!D41,0))","v":""},"","C",1]
["Catégorie B",{"$f":"IF(ISERROR('IND 3.1.1-3.4.3'!B29/'IND 1.1.4'!C42),\"\",ROUND('IND 3.1.1-3.4.3'!B29/'IND 1.1.4'!C42,0))","v":""},{"$f":"IF(ISERROR('IND 3.1.1-3.4.3'!C29/'IND 1.1.4'!D42), \"\", ROUND('IND 3.1.1-3.4.3'!C29/'IND 1.1.4'!D42,0))","v":""},"","C",2]
["Catégorie C",{"$f":"IF(ISERROR('IND 3.1.1-3.4.3'!B30/'IND 1.1.4'!C43),\"\",ROUND('IND 3.1.1-3.4.3'!B30/'IND 1.1.4'!C43,0))","v":""},{"$f":"IF(ISERROR('IND 3.1.1-3.4.3'!C30/'IND 1.1.4'!D43), \"\", ROUND('IND 3.1.1-3.4.3'!C30/'IND 1.1.4'!D43,0))","v":""},"","C",3]
["FILIERE SPORTIVE",{"$f":"IF(ISERROR('IND 3.1.1-3.4.3'!B31/'IND 1.1.4'!C44),\"\",ROUND('IND 3.1.1-3.4.3'!B31/'IND 1.1.4'!C44,0))","v":""},{"$f":"IF(ISERROR('IND 3.1.1-3.4.3'!C31/'IND 1.1.4'!D44), \"\", ROUND('IND 3.1.1-3.4.3'!C31/'IND 1.1.4'!D44,0))","v":""},"","S",0]
["Catégorie A",{"$f":"IF(ISERROR('IND 3.1.1-3.4.3'!B32/'IND 1.1.4'!C45),\"\",ROUND('IND 3.1.1-3.4.3'!B32/'IND 1.1.4'!C45,0))","v":""},{"$f":"IF(ISERROR('IND 3.1.1-3.4.3'!C32/'IND 1.1.4'!D45), \"\", ROUND('IND 3.1.1-3.4.3'!C32/'IND 1.1.4'!D45,0))","v":""},"","S",1]
["Catégorie B",{"$f":"IF(ISERROR('IND 3.1.1-3.4.3'!B33/'IND 1.1.4'!C46),\"\",ROUND('IND 3.1.1-3.4.3'!B33/'IND 1.1.4'!C46,0))","v":""},{"$f":"IF(ISERROR('IND 3.1.1-3.4.3'!C33/'IND 1.1.4'!D46), \"\", ROUND('IND 3.1.1-3.4.3'!C33/'IND 1.1.4'!D46,0))","v":""},"","S",2]
["Catégorie C",{"$f":"IF(ISERROR('IND 3.1.1-3.4.3'!B34/'IND 1.1.4'!C47),\"\",ROUND('IND 3.1.1-3.4.3'!B34/'IND 1.1.4'!C47,0))","v":""},{"$f":"IF(ISERROR('IND 3.1.1-3.4.3'!C34/'IND 1.1.4'!D47), \"\", ROUND('IND 3.1.1-3.4.3'!C34/'IND 1.1.4'!D47,0))","v":""},"","S",3]
["FILIERE SOCIALE",{"$f":"IF(ISERROR('IND 3.1.1-3.4.3'!B35/'IND 1.1.4'!C48),\"\",ROUND('IND 3.1.1-3.4.3'!B35/'IND 1.1.4'!C48,0))","v":""},{"$f":"IF(ISERROR('IND 3.1.1-3.4.3'!C35/'IND 1.1.4'!D48), \"\", ROUND('IND 3.1.1-3.4.3'!C35/'IND 1.1.4'!D48,0))","v":""},"","M",0]
["Catégorie A",{"$f":"IF(ISERROR('IND 3.1.1-3.4.3'!B36/'IND 1.1.4'!C49),\"\",ROUND('IND 3.1.1-3.4.3'!B36/'IND 1.1.4'!C49,0))","v":""},{"$f":"IF(ISERROR('IND 3.1.1-3.4.3'!C36/'IND 1.1.4'!D49), \"\", ROUND('IND 3.1.1-3.4.3'!C36/'IND 1.1.4'!D49,0))","v":""},"","M",1]
["Catégorie B",{"$f":"IF(ISERROR('IND 3.1.1-3.4.3'!B37/'IND 1.1.4'!C50),\"\",ROUND('IND 3.1.1-3.4.3'!B37/'IND 1.1.4'!C50,0))","v":""},{"$f":"IF(ISERROR('IND 3.1.1-3.4.3'!C37/'IND 1.1.4'!D50), \"\", ROUND('IND 3.1.1-3.4.3'!C37/'IND 1.1.4'!D50,0))","v":""},"","M",2]
["Catégorie C",{"$f":"IF(ISERROR('IND 3.1.1-3.4.3'!B38/'IND 1.1.4'!C51),\"\",ROUND('IND 3.1.1-3.4.3'!B38/'IND 1.1.4'!C51,0))","v":""},{"$f":"IF(ISERROR('IND 3.1.1-3.4.3'!C38/'IND 1.1.4'!D51), \"\", ROUND('IND 3.1.1-3.4.3'!C38/'IND 1.1.4'!D51,0))","v":""},"","M",3]
["FILIERE MEDICO-SOCIALE",{"$f":"IF(ISERROR('IND 3.1.1-3.4.3'!B39/'IND 1.1.4'!C52),\"\",ROUND('IND 3.1.1-3.4.3'!B39/'IND 1.1.4'!C52,0))","v":""},{"$f":"IF(ISERROR('IND 3.1.1-3.4.3'!C39/'IND 1.1.4'!D52), \"\", ROUND('IND 3.1.1-3.4.3'!C39/'IND 1.1.4'!D52,0))","v":""},"","O",0]
["Catégorie A",{"$f":"IF(ISERROR('IND 3.1.1-3.4.3'!B40/'IND 1.1.4'!C53),\"\",ROUND('IND 3.1.1-3.4.3'!B40/'IND 1.1.4'!C53,0))","v":""},{"$f":"IF(ISERROR('IND 3.1.1-3.4.3'!C40/'IND 1.1.4'!D53), \"\", ROUND('IND 3.1.1-3.4.3'!C40/'IND 1.1.4'!D53,0))","v":""},"","O",1]
["Catégorie B",{"$f":"IF(ISERROR('IND 3.1.1-3.4.3'!B41/'IND 1.1.4'!C54),\"\",ROUND('IND 3.1.1-3.4.3'!B41/'IND 1.1.4'!C54,0))","v":""},{"$f":"IF(ISERROR('IND 3.1.1-3.4.3'!C41/'IND 1.1.4'!D54), \"\", ROUND('IND 3.1.1-3.4.3'!C41/'IND 1.1.4'!D54,0))","v":""},"","O",2]
["Catégorie C",{"$f":"IF(ISERROR('IND 3.1.1-3.4.3'!B42/'IND 1.1.4'!C55),\"\",ROUND('IND 3.1.1-3.4.3'!B42/'IND 1.1.4'!C55,0))","v":""},{"$f":"IF(ISERROR('IND 3.1.1-3.4.3'!C42/'IND 1.1.4'!D55), \"\", ROUND('IND 3.1.1-3.4.3'!C42/'IND 1.1.4'!D55,0))","v":""},"","O",3]
["FILIERE MEDICO-TECHNIQUE",{"$f":"IF(ISERROR('IND 3.1.1-3.4.3'!B43/'IND 1.1.4'!C56),\"\",ROUND('IND 3.1.1-3.4.3'!B43/'IND 1.1.4'!C56,0))","v":""},{"$f":"IF(ISERROR('IND 3.1.1-3.4.3'!C43/'IND 1.1.4'!D56), \"\", ROUND('IND 3.1.1-3.4.3'!C43/'IND 1.1.4'!D56,0))","v":""},"","E",0]
["Catégorie A",{"$f":"IF(ISERROR('IND 3.1.1-3.4.3'!B44/'IND 1.1.4'!C57),\"\",ROUND('IND 3.1.1-3.4.3'!B44/'IND 1.1.4'!C57,0))","v":""},{"$f":"IF(ISERROR('IND 3.1.1-3.4.3'!C44/'IND 1.1.4'!D57), \"\", ROUND('IND 3.1.1-3.4.3'!C44/'IND 1.1.4'!D57,0))","v":""},"","E",1]
["Catégorie B",{"$f":"IF(ISERROR('IND 3.1.1-3.4.3'!B45/'IND 1.1.4'!C58),\"\",ROUND('IND 3.1.1-3.4.3'!B45/'IND 1.1.4'!C58,0))","v":""},{"$f":"IF(ISERROR('IND 3.1.1-3.4.3'!C45/'IND 1.1.4'!D58), \"\", ROUND('IND 3.1.1-3.4.3'!C45/'IND 1.1.4'!D58,0))","v":""},"","E",2]
["Catégorie C",{"$f":"IF(ISERROR('IND 3.1.1-3.4.3'!B46/'IND 1.1.4'!C59),\"\",ROUND('IND 3.1.1-3.4.3'!B46/'IND 1.1.4'!C59,0))","v":""},{"$f":"IF(ISERROR('IND 3.1.1-3.4.3'!C46/'IND 1.1.4'!D59), \"\", ROUND('IND 3.1.1-3.4.3'!C46/'IND 1.1.4'!D59,0))","v":""},"","E",3]
["FILIERE POLICE MUNICIPALE",{"$f":"IF(ISERROR('IND 3.1.1-3.4.3'!B47/'IND 1.1.4'!C60),\"\",ROUND('IND 3.1.1-3.4.3'!B47/'IND 1.1.4'!C60,0))","v":""},{"$f":"IF(ISERROR('IND 3.1.1-3.4.3'!C47/'IND 1.1.4'!D60), \"\", ROUND('IND 3.1.1-3.4.3'!C47/'IND 1.1.4'!D60,0))","v":""},"","P",0]
["Catégorie A",{"$f":"IF(ISERROR('IND 3.1.1-3.4.3'!B48/'IND 1.1.4'!C61),\"\",ROUND('IND 3.1.1-3.4.3'!B48/'IND 1.1.4'!C61,0))","v":""},{"$f":"IF(ISERROR('IND 3.1.1-3.4.3'!C48/'IND 1.1.4'!D61), \"\", ROUND('IND 3.1.1-3.4.3'!C48/'IND 1.1.4'!D61,0))","v":""},"","P",1]
["Catégorie B",{"$f":"IF(ISERROR('IND 3.1.1-3.4.3'!B49/'IND 1.1.4'!C62),\"\",ROUND('IND 3.1.1-3.4.3'!B49/'IND 1.1.4'!C62,0))","v":""},{"$f":"IF(ISERROR('IND 3.1.1-3.4.3'!C49/'IND 1.1.4'!D62), \"\", ROUND('IND 3.1.1-3.4.3'!C49/'IND 1.1.4'!D62,0))","v":""},"","P",2]
["Catégorie C",{"$f":"IF(ISERROR('IND 3.1.1-3.4.3'!B50/'IND 1.1.4'!C63),\"\",ROUND('IND 3.1.1-3.4.3'!B50/'IND 1.1.4'!C63,0))","v":""},{"$f":"IF(ISERROR('IND 3.1.1-3.4.3'!C50/'IND 1.1.4'!D63), \"\", ROUND('IND 3.1.1-3.4.3'!C50/'IND 1.1.4'!D63,0))","v":""},"","P",3]
["FILIERE INCENDIE ET SECOURS",{"$f":"IF(ISERROR('IND 3.1.1-3.4.3'!B51/'IND 1.1.4'!C64),\"\",ROUND('IND 3.1.1-3.4.3'!B51/'IND 1.1.4'!C64,0))","v":""},{"$f":"IF(ISERROR('IND 3.1.1-3.4.3'!C51/'IND 1.1.4'!D64), \"\", ROUND('IND 3.1.1-3.4.3'!C51/'IND 1.1.4'!D64,0))","v":""},"","R",0]
["Catégorie A",{"$f":"IF(ISERROR('IND 3.1.1-3.4.3'!B52/'IND 1.1.4'!C65),\"\",ROUND('IND 3.1.1-3.4.3'!B52/'IND 1.1.4'!C65,0))","v":""},{"$f":"IF(ISERROR('IND 3.1.1-3.4.3'!C52/'IND 1.1.4'!D65), \"\", ROUND('IND 3.1.1-3.4.3'!C52/'IND 1.1.4'!D65,0))","v":""},"","R",1]
["Catégorie B",{"$f":"IF(ISERROR('IND 3.1.1-3.4.3'!B53/'IND 1.1.4'!C66),\"\",ROUND('IND 3.1.1-3.4.3'!B53/'IND 1.1.4'!C66,0))","v":""},{"$f":"IF(ISERROR('IND 3.1.1-3.4.3'!C53/'IND 1.1.4'!D66), \"\", ROUND('IND 3.1.1-3.4.3'!C53/'IND 1.1.4'!D66,0))","v":""},"","R",2]
["Catégorie C",{"$f":"IF(ISERROR('IND 3.1.1-3.4.3'!B54/'IND 1.1.4'!C67),\"\",ROUND('IND 3.1.1-3.4.3'!B54/'IND 1.1.4'!C67,0))","v":""},{"$f":"IF(ISERROR('IND 3.1.1-3.4.3'!C54/'IND 1.1.4'!D67), \"\", ROUND('IND 3.1.1-3.4.3'!C54/'IND 1.1.4'!D67,0))","v":""},"","R",3]
["FILIERE ANIMATION",{"$f":"IF(ISERROR('IND 3.1.1-3.4.3'!B55/'IND 1.1.4'!C68),\"\",ROUND('IND 3.1.1-3.4.3'!B55/'IND 1.1.4'!C68,0))","v":""},{"$f":"IF(ISERROR('IND 3.1.1-3.4.3'!C55/'IND 1.1.4'!D68), \"\", ROUND('IND 3.1.1-3.4.3'!C55/'IND 1.1.4'!D68,0))","v":""},"","N",0]
["Catégorie B",{"$f":"IF(ISERROR('IND 3.1.1-3.4.3'!B56/'IND 1.1.4'!C69),\"\",ROUND('IND 3.1.1-3.4.3'!B56/'IND 1.1.4'!C69,0))","v":""},{"$f":"IF(ISERROR('IND 3.1.1-3.4.3'!C56/'IND 1.1.4'!D69), \"\", ROUND('IND 3.1.1-3.4.3'!C56/'IND 1.1.4'!D69,0))","v":""},"","N",2]
["Catégorie C",{"$f":"IF(ISERROR('IND 3.1.1-3.4.3'!B57/'IND 1.1.4'!C70),\"\",ROUND('IND 3.1.1-3.4.3'!B57/'IND 1.1.4'!C70,0))","v":""},{"$f":"IF(ISERROR('IND 3.1.1-3.4.3'!C57/'IND 1.1.4'!D70), \"\", ROUND('IND 3.1.1-3.4.3'!C57/'IND 1.1.4'!D70,0))","v":""},"","N",3]
["Total",{"$f":"IF(ISERROR('IND 3.1.1-3.4.3'!B58/'IND 1.1.4'!C72),\"\",ROUND('IND 3.1.1-3.4.3'!B58/'IND 1.1.4'!C72,0))","v":""},{"$f":"IF(ISERROR('IND 3.1.1-3.4.3'!C58/'IND 1.1.4'!D72), \"\", ROUND('IND 3.1.1-3.4.3'!C58/'IND 1.1.4'!D72,0))","v":""},"","00",0]
[]
["Contractuels sur emploi permanent","Salaire brut moyen des hommes\n(en ETPR)","Salaire brut moyen des femmes\n(en ETPR)","Ecart (en %)","cadre","categ_hier"]
["FILIERE ADMINISTRATIVE",{"$f":"IF(ISERROR('IND 3.1.1-3.4.3'!B67/'IND 1.2.4'!C31),\"\",ROUND('IND 3.1.1-3.4.3'!B67/'IND 1.2.4'!C31,0))","v":""},{"$f":"IF(ISERROR('IND 3.1.1-3.4.3'!C67/'IND 1.2.4'!D31),\"\",ROUND('IND 3.1.1-3.4.3'!C67/'IND 1.2.4'!D31,0))","v":""},{"$f":"IF(ISERROR((B50-C50)/B50*100),\"\",ROUND((B50-C50)/B50*100,2))","v":""},"A",0]
["Catégorie A",{"$f":"IF(ISERROR('IND 3.1.1-3.4.3'!B68/'IND 1.2.4'!C32),\"\",ROUND('IND 3.1.1-3.4.3'!B68/'IND 1.2.4'!C32,0))","v":""},{"$f":"IF(ISERROR('IND 3.1.1-3.4.3'!C68/'IND 1.2.4'!D32),\"\",ROUND('IND 3.1.1-3.4.3'!C68/'IND 1.2.4'!D32,0))","v":""},{"$f":"IF(ISERROR((B51-C51)/B51*100),\"\",ROUND((B51-C51)/B51*100,2))","v":""},"A",1]
["Catégorie B",{"$f":"IF(ISERROR('IND 3.1.1-3.4.3'!B69/'IND 1.2.4'!C33),\"\",ROUND('IND 3.1.1-3.4.3'!B69/'IND 1.2.4'!C33,0))","v":""},{"$f":"IF(ISERROR('IND 3.1.1-3.4.3'!C69/'IND 1.2.4'!D33),\"\",ROUND('IND 3.1.1-3.4.3'!C69/'IND 1.2.4'!D33,0))","v":""},"","A",2]
["Catégorie C",{"$f":"IF(ISERROR('IND 3.1.1-3.4.3'!B70/'IND 1.2.4'!C34),\"\",ROUND('IND 3.1.1-3.4.3'!B70/'IND 1.2.4'!C34,0))","v":""},{"$f":"IF(ISERROR('IND 3.1.1-3.4.3'!C70/'IND 1.2.4'!D34),\"\",ROUND('IND 3.1.1-3.4.3'!C70/'IND 1.2.4'!D34,0))","v":""},"","A",3]
["FILIERE TECHNIQUE",{"$f":"IF(ISERROR('IND 3.1.1-3.4.3'!B71/'IND 1.2.4'!C35),\"\",ROUND('IND 3.1.1-3.4.3'!B71/'IND 1.2.4'!C35,0))","v":""},{"$f":"IF(ISERROR('IND 3.1.1-3.4.3'!C71/'IND 1.2.4'!D35),\"\",ROUND('IND 3.1.1-3.4.3'!C71/'IND 1.2.4'!D35,0))","v":""},"","T",0]
["Catégorie A",{"$f":"IF(ISERROR('IND 3.1.1-3.4.3'!B72/'IND 1.2.4'!C36),\"\",ROUND('IND 3.1.1-3.4.3'!B72/'IND 1.2.4'!C36,0))","v":""},{"$f":"IF(ISERROR('IND 3.1.1-3.4.3'!C72/'IND 1.2.4'!D36),\"\",ROUND('IND 3.1.1-3.4.3'!C72/'IND 1.2.4'!D36,0))","v":""},"","T",1]
["Catégorie B",{"$f":"IF(ISERROR('IND 3.1.1-3.4.3'!B73/'IND 1.2.4'!C37),\"\",ROUND('IND 3.1.1-3.4.3'!B73/'IND 1.2.4'!C37,0))","v":""},{"$f":"IF(ISERROR('IND 3.1.1-3.4.3'!C73/'IND 1.2.4'!D37),\"\",ROUND('IND 3.1.1-3.4.3'!C73/'IND 1.2.4'!D37,0))","v":""},"","T",2]
["Catégorie C",{"$f":"IF(ISERROR('IND 3.1.1-3.4.3'!B74/'IND 1.2.4'!C38),\"\",ROUND('IND 3.1.1-3.4.3'!B74/'IND 1.2.4'!C38,0))","v":""},{"$f":"IF(ISERROR('IND 3.1.1-3.4.3'!C74/'IND 1.2.4'!D38),\"\",ROUND('IND 3.1.1-3.4.3'!C74/'IND 1.2.4'!D38,0))","v":""},"","T",3]
["FILIERE CULTURELLE",{"$f":"IF(ISERROR('IND 3.1.1-3.4.3'!B75/'IND 1.2.4'!C39),\"\",ROUND('IND 3.1.1-3.4.3'!B75/'IND 1.2.4'!C39,0))","v":""},{"$f":"IF(ISERROR('IND 3.1.1-3.4.3'!C75/'IND 1.2.4'!D39),\"\",ROUND('IND 3.1.1-3.4.3'!C75/'IND 1.2.4'!D39,0))","v":""},"","C",0]
["Catégorie A",{"$f":"IF(ISERROR('IND 3.1.1-3.4.3'!B76/'IND 1.2.4'!C40),\"\",ROUND('IND 3.1.1-3.4.3'!B76/'IND 1.2.4'!C40,0))","v":""},{"$f":"IF(ISERROR('IND 3.1.1-3.4.3'!C76/'IND 1.2.4'!D40),\"\",ROUND('IND 3.1.1-3.4.3'!C76/'IND 1.2.4'!D40,0))","v":""},"","C",1]
["Catégorie B",{"$f":"IF(ISERROR('IND 3.1.1-3.4.3'!B77/'IND 1.2.4'!C41),\"\",ROUND('IND 3.1.1-3.4.3'!B77/'IND 1.2.4'!C41,0))","v":""},{"$f":"IF(ISERROR('IND 3.1.1-3.4.3'!C77/'IND 1.2.4'!D41),\"\",ROUND('IND 3.1.1-3.4.3'!C77/'IND 1.2.4'!D41,0))","v":""},"","C",2]
["Catégorie C",{"$f":"IF(ISERROR('IND 3.1.1-3.4.3'!B78/'IND 1.2.4'!C42),\"\",ROUND('IND 3.1.1-3.4.3'!B78/'IND 1.2.4'!C42,0))","v":""},{"$f":"IF(ISERROR('IND 3.1.1-3.4.3'!C78/'IND 1.2.4'!D42),\"\",ROUND('IND 3.1.1-3.4.3'!C78/'IND 1.2.4'!D42,0))","v":""},"","C",3]
["FILIERE SPORTIVE",{"$f":"IF(ISERROR('IND 3.1.1-3.4.3'!B79/'IND 1.2.4'!C43),\"\",ROUND('IND 3.1.1-3.4.3'!B79/'IND 1.2.4'!C43,0))","v":""},{"$f":"IF(ISERROR('IND 3.1.1-3.4.3'!C79/'IND 1.2.4'!D43),\"\",ROUND('IND 3.1.1-3.4.3'!C79/'IND 1.2.4'!D43,0))","v":""},"","S",0]
["Catégorie A",{"$f":"IF(ISERROR('IND 3.1.1-3.4.3'!B80/'IND 1.2.4'!C44),\"\",ROUND('IND 3.1.1-3.4.3'!B80/'IND 1.2.4'!C44,0))","v":""},{"$f":"IF(ISERROR('IND 3.1.1-3.4.3'!C80/'IND 1.2.4'!D44),\"\",ROUND('IND 3.1.1-3.4.3'!C80/'IND 1.2.4'!D44,0))","v":""},"","S",1]
["Catégorie B",{"$f":"IF(ISERROR('IND 3.1.1-3.4.3'!B81/'IND 1.2.4'!C45),\"\",ROUND('IND 3.1.1-3.4.3'!B81/'IND 1.2.4'!C45,0))","v":""},{"$f":"IF(ISERROR('IND 3.1.1-3.4.3'!C81/'IND 1.2.4'!D45),\"\",ROUND('IND 3.1.1-3.4.3'!C81/'IND 1.2.4'!D45,0))","v":""},"","S",2]
["Catégorie C",{"$f":"IF(ISERROR('IND 3.1.1-3.4.3'!B82/'IND 1.2.4'!C46),\"\",ROUND('IND 3.1.1-3.4.3'!B82/'IND 1.2.4'!C46,0))","v":""},{"$f":"IF(ISERROR('IND 3.1.1-3.4.3'!C82/'IND 1.2.4'!D46),\"\",ROUND('IND 3.1.1-3.4.3'!C82/'IND 1.2.4'!D46,0))","v":""},"","S",3]
["FILIERE SOCIALE",{"$f":"IF(ISERROR('IND 3.1.1-3.4.3'!B83/'IND 1.2.4'!C47),\"\",ROUND('IND 3.1.1-3.4.3'!B83/'IND 1.2.4'!C47,0))","v":""},{"$f":"IF(ISERROR('IND 3.1.1-3.4.3'!C83/'IND 1.2.4'!D47),\"\",ROUND('IND 3.1.1-3.4.3'!C83/'IND 1.2.4'!D47,0))","v":""},"","M",0]
["Catégorie A",{"$f":"IF(ISERROR('IND 3.1.1-3.4.3'!B84/'IND 1.2.4'!C48),\"\",ROUND('IND 3.1.1-3.4.3'!B84/'IND 1.2.4'!C48,0))","v":""},{"$f":"IF(ISERROR('IND 3.1.1-3.4.3'!C84/'IND 1.2.4'!D48),\"\",ROUND('IND 3.1.1-3.4.3'!C84/'IND 1.2.4'!D48,0))","v":""},"","M",1]
["Catégorie B",{"$f":"IF(ISERROR('IND 3.1.1-3.4.3'!B85/'IND 1.2.4'!C49),\"\",ROUND('IND 3.1.1-3.4.3'!B85/'IND 1.2.4'!C49,0))","v":""},{"$f":"IF(ISERROR('IND 3.1.1-3.4.3'!C85/'IND 1.2.4'!D49),\"\",ROUND('IND 3.1.1-3.4.3'!C85/'IND 1.2.4'!D49,0))","v":""},"","M",2]
["Catégorie C",{"$f":"IF(ISERROR('IND 3.1.1-3.4.3'!B86/'IND 1.2.4'!C50),\"\",ROUND('IND 3.1.1-3.4.3'!B86/'IND 1.2.4'!C50,0))","v":""},{"$f":"IF(ISERROR('IND 3.1.1-3.4.3'!C86/'IND 1.2.4'!D50),\"\",ROUND('IND 3.1.1-3.4.3'!C86/'IND 1.2.4'!D50,0))","v":""},"","M",3]
["FILIERE MEDICO-SOCIALE",{"$f":"IF(ISERROR('IND 3.1.1-3.4.3'!B87/'IND 1.2.4'!C51),\"\",ROUND('IND 3.1.1-3.4.3'!B87/'IND 1.2.4'!C51,0))","v":""},{"$f":"IF(ISERROR('IND 3.1.1-3.4.3'!C87/'IND 1.2.4'!D51),\"\",ROUND('IND 3.1.1-3.4.3'!C87/'IND 1.2.4'!D51,0))","v":""},"","O",0]
["Catégorie A",{"$f":"IF(ISERROR('IND 3.1.1-3.4.3'!B88/'IND 1.2.4'!C52),\"\",ROUND('IND 3.1.1-3.4.3'!B88/'IND 1.2.4'!C52,0))","v":""},{"$f":"IF(ISERROR('IND 3.1.1-3.4.3'!C88/'IND 1.2.4'!D52),\"\",ROUND('IND 3.1.1-3.4.3'!C88/'IND 1.2.4'!D52,0))","v":""},"","O",1]
["Catégorie B",{"$f":"IF(ISERROR('IND 3.1.1-3.4.3'!B89/'IND 1.2.4'!C53),\"\",ROUND('IND 3.1.1-3.4.3'!B89/'IND 1.2.4'!C53,0))","v":""},{"$f":"IF(ISERROR('IND 3.1.1-3.4.3'!C89/'IND 1.2.4'!D53),\"\",ROUND('IND 3.1.1-3.4.3'!C89/'IND 1.2.4'!D53,0))","v":""},"","O",2]
["Catégorie C",{"$f":"IF(ISERROR('IND 3.1.1-3.4.3'!B90/'IND 1.2.4'!C54),\"\",ROUND('IND 3.1.1-3.4.3'!B90/'IND 1.2.4'!C54,0))","v":""},{"$f":"IF(ISERROR('IND 3.1.1-3.4.3'!C90/'IND 1.2.4'!D54),\"\",ROUND('IND 3.1.1-3.4.3'!C90/'IND 1.2.4'!D54,0))","v":""},"","O",3]
["FILIERE MEDICO-TECHNIQUE",{"$f":"IF(ISERROR('IND 3.1.1-3.4.3'!B91/'IND 1.2.4'!C55),\"\",ROUND('IND 3.1.1-3.4.3'!B91/'IND 1.2.4'!C55,0))","v":""},{"$f":"IF(ISERROR('IND 3.1.1-3.4.3'!C91/'IND 1.2.4'!D55),\"\",ROUND('IND 3.1.1-3.4.3'!C91/'IND 1.2.4'!D55,0))","v":""},"","E",0]
["Catégorie A",{"$f":"IF(ISERROR('IND 3.1.1-3.4.3'!B92/'IND 1.2.4'!C56),\"\",ROUND('IND 3.1.1-3.4.3'!B92/'IND 1.2.4'!C56,0))","v":""},{"$f":"IF(ISERROR('IND 3.1.1-3.4.3'!C92/'IND 1.2.4'!D56),\"\",ROUND('IND 3.1.1-3.4.3'!C92/'IND 1.2.4'!D56,0))","v":""},"","E",1]
["Catégorie B",{"$f":"IF(ISERROR('IND 3.1.1-3.4.3'!B93/'IND 1.2.4'!C57),\"\",ROUND('IND 3.1.1-3.4.3'!B93/'IND 1.2.4'!C57,0))","v":""},{"$f":"IF(ISERROR('IND 3.1.1-3.4.3'!C93/'IND 1.2.4'!D57),\"\",ROUND('IND 3.1.1-3.4.3'!C93/'IND 1.2.4'!D57,0))","v":""},"","E",2]
["Catégorie C",{"$f":"IF(ISERROR('IND 3.1.1-3.4.3'!B94/'IND 1.2.4'!C58),\"\",ROUND('IND 3.1.1-3.4.3'!B94/'IND 1.2.4'!C58,0))","v":""},{"$f":"IF(ISERROR('IND 3.1.1-3.4.3'!C94/'IND 1.2.4'!D58),\"\",ROUND('IND 3.1.1-3.4.3'!C94/'IND 1.2.4'!D58,0))","v":""},"","E",3]
["FILIERE POLICE MUNICIPALE",{"$f":"IF(ISERROR('IND 3.1.1-3.4.3'!B95/'IND 1.2.4'!C59),\"\",ROUND('IND 3.1.1-3.4.3'!B95/'IND 1.2.4'!C59,0))","v":""},{"$f":"IF(ISERROR('IND 3.1.1-3.4.3'!C95/'IND 1.2.4'!D59),\"\",ROUND('IND 3.1.1-3.4.3'!C95/'IND 1.2.4'!D59,0))","v":""},"","P",0]
["Catégorie A",{"$f":"IF(ISERROR('IND 3.1.1-3.4.3'!B96/'IND 1.2.4'!C60),\"\",ROUND('IND 3.1.1-3.4.3'!B96/'IND 1.2.4'!C60,0))","v":""},{"$f":"IF(ISERROR('IND 3.1.1-3.4.3'!C96/'IND 1.2.4'!D60),\"\",ROUND('IND 3.1.1-3.4.3'!C96/'IND 1.2.4'!D60,0))","v":""},"","P",1]
["Catégorie B",{"$f":"IF(ISERROR('IND 3.1.1-3.4.3'!B97/'IND 1.2.4'!C61),\"\",ROUND('IND 3.1.1-3.4.3'!B97/'IND 1.2.4'!C61,0))","v":""},{"$f":"IF(ISERROR('IND 3.1.1-3.4.3'!C97/'IND 1.2.4'!D61),\"\",ROUND('IND 3.1.1-3.4.3'!C97/'IND 1.2.4'!D61,0))","v":""},"","P",2]
["Catégorie C",{"$f":"IF(ISERROR('IND 3.1.1-3.4.3'!B98/'IND 1.2.4'!C62),\"\",ROUND('IND 3.1.1-3.4.3'!B98/'IND 1.2.4'!C62,0))","v":""},{"$f":"IF(ISERROR('IND 3.1.1-3.4.3'!C98/'IND 1.2.4'!D62),\"\",ROUND('IND 3.1.1-3.4.3'!C98/'IND 1.2.4'!D62,0))","v":""},"","P",3]
["FILIERE INCENDIE ET SECOURS",{"$f":"IF(ISERROR('IND 3.1.1-3.4.3'!B99/'IND 1.2.4'!C63),\"\",ROUND('IND 3.1.1-3.4.3'!B99/'IND 1.2.4'!C63,0))","v":""},{"$f":"IF(ISERROR('IND 3.1.1-3.4.3'!C99/'IND 1.2.4'!D63),\"\",ROUND('IND 3.1.1-3.4.3'!C99/'IND 1.2.4'!D63,0))","v":""},"","R",0]
["Catégorie A",{"$f":"IF(ISERROR('IND 3.1.1-3.4.3'!B100/'IND 1.2.4'!C64),\"\",ROUND('IND 3.1.1-3.4.3'!B100/'IND 1.2.4'!C64,0))","v":""},{"$f":"IF(ISERROR('IND 3.1.1-3.4.3'!C100/'IND 1.2.4'!D64),\"\",ROUND('IND 3.1.1-3.4.3'!C100/'IND 1.2.4'!D64,0))","v":""},"","R",1]
["Catégorie B",{"$f":"IF(ISERROR('IND 3.1.1-3.4.3'!B101/'IND 1.2.4'!C65),\"\",ROUND('IND 3.1.1-3.4.3'!B101/'IND 1.2.4'!C65,0))","v":""},{"$f":"IF(ISERROR('IND 3.1.1-3.4.3'!C101/'IND 1.2.4'!D65),\"\",ROUND('IND 3.1.1-3.4.3'!C101/'IND 1.2.4'!D65,0))","v":""},"","R",2]
["Catégorie C",{"$f":"IF(ISERROR('IND 3.1.1-3.4.3'!B102/'IND 1.2.4'!C66),\"\",ROUND('IND 3.1.1-3.4.3'!B102/'IND 1.2.4'!C66,0))","v":""},{"$f":"IF(ISERROR('IND 3.1.1-3.4.3'!C102/'IND 1.2.4'!D66),\"\",ROUND('IND 3.1.1-3.4.3'!C102/'IND 1.2.4'!D66,0))","v":""},"","R",3]
["FILIERE ANIMATION",{"$f":"IF(ISERROR('IND 3.1.1-3.4.3'!B103/'IND 1.2.4'!C67),\"\",ROUND('IND 3.1.1-3.4.3'!B103/'IND 1.2.4'!C67,0))","v":""},{"$f":"IF(ISERROR('IND 3.1.1-3.4.3'!C103/'IND 1.2.4'!D67),\"\",ROUND('IND 3.1.1-3.4.3'!C103/'IND 1.2.4'!D67,0))","v":""},"","N",0]
["Catégorie B",{"$f":"IF(ISERROR('IND 3.1.1-3.4.3'!B104/'IND 1.2.4'!C68),\"\",ROUND('IND 3.1.1-3.4.3'!B104/'IND 1.2.4'!C68,0))","v":""},{"$f":"IF(ISERROR('IND 3.1.1-3.4.3'!C104/'IND 1.2.4'!D68),\"\",ROUND('IND 3.1.1-3.4.3'!C104/'IND 1.2.4'!D68,0))","v":""},"","N",2]
["Catégorie C",{"$f":"IF(ISERROR('IND 3.1.1-3.4.3'!B105/'IND 1.2.4'!C69),\"\",ROUND('IND 3.1.1-3.4.3'!B105/'IND 1.2.4'!C69,0))","v":""},{"$f":"IF(ISERROR('IND 3.1.1-3.4.3'!C105/'IND 1.2.4'!D69),\"\",ROUND('IND 3.1.1-3.4.3'!C105/'IND 1.2.4'!D69,0))","v":""},"","N",3]
["Total",{"$f":"IF(ISERROR('IND 3.1.1-3.4.3'!B106/'IND 1.2.4'!C71),\"\",ROUND('IND 3.1.1-3.4.3'!B106/'IND 1.2.4'!C71,0))","v":""},{"$f":"IF(ISERROR('IND 3.1.1-3.4.3'!C106/'IND 1.2.4'!D71),\"\",ROUND('IND 3.1.1-3.4.3'!C106/'IND 1.2.4'!D71,0))","v":""},"","00",0]

{"sheet":"Messages_controles","index":88,"n_rows":1,"n_cols":5,"rows_kept":1,"cut":false,"hidden":false,"merged":[[0,4,0,5]]}
[null,null,null,null,"Retour Sommaire"]

{"sheet":"_paramètre","index":89,"n_rows":22,"n_cols":6,"rows_kept":22,"cut":false,"hidden":true,"merged":[]}
["01 - Région (y compris collectivités territoriales uniques de Martinique, de Guyane et de Corse)",null,"(vide)","(vide)","(vide)","(vide)"]
["02 - Département",null,"Ne sait pas","En cours","En auto-assurance sans convention de gestion avec Pôle Emploi","Avez adhéré au régime d'assurance chômage"]
["03 - Service départemental d'incendie et de secours",null,"Non","Non","En auto-assurance avec convention de gestion avec Pôle Emploi","Êtes en auto-assurance avec convention de gestion avec Pôle Emploi"]
["04 - Centre de gestion de la fonction publique territoriale",null,"Oui","Oui","Ne sait pas","Êtes en auto-assurance sans convention de gestion avec Pôle Emploi"]
["05 - Centre national de la fonction publique territoriale",null,null,null,null,"Ne sait pas"]
["06 - Commune (y compris commune nouvelle)"]
["07 - Centre communal d'action sociale (CCAS)"]
["08 - Caisse des écoles (CDE)"]
["09 - Caisse de crédit municipal"]
["10 - Métropole (y compris métropole de Lyon)"]
["11 - Communauté urbaine"]
["12 - Communauté d'agglomération"]
["13 - Communauté de communes"]
["14 - Centre intercommunal d'action sociale (CIAS)"]
["15 - Syndicat de communes à vocation multiple"]
["16 - Syndicat de communes à vocation unique"]
["17 - Syndicat mixte"]
["18 - Pôle d'équilibre territorial et rural (PETR)"]
["19 - Office public de l'habitat (OPHLM - ODHLM)"]
["20 - Pôle métropolitain"]
["21 - Autre établissement public intercommunal"]
["22 - Autre"]